BEGIN:VCALENDAR
PRODID:-//WikiCFP//zanemarkel 1.0//EN
VERSION:2.0
CALSCALE:GREGORIAN
BEGIN:VEVENT
DTSTAMP:20260424T081520Z
DTSTART;VALUE=DATE:20140710
DTEND;VALUE=DATE:20140712
SUMMARY:DIMVA 2014
DESCRIPTION:11th Conference on Detection of Intrusions and Malware & Vuln
 erability Assessment
URL:http://www.wikicfp.com/cfp/servlet/event.showcfp?eventid=34591&copyow
 nerid=64407
UID:cfp444399-E@wikicfp.com
END:VEVENT
BEGIN:VEVENT
DTSTAMP:20260424T081520Z
DTSTART;VALUE=DATE:20140208
SUMMARY:DIMVA 2014 Deadline
DESCRIPTION:11th Conference on Detection of Intrusions and Malware & Vuln
 erability Assessment
URL:http://www.wikicfp.com/cfp/servlet/event.showcfp?eventid=34591&copyow
 nerid=64407
UID:cfp444399-D@wikicfp.com
END:VEVENT
BEGIN:VEVENT
DTSTAMP:20260424T081520Z
DTSTART;VALUE=DATE:20140326
SUMMARY:DIMVA 2014 Notification Due
DESCRIPTION:11th Conference on Detection of Intrusions and Malware & Vuln
 erability Assessment
URL:http://www.wikicfp.com/cfp/servlet/event.showcfp?eventid=34591&copyow
 nerid=64407
UID:cfp444399-N@wikicfp.com
END:VEVENT
BEGIN:VEVENT
DTSTAMP:20260424T081520Z
DTSTART;VALUE=DATE:20140411
SUMMARY:DIMVA 2014 Final Version Due
DESCRIPTION:11th Conference on Detection of Intrusions and Malware & Vuln
 erability Assessment
URL:http://www.wikicfp.com/cfp/servlet/event.showcfp?eventid=34591&copyow
 nerid=64407
UID:cfp444399-N@wikicfp.com
END:VEVENT
END:VCALENDAR
