BEGIN:VCALENDAR
PRODID:-//WikiCFP//scarlett 1.0//EN
VERSION:2.0
CALSCALE:GREGORIAN
BEGIN:VEVENT
DTSTAMP:20260424T011947Z
DTSTART;VALUE=DATE:20131106
DTEND;VALUE=DATE:20131109
SUMMARY:II INSIT 2013
DESCRIPTION:II International Seminar on Institutional Theory:Constitution
 al Courts and Political Reality
URL:http://www.wikicfp.com/cfp/servlet/event.showcfp?eventid=32350&copyow
 nerid=64394
UID:cfp444339-E@wikicfp.com
END:VEVENT
BEGIN:VEVENT
DTSTAMP:20260424T011947Z
DTSTART;VALUE=DATE:20131011
SUMMARY:II INSIT 2013 Deadline
DESCRIPTION:II International Seminar on Institutional Theory:Constitution
 al Courts and Political Reality
URL:http://www.wikicfp.com/cfp/servlet/event.showcfp?eventid=32350&copyow
 nerid=64394
UID:cfp444339-D@wikicfp.com
END:VEVENT
BEGIN:VEVENT
DTSTAMP:20260424T011947Z
DTSTART;VALUE=DATE:20131021
SUMMARY:II INSIT 2013 Notification Due
DESCRIPTION:II International Seminar on Institutional Theory:Constitution
 al Courts and Political Reality
URL:http://www.wikicfp.com/cfp/servlet/event.showcfp?eventid=32350&copyow
 nerid=64394
UID:cfp444339-N@wikicfp.com
END:VEVENT
BEGIN:VEVENT
DTSTAMP:20260424T011947Z
DTSTART;VALUE=DATE:20131031
SUMMARY:II INSIT 2013 Final Version Due
DESCRIPTION:II International Seminar on Institutional Theory:Constitution
 al Courts and Political Reality
URL:http://www.wikicfp.com/cfp/servlet/event.showcfp?eventid=32350&copyow
 nerid=64394
UID:cfp444339-N@wikicfp.com
END:VEVENT
BEGIN:VEVENT
DTSTAMP:20260424T011947Z
DTSTART;VALUE=DATE:20140113
DTEND;VALUE=DATE:20140115
SUMMARY:ICGLC 2014
DESCRIPTION:2014 3rd International Conference on Government\, Law and Cul
 ture
URL:http://www.wikicfp.com/cfp/servlet/event.showcfp?eventid=31701&copyow
 nerid=64394
UID:cfp444338-E@wikicfp.com
END:VEVENT
BEGIN:VEVENT
DTSTAMP:20260424T011947Z
DTSTART;VALUE=DATE:20131105
SUMMARY:ICGLC 2014 Deadline
DESCRIPTION:2014 3rd International Conference on Government\, Law and Cul
 ture
URL:http://www.wikicfp.com/cfp/servlet/event.showcfp?eventid=31701&copyow
 nerid=64394
UID:cfp444338-D@wikicfp.com
END:VEVENT
BEGIN:VEVENT
DTSTAMP:20260424T011947Z
DTSTART;VALUE=DATE:20131120
SUMMARY:ICGLC 2014 Notification Due
DESCRIPTION:2014 3rd International Conference on Government\, Law and Cul
 ture
URL:http://www.wikicfp.com/cfp/servlet/event.showcfp?eventid=31701&copyow
 nerid=64394
UID:cfp444338-N@wikicfp.com
END:VEVENT
BEGIN:VEVENT
DTSTAMP:20260424T011947Z
DTSTART;VALUE=DATE:20131205
SUMMARY:ICGLC 2014 Final Version Due
DESCRIPTION:2014 3rd International Conference on Government\, Law and Cul
 ture
URL:http://www.wikicfp.com/cfp/servlet/event.showcfp?eventid=31701&copyow
 nerid=64394
UID:cfp444338-N@wikicfp.com
END:VEVENT
BEGIN:VEVENT
DTSTAMP:20260424T011947Z
DTSTART;VALUE=DATE:20140619
DTEND;VALUE=DATE:20140621
SUMMARY:BDCH 2014
DESCRIPTION:The Born Digital and Cultural Heritage
URL:http://www.wikicfp.com/cfp/servlet/event.showcfp?eventid=33341&copyow
 nerid=64394
UID:cfp444341-E@wikicfp.com
END:VEVENT
BEGIN:VEVENT
DTSTAMP:20260424T011947Z
DTSTART;VALUE=DATE:20131115
SUMMARY:BDCH 2014 Abstract Due
DESCRIPTION:The Born Digital and Cultural Heritage
URL:http://www.wikicfp.com/cfp/servlet/event.showcfp?eventid=33341&copyow
 nerid=64394
UID:cfp444341-A@wikicfp.com
END:VEVENT
BEGIN:VEVENT
DTSTAMP:20260424T011947Z
DTSTART;VALUE=DATE:20131129
SUMMARY:BDCH 2014 Deadline
DESCRIPTION:The Born Digital and Cultural Heritage
URL:http://www.wikicfp.com/cfp/servlet/event.showcfp?eventid=33341&copyow
 nerid=64394
UID:cfp444341-D@wikicfp.com
END:VEVENT
BEGIN:VEVENT
DTSTAMP:20260424T011947Z
DTSTART;VALUE=DATE:20140228
SUMMARY:BDCH 2014 Notification Due
DESCRIPTION:The Born Digital and Cultural Heritage
URL:http://www.wikicfp.com/cfp/servlet/event.showcfp?eventid=33341&copyow
 nerid=64394
UID:cfp444341-N@wikicfp.com
END:VEVENT
BEGIN:VEVENT
DTSTAMP:20260424T011947Z
DTSTART;VALUE=DATE:20140404
SUMMARY:BDCH 2014 Final Version Due
DESCRIPTION:The Born Digital and Cultural Heritage
URL:http://www.wikicfp.com/cfp/servlet/event.showcfp?eventid=33341&copyow
 nerid=64394
UID:cfp444341-N@wikicfp.com
END:VEVENT
BEGIN:VEVENT
DTSTAMP:20260424T011947Z
DTSTART;VALUE=DATE:20140304
DTEND;VALUE=DATE:20140306
SUMMARY:SLSS 2014
DESCRIPTION:Smarter Law for Smart Surveillance
URL:http://www.wikicfp.com/cfp/servlet/event.showcfp?eventid=35761&copyow
 nerid=64394
UID:cfp444345-E@wikicfp.com
END:VEVENT
BEGIN:VEVENT
DTSTAMP:20260424T011947Z
DTSTART;VALUE=DATE:20140131
SUMMARY:SLSS 2014 Deadline
DESCRIPTION:Smarter Law for Smart Surveillance
URL:http://www.wikicfp.com/cfp/servlet/event.showcfp?eventid=35761&copyow
 nerid=64394
UID:cfp444345-D@wikicfp.com
END:VEVENT
BEGIN:VEVENT
DTSTAMP:20260424T011947Z
DTSTART;VALUE=DATE:20140215
SUMMARY:SLSS 2014 Notification Due
DESCRIPTION:Smarter Law for Smart Surveillance
URL:http://www.wikicfp.com/cfp/servlet/event.showcfp?eventid=35761&copyow
 nerid=64394
UID:cfp444345-N@wikicfp.com
END:VEVENT
BEGIN:VEVENT
DTSTAMP:20260424T011947Z
DTSTART;VALUE=DATE:20140331
SUMMARY:SLSS 2014 Final Version Due
DESCRIPTION:Smarter Law for Smart Surveillance
URL:http://www.wikicfp.com/cfp/servlet/event.showcfp?eventid=35761&copyow
 nerid=64394
UID:cfp444345-N@wikicfp.com
END:VEVENT
BEGIN:VEVENT
DTSTAMP:20260424T011947Z
DTSTART;VALUE=DATE:20140606
DTEND;VALUE=DATE:20140607
SUMMARY:GPC 2014
DESCRIPTION:Call for papers: Perspectives on Conflict Conference 2014
URL:http://www.wikicfp.com/cfp/servlet/event.showcfp?eventid=34719&copyow
 nerid=64394
UID:cfp444343-E@wikicfp.com
END:VEVENT
BEGIN:VEVENT
DTSTAMP:20260424T011947Z
DTSTART;VALUE=DATE:20140207
SUMMARY:GPC 2014 Deadline
DESCRIPTION:Call for papers: Perspectives on Conflict Conference 2014
URL:http://www.wikicfp.com/cfp/servlet/event.showcfp?eventid=34719&copyow
 nerid=64394
UID:cfp444343-D@wikicfp.com
END:VEVENT
BEGIN:VEVENT
DTSTAMP:20260424T011947Z
DTSTART;VALUE=DATE:20140426
DTEND;VALUE=DATE:20140428
SUMMARY:IACLP 2014
DESCRIPTION:International Academic Conference on Law and Politics
URL:http://www.wikicfp.com/cfp/servlet/event.showcfp?eventid=32680&copyow
 nerid=64394
UID:cfp444340-E@wikicfp.com
END:VEVENT
BEGIN:VEVENT
DTSTAMP:20260424T011947Z
DTSTART;VALUE=DATE:20140228
SUMMARY:IACLP 2014 Abstract Due
DESCRIPTION:International Academic Conference on Law and Politics
URL:http://www.wikicfp.com/cfp/servlet/event.showcfp?eventid=32680&copyow
 nerid=64394
UID:cfp444340-A@wikicfp.com
END:VEVENT
BEGIN:VEVENT
DTSTAMP:20260424T011947Z
DTSTART;VALUE=DATE:20140228
SUMMARY:IACLP 2014 Deadline
DESCRIPTION:International Academic Conference on Law and Politics
URL:http://www.wikicfp.com/cfp/servlet/event.showcfp?eventid=32680&copyow
 nerid=64394
UID:cfp444340-D@wikicfp.com
END:VEVENT
BEGIN:VEVENT
DTSTAMP:20260424T011947Z
DTSTART;VALUE=DATE:20140305
SUMMARY:IACLP 2014 Notification Due
DESCRIPTION:International Academic Conference on Law and Politics
URL:http://www.wikicfp.com/cfp/servlet/event.showcfp?eventid=32680&copyow
 nerid=64394
UID:cfp444340-N@wikicfp.com
END:VEVENT
BEGIN:VEVENT
DTSTAMP:20260424T011947Z
DTSTART;VALUE=DATE:20140330
SUMMARY:IACLP 2014 Final Version Due
DESCRIPTION:International Academic Conference on Law and Politics
URL:http://www.wikicfp.com/cfp/servlet/event.showcfp?eventid=32680&copyow
 nerid=64394
UID:cfp444340-N@wikicfp.com
END:VEVENT
BEGIN:VEVENT
DTSTAMP:20260424T011947Z
DTSTART;VALUE=DATE:20140307
SUMMARY:JTBL 2014 Deadline
DESCRIPTION:Journal of Telecommunication and Broadcasting Law
URL:http://www.wikicfp.com/cfp/servlet/event.showcfp?eventid=35707&copyow
 nerid=64394
UID:cfp444344-D@wikicfp.com
END:VEVENT
BEGIN:VEVENT
DTSTAMP:20260424T011947Z
DTSTART;VALUE=DATE:20140307
SUMMARY:JTBL 2014 Deadline
DESCRIPTION:Journal of Telecommunication and Broadcasting Law
URL:http://www.wikicfp.com/cfp/servlet/event.showcfp?eventid=36030&copyow
 nerid=64394
UID:cfp444347-D@wikicfp.com
END:VEVENT
BEGIN:VEVENT
DTSTAMP:20260424T011947Z
DTSTART;VALUE=DATE:20140307
SUMMARY:JTBL 2014 Final Version Due
DESCRIPTION:Journal of Telecommunication and Broadcasting Law
URL:http://www.wikicfp.com/cfp/servlet/event.showcfp?eventid=36030&copyow
 nerid=64394
UID:cfp444347-N@wikicfp.com
END:VEVENT
BEGIN:VEVENT
DTSTAMP:20260424T011947Z
DTSTART;VALUE=DATE:20140307
SUMMARY:JTBL 2014 Deadline
DESCRIPTION:Journal of Telecommunication and Broadcasting Law
URL:http://www.wikicfp.com/cfp/servlet/event.showcfp?eventid=36245&copyow
 nerid=64394
UID:cfp444348-D@wikicfp.com
END:VEVENT
BEGIN:VEVENT
DTSTAMP:20260424T011947Z
DTSTART;VALUE=DATE:20140307
SUMMARY:JTBL 2014 Final Version Due
DESCRIPTION:Journal of Telecommunication and Broadcasting Law
URL:http://www.wikicfp.com/cfp/servlet/event.showcfp?eventid=36245&copyow
 nerid=64394
UID:cfp444348-N@wikicfp.com
END:VEVENT
BEGIN:VEVENT
DTSTAMP:20260424T011947Z
DTSTART;VALUE=DATE:20140609
DTEND;VALUE=DATE:20140611
SUMMARY:LRPP 2014
DESCRIPTION:3rd Annual International Conference on Law\, Regulations and 
 Public Policy (LRPP 2014)
URL:http://www.wikicfp.com/cfp/servlet/event.showcfp?eventid=36711&copyow
 nerid=64394
UID:cfp444350-E@wikicfp.com
END:VEVENT
BEGIN:VEVENT
DTSTAMP:20260424T011947Z
DTSTART;VALUE=DATE:20140321
SUMMARY:LRPP 2014 Deadline
DESCRIPTION:3rd Annual International Conference on Law\, Regulations and 
 Public Policy (LRPP 2014)
URL:http://www.wikicfp.com/cfp/servlet/event.showcfp?eventid=36711&copyow
 nerid=64394
UID:cfp444350-D@wikicfp.com
END:VEVENT
BEGIN:VEVENT
DTSTAMP:20260424T011947Z
DTSTART;VALUE=DATE:20140330
SUMMARY:PISM -  2014 Deadline
DESCRIPTION:Polish Institute of International Affairs  - Student Paper Co
 ntest 2014
URL:http://www.wikicfp.com/cfp/servlet/event.showcfp?eventid=34115&copyow
 nerid=64394
UID:cfp444342-D@wikicfp.com
END:VEVENT
BEGIN:VEVENT
DTSTAMP:20260424T011947Z
DTSTART;VALUE=DATE:20140918
DTEND;VALUE=DATE:20140921
SUMMARY:Vallis Aurea 2014
DESCRIPTION:4th International Conference Vallis Aurea : focus on Regional
  and Innovation Development 
URL:http://www.wikicfp.com/cfp/servlet/event.showcfp?eventid=35960&copyow
 nerid=64394
UID:cfp444346-E@wikicfp.com
END:VEVENT
BEGIN:VEVENT
DTSTAMP:20260424T011947Z
DTSTART;VALUE=DATE:20140301
SUMMARY:Vallis Aurea 2014 Abstract Due
DESCRIPTION:4th International Conference Vallis Aurea : focus on Regional
  and Innovation Development 
URL:http://www.wikicfp.com/cfp/servlet/event.showcfp?eventid=35960&copyow
 nerid=64394
UID:cfp444346-A@wikicfp.com
END:VEVENT
BEGIN:VEVENT
DTSTAMP:20260424T011947Z
DTSTART;VALUE=DATE:20140401
SUMMARY:Vallis Aurea 2014 Deadline
DESCRIPTION:4th International Conference Vallis Aurea : focus on Regional
  and Innovation Development 
URL:http://www.wikicfp.com/cfp/servlet/event.showcfp?eventid=35960&copyow
 nerid=64394
UID:cfp444346-D@wikicfp.com
END:VEVENT
BEGIN:VEVENT
DTSTAMP:20260424T011947Z
DTSTART;VALUE=DATE:20140415
SUMMARY:Vallis Aurea 2014 Notification Due
DESCRIPTION:4th International Conference Vallis Aurea : focus on Regional
  and Innovation Development 
URL:http://www.wikicfp.com/cfp/servlet/event.showcfp?eventid=35960&copyow
 nerid=64394
UID:cfp444346-N@wikicfp.com
END:VEVENT
BEGIN:VEVENT
DTSTAMP:20260424T011947Z
DTSTART;VALUE=DATE:20140601
SUMMARY:Vallis Aurea 2014 Final Version Due
DESCRIPTION:4th International Conference Vallis Aurea : focus on Regional
  and Innovation Development 
URL:http://www.wikicfp.com/cfp/servlet/event.showcfp?eventid=35960&copyow
 nerid=64394
UID:cfp444346-N@wikicfp.com
END:VEVENT
BEGIN:VEVENT
DTSTAMP:20260424T011947Z
DTSTART;VALUE=DATE:20140531
DTEND;VALUE=DATE:20140601
SUMMARY:PhiloWeb GR  2014
DESCRIPTION:Web and Philosophy: Ethics\, Logic and Law
URL:http://www.wikicfp.com/cfp/servlet/event.showcfp?eventid=36607&copyow
 nerid=64394
UID:cfp444349-E@wikicfp.com
END:VEVENT
BEGIN:VEVENT
DTSTAMP:20260424T011947Z
DTSTART;VALUE=DATE:20140415
SUMMARY:PhiloWeb GR  2014 Deadline
DESCRIPTION:Web and Philosophy: Ethics\, Logic and Law
URL:http://www.wikicfp.com/cfp/servlet/event.showcfp?eventid=36607&copyow
 nerid=64394
UID:cfp444349-D@wikicfp.com
END:VEVENT
BEGIN:VEVENT
DTSTAMP:20260424T011947Z
DTSTART;VALUE=DATE:20140501
SUMMARY:PhiloWeb GR  2014 Notification Due
DESCRIPTION:Web and Philosophy: Ethics\, Logic and Law
URL:http://www.wikicfp.com/cfp/servlet/event.showcfp?eventid=36607&copyow
 nerid=64394
UID:cfp444349-N@wikicfp.com
END:VEVENT
BEGIN:VEVENT
DTSTAMP:20260424T011947Z
DTSTART;VALUE=DATE:20140617
DTEND;VALUE=DATE:20140627
SUMMARY:SGEM 2014
DESCRIPTION:SGEM 2014 GeoConference on ECOLOGY\, ECONOMICS\, EDUCATION an
 d LEGISLATION
URL:http://www.wikicfp.com/cfp/servlet/event.showcfp?eventid=34380&copyow
 nerid=64394
UID:cfp444332-E@wikicfp.com
END:VEVENT
BEGIN:VEVENT
DTSTAMP:20260424T011947Z
DTSTART;VALUE=DATE:20140501
SUMMARY:SGEM 2014 Deadline
DESCRIPTION:SGEM 2014 GeoConference on ECOLOGY\, ECONOMICS\, EDUCATION an
 d LEGISLATION
URL:http://www.wikicfp.com/cfp/servlet/event.showcfp?eventid=34380&copyow
 nerid=64394
UID:cfp444332-D@wikicfp.com
END:VEVENT
BEGIN:VEVENT
DTSTAMP:20260424T011947Z
DTSTART;VALUE=DATE:20140501
SUMMARY:QL 2014 Deadline
DESCRIPTION:QUESTÃES LABORAIS
URL:http://www.wikicfp.com/cfp/servlet/event.showcfp?eventid=36976&copyow
 nerid=64394
UID:cfp444334-D@wikicfp.com
END:VEVENT
BEGIN:VEVENT
DTSTAMP:20260424T011947Z
DTSTART;VALUE=DATE:20140703
DTEND;VALUE=DATE:20140707
SUMMARY:ECPEL 2014
DESCRIPTION:The European Conference on Politics\, Economics and Law
URL:http://www.wikicfp.com/cfp/servlet/event.showcfp?eventid=37518&copyow
 nerid=64394
UID:cfp444336-E@wikicfp.com
END:VEVENT
BEGIN:VEVENT
DTSTAMP:20260424T011947Z
DTSTART;VALUE=DATE:20140515
SUMMARY:ECPEL 2014 Deadline
DESCRIPTION:The European Conference on Politics\, Economics and Law
URL:http://www.wikicfp.com/cfp/servlet/event.showcfp?eventid=37518&copyow
 nerid=64394
UID:cfp444336-D@wikicfp.com
END:VEVENT
BEGIN:VEVENT
DTSTAMP:20260424T011947Z
DTSTART;VALUE=DATE:20140901
SUMMARY:ECPEL 2014 Final Version Due
DESCRIPTION:The European Conference on Politics\, Economics and Law
URL:http://www.wikicfp.com/cfp/servlet/event.showcfp?eventid=37518&copyow
 nerid=64394
UID:cfp444336-N@wikicfp.com
END:VEVENT
BEGIN:VEVENT
DTSTAMP:20260424T011947Z
DTSTART;VALUE=DATE:20140902
DTEND;VALUE=DATE:20140908
SUMMARY:SGEM Social&Arts 2014
DESCRIPTION:SGEM 2014 Scientific Conference on ECONOMICS\, FINANCE and LA
 W
URL:http://www.wikicfp.com/cfp/servlet/event.showcfp?eventid=34344&copyow
 nerid=64394
UID:cfp444331-E@wikicfp.com
END:VEVENT
BEGIN:VEVENT
DTSTAMP:20260424T011947Z
DTSTART;VALUE=DATE:20140526
SUMMARY:SGEM Social&Arts 2014 Deadline
DESCRIPTION:SGEM 2014 Scientific Conference on ECONOMICS\, FINANCE and LA
 W
URL:http://www.wikicfp.com/cfp/servlet/event.showcfp?eventid=34344&copyow
 nerid=64394
UID:cfp444331-D@wikicfp.com
END:VEVENT
BEGIN:VEVENT
DTSTAMP:20260424T011947Z
DTSTART;VALUE=DATE:20140710
SUMMARY:SGEM Social&Arts 2014 Final Version Due
DESCRIPTION:SGEM 2014 Scientific Conference on ECONOMICS\, FINANCE and LA
 W
URL:http://www.wikicfp.com/cfp/servlet/event.showcfp?eventid=34344&copyow
 nerid=64394
UID:cfp444331-N@wikicfp.com
END:VEVENT
BEGIN:VEVENT
DTSTAMP:20260424T011947Z
DTSTART;VALUE=DATE:20140418
DTEND;VALUE=DATE:20140531
SUMMARY:may 2014
DESCRIPTION:Lex Humana - call for papres
URL:http://www.wikicfp.com/cfp/servlet/event.showcfp?eventid=37698&copyow
 nerid=64394
UID:cfp444337-E@wikicfp.com
END:VEVENT
BEGIN:VEVENT
DTSTAMP:20260424T011947Z
DTSTART;VALUE=DATE:20140530
SUMMARY:may 2014 Deadline
DESCRIPTION:Lex Humana - call for papres
URL:http://www.wikicfp.com/cfp/servlet/event.showcfp?eventid=37698&copyow
 nerid=64394
UID:cfp444337-D@wikicfp.com
END:VEVENT
BEGIN:VEVENT
DTSTAMP:20260424T011947Z
DTSTART;VALUE=DATE:20140823
DTEND;VALUE=DATE:20140825
SUMMARY:BICLP 2014
DESCRIPTION:Batumi International Conference on Law and Politics (BICLP 20
 14)
URL:http://www.wikicfp.com/cfp/servlet/event.showcfp?eventid=37380&copyow
 nerid=64394
UID:cfp444335-E@wikicfp.com
END:VEVENT
BEGIN:VEVENT
DTSTAMP:20260424T011947Z
DTSTART;VALUE=DATE:20140630
SUMMARY:BICLP 2014 Deadline
DESCRIPTION:Batumi International Conference on Law and Politics (BICLP 20
 14)
URL:http://www.wikicfp.com/cfp/servlet/event.showcfp?eventid=37380&copyow
 nerid=64394
UID:cfp444335-D@wikicfp.com
END:VEVENT
BEGIN:VEVENT
DTSTAMP:20260424T011947Z
DTSTART;VALUE=DATE:20140705
SUMMARY:BICLP 2014 Notification Due
DESCRIPTION:Batumi International Conference on Law and Politics (BICLP 20
 14)
URL:http://www.wikicfp.com/cfp/servlet/event.showcfp?eventid=37380&copyow
 nerid=64394
UID:cfp444335-N@wikicfp.com
END:VEVENT
BEGIN:VEVENT
DTSTAMP:20260424T011947Z
DTSTART;VALUE=DATE:20140720
SUMMARY:BICLP 2014 Final Version Due
DESCRIPTION:Batumi International Conference on Law and Politics (BICLP 20
 14)
URL:http://www.wikicfp.com/cfp/servlet/event.showcfp?eventid=37380&copyow
 nerid=64394
UID:cfp444335-N@wikicfp.com
END:VEVENT
BEGIN:VEVENT
DTSTAMP:20260424T011947Z
DTSTART;VALUE=DATE:20150103
DTEND;VALUE=DATE:20150105
SUMMARY:XVI AIC 2015
DESCRIPTION:XVI Annual International Conference 
URL:http://www.wikicfp.com/cfp/servlet/event.showcfp?eventid=35879&copyow
 nerid=64394
UID:cfp444333-E@wikicfp.com
END:VEVENT
BEGIN:VEVENT
DTSTAMP:20260424T011947Z
DTSTART;VALUE=DATE:20140530
SUMMARY:XVI AIC 2015 Abstract Due
DESCRIPTION:XVI Annual International Conference 
URL:http://www.wikicfp.com/cfp/servlet/event.showcfp?eventid=35879&copyow
 nerid=64394
UID:cfp444333-A@wikicfp.com
END:VEVENT
BEGIN:VEVENT
DTSTAMP:20260424T011947Z
DTSTART;VALUE=DATE:20140901
SUMMARY:XVI AIC 2015 Deadline
DESCRIPTION:XVI Annual International Conference 
URL:http://www.wikicfp.com/cfp/servlet/event.showcfp?eventid=35879&copyow
 nerid=64394
UID:cfp444333-D@wikicfp.com
END:VEVENT
BEGIN:VEVENT
DTSTAMP:20260424T011947Z
DTSTART;VALUE=DATE:20141006
SUMMARY:XVI AIC 2015 Notification Due
DESCRIPTION:XVI Annual International Conference 
URL:http://www.wikicfp.com/cfp/servlet/event.showcfp?eventid=35879&copyow
 nerid=64394
UID:cfp444333-N@wikicfp.com
END:VEVENT
BEGIN:VEVENT
DTSTAMP:20260424T011947Z
DTSTART;VALUE=DATE:20141006
SUMMARY:XVI AIC 2015 Final Version Due
DESCRIPTION:XVI Annual International Conference 
URL:http://www.wikicfp.com/cfp/servlet/event.showcfp?eventid=35879&copyow
 nerid=64394
UID:cfp444333-N@wikicfp.com
END:VEVENT
END:VCALENDAR
