BEGIN:VCALENDAR
PRODID:-//WikiCFP//rschenkel 1.0//EN
VERSION:2.0
CALSCALE:GREGORIAN
BEGIN:VEVENT
DTSTAMP:20260424T174428Z
DTSTART;VALUE=DATE:20100306
DTEND;VALUE=DATE:20100307
SUMMARY:M3SN 2010
DESCRIPTION:2nd International Workshop on Modeling\, Managing and Mining 
 of Evolving Social Networks
URL:http://www.wikicfp.com/cfp/servlet/event.showcfp?eventid=6613&copyown
 erid=6428
UID:cfp48874-E@wikicfp.com
END:VEVENT
BEGIN:VEVENT
DTSTAMP:20260424T174428Z
DTSTART;VALUE=DATE:20091115
SUMMARY:M3SN 2010 Deadline
DESCRIPTION:2nd International Workshop on Modeling\, Managing and Mining 
 of Evolving Social Networks
URL:http://www.wikicfp.com/cfp/servlet/event.showcfp?eventid=6613&copyown
 erid=6428
UID:cfp48874-D@wikicfp.com
END:VEVENT
BEGIN:VEVENT
DTSTAMP:20260424T174428Z
DTSTART;VALUE=DATE:20091215
SUMMARY:M3SN 2010 Notification Due
DESCRIPTION:2nd International Workshop on Modeling\, Managing and Mining 
 of Evolving Social Networks
URL:http://www.wikicfp.com/cfp/servlet/event.showcfp?eventid=6613&copyown
 erid=6428
UID:cfp48874-N@wikicfp.com
END:VEVENT
BEGIN:VEVENT
DTSTAMP:20260424T174428Z
DTSTART;VALUE=DATE:20100103
SUMMARY:M3SN 2010 Final Version Due
DESCRIPTION:2nd International Workshop on Modeling\, Managing and Mining 
 of Evolving Social Networks
URL:http://www.wikicfp.com/cfp/servlet/event.showcfp?eventid=6613&copyown
 erid=6428
UID:cfp48874-N@wikicfp.com
END:VEVENT
END:VCALENDAR
