BEGIN:VCALENDAR
PRODID:-//WikiCFP//anla 1.0//EN
VERSION:2.0
CALSCALE:GREGORIAN
BEGIN:VEVENT
DTSTAMP:20260420T021827Z
DTSTART;VALUE=DATE:20150415
DTEND;VALUE=DATE:20150418
SUMMARY:RFID 2015
DESCRIPTION:9th Annual IEEE International Conference on RFID 2015
URL:http://www.wikicfp.com/cfp/servlet/event.showcfp?eventid=39024&copyow
 nerid=63983
UID:cfp492756-E@wikicfp.com
END:VEVENT
BEGIN:VEVENT
DTSTAMP:20260420T021827Z
DTSTART;VALUE=DATE:20141103
DTEND;VALUE=DATE:20141107
SUMMARY:SenSys 2014
DESCRIPTION:The 12 th ACM Conference on Embedded Networked Sensor System
URL:http://www.wikicfp.com/cfp/servlet/event.showcfp?eventid=35429&copyow
 nerid=63983
UID:cfp477244-E@wikicfp.com
END:VEVENT
BEGIN:VEVENT
DTSTAMP:20260420T021827Z
DTSTART;VALUE=DATE:20140328
SUMMARY:SenSys 2014 Abstract Due
DESCRIPTION:The 12 th ACM Conference on Embedded Networked Sensor System
URL:http://www.wikicfp.com/cfp/servlet/event.showcfp?eventid=35429&copyow
 nerid=63983
UID:cfp477244-A@wikicfp.com
END:VEVENT
BEGIN:VEVENT
DTSTAMP:20260420T021827Z
DTSTART;VALUE=DATE:20140404
SUMMARY:SenSys 2014 Deadline
DESCRIPTION:The 12 th ACM Conference on Embedded Networked Sensor System
URL:http://www.wikicfp.com/cfp/servlet/event.showcfp?eventid=35429&copyow
 nerid=63983
UID:cfp477244-D@wikicfp.com
END:VEVENT
BEGIN:VEVENT
DTSTAMP:20260420T021827Z
DTSTART;VALUE=DATE:20140715
SUMMARY:SenSys 2014 Notification Due
DESCRIPTION:The 12 th ACM Conference on Embedded Networked Sensor System
URL:http://www.wikicfp.com/cfp/servlet/event.showcfp?eventid=35429&copyow
 nerid=63983
UID:cfp477244-N@wikicfp.com
END:VEVENT
BEGIN:VEVENT
DTSTAMP:20260420T021827Z
DTSTART;VALUE=DATE:20141118
DTEND;VALUE=DATE:20141122
SUMMARY:ICPT 2014
DESCRIPTION:The 6th International Conference on Positioning Technology
URL:http://www.wikicfp.com/cfp/servlet/event.showcfp?eventid=37295&copyow
 nerid=63983
UID:cfp442117-E@wikicfp.com
END:VEVENT
BEGIN:VEVENT
DTSTAMP:20260420T021827Z
DTSTART;VALUE=DATE:20140531
SUMMARY:ICPT 2014 Deadline
DESCRIPTION:The 6th International Conference on Positioning Technology
URL:http://www.wikicfp.com/cfp/servlet/event.showcfp?eventid=37295&copyow
 nerid=63983
UID:cfp442117-D@wikicfp.com
END:VEVENT
BEGIN:VEVENT
DTSTAMP:20260420T021827Z
DTSTART;VALUE=DATE:20140825
SUMMARY:ICPT 2014 Notification Due
DESCRIPTION:The 6th International Conference on Positioning Technology
URL:http://www.wikicfp.com/cfp/servlet/event.showcfp?eventid=37295&copyow
 nerid=63983
UID:cfp442117-N@wikicfp.com
END:VEVENT
BEGIN:VEVENT
DTSTAMP:20260420T021827Z
DTSTART;VALUE=DATE:20140925
SUMMARY:ICPT 2014 Final Version Due
DESCRIPTION:The 6th International Conference on Positioning Technology
URL:http://www.wikicfp.com/cfp/servlet/event.showcfp?eventid=37295&copyow
 nerid=63983
UID:cfp442117-N@wikicfp.com
END:VEVENT
BEGIN:VEVENT
DTSTAMP:20260420T021827Z
DTSTART;VALUE=DATE:20140825
DTEND;VALUE=DATE:20140830
SUMMARY:SKG 2014
DESCRIPTION:The 10th International Conference on Semantics\, Knowledge an
 d Grids
URL:http://www.wikicfp.com/cfp/servlet/event.showcfp?eventid=38244&copyow
 nerid=63983
UID:cfp452155-E@wikicfp.com
END:VEVENT
BEGIN:VEVENT
DTSTAMP:20260420T021827Z
DTSTART;VALUE=DATE:20140630
SUMMARY:SKG 2014 Deadline
DESCRIPTION:The 10th International Conference on Semantics\, Knowledge an
 d Grids
URL:http://www.wikicfp.com/cfp/servlet/event.showcfp?eventid=38244&copyow
 nerid=63983
UID:cfp452155-D@wikicfp.com
END:VEVENT
BEGIN:VEVENT
DTSTAMP:20260420T021827Z
DTSTART;VALUE=DATE:20140730
SUMMARY:SKG 2014 Notification Due
DESCRIPTION:The 10th International Conference on Semantics\, Knowledge an
 d Grids
URL:http://www.wikicfp.com/cfp/servlet/event.showcfp?eventid=38244&copyow
 nerid=63983
UID:cfp452155-N@wikicfp.com
END:VEVENT
BEGIN:VEVENT
DTSTAMP:20260420T021827Z
DTSTART;VALUE=DATE:20141120
SUMMARY:SKG 2014 Final Version Due
DESCRIPTION:The 10th International Conference on Semantics\, Knowledge an
 d Grids
URL:http://www.wikicfp.com/cfp/servlet/event.showcfp?eventid=38244&copyow
 nerid=63983
UID:cfp452155-N@wikicfp.com
END:VEVENT
BEGIN:VEVENT
DTSTAMP:20260420T021827Z
DTSTART;VALUE=DATE:20140701
SUMMARY:IJAHUC-LPHA 2014 Deadline
DESCRIPTION:International Journal of Ad Hoc and Ubiquitous Computing Spec
 ial Issue on Localisation and Positioning for Healthcare Applications
URL:http://www.wikicfp.com/cfp/servlet/event.showcfp?eventid=31692&copyow
 nerid=63983
UID:cfp442116-D@wikicfp.com
END:VEVENT
BEGIN:VEVENT
DTSTAMP:20260420T021827Z
DTSTART;VALUE=DATE:20141101
SUMMARY:IJAHUC-LPHA 2014 Notification Due
DESCRIPTION:International Journal of Ad Hoc and Ubiquitous Computing Spec
 ial Issue on Localisation and Positioning for Healthcare Applications
URL:http://www.wikicfp.com/cfp/servlet/event.showcfp?eventid=31692&copyow
 nerid=63983
UID:cfp442116-N@wikicfp.com
END:VEVENT
BEGIN:VEVENT
DTSTAMP:20260420T021827Z
DTSTART;VALUE=DATE:20150125
SUMMARY:IJAHUC-LPHA 2014 Final Version Due
DESCRIPTION:International Journal of Ad Hoc and Ubiquitous Computing Spec
 ial Issue on Localisation and Positioning for Healthcare Applications
URL:http://www.wikicfp.com/cfp/servlet/event.showcfp?eventid=31692&copyow
 nerid=63983
UID:cfp442116-N@wikicfp.com
END:VEVENT
BEGIN:VEVENT
DTSTAMP:20260420T021827Z
DTSTART;VALUE=DATE:20150426
DTEND;VALUE=DATE:20150502
SUMMARY:INFOCOM 2015
DESCRIPTION:IEEE Conference on Computer Communications
URL:http://www.wikicfp.com/cfp/servlet/event.showcfp?eventid=36501&copyow
 nerid=63983
UID:cfp494882-E@wikicfp.com
END:VEVENT
BEGIN:VEVENT
DTSTAMP:20260420T021827Z
DTSTART;VALUE=DATE:20140723
SUMMARY:INFOCOM 2015 Abstract Due
DESCRIPTION:IEEE Conference on Computer Communications
URL:http://www.wikicfp.com/cfp/servlet/event.showcfp?eventid=36501&copyow
 nerid=63983
UID:cfp494882-A@wikicfp.com
END:VEVENT
BEGIN:VEVENT
DTSTAMP:20260420T021827Z
DTSTART;VALUE=DATE:20140730
SUMMARY:INFOCOM 2015 Deadline
DESCRIPTION:IEEE Conference on Computer Communications
URL:http://www.wikicfp.com/cfp/servlet/event.showcfp?eventid=36501&copyow
 nerid=63983
UID:cfp494882-D@wikicfp.com
END:VEVENT
BEGIN:VEVENT
DTSTAMP:20260420T021827Z
DTSTART;VALUE=DATE:20141117
SUMMARY:INFOCOM 2015 Notification Due
DESCRIPTION:IEEE Conference on Computer Communications
URL:http://www.wikicfp.com/cfp/servlet/event.showcfp?eventid=36501&copyow
 nerid=63983
UID:cfp494882-N@wikicfp.com
END:VEVENT
BEGIN:VEVENT
DTSTAMP:20260420T021827Z
DTSTART;VALUE=DATE:20141103
DTEND;VALUE=DATE:20141104
SUMMARY:LocWeb 2014
DESCRIPTION:The 4th International Workshop on Location and the Web
URL:http://www.wikicfp.com/cfp/servlet/event.showcfp?eventid=38407&copyow
 nerid=63983
UID:cfp452154-E@wikicfp.com
END:VEVENT
BEGIN:VEVENT
DTSTAMP:20260420T021827Z
DTSTART;VALUE=DATE:20140730
SUMMARY:LocWeb 2014 Deadline
DESCRIPTION:The 4th International Workshop on Location and the Web
URL:http://www.wikicfp.com/cfp/servlet/event.showcfp?eventid=38407&copyow
 nerid=63983
UID:cfp452154-D@wikicfp.com
END:VEVENT
BEGIN:VEVENT
DTSTAMP:20260420T021827Z
DTSTART;VALUE=DATE:20140827
SUMMARY:LocWeb 2014 Notification Due
DESCRIPTION:The 4th International Workshop on Location and the Web
URL:http://www.wikicfp.com/cfp/servlet/event.showcfp?eventid=38407&copyow
 nerid=63983
UID:cfp452154-N@wikicfp.com
END:VEVENT
BEGIN:VEVENT
DTSTAMP:20260420T021827Z
DTSTART;VALUE=DATE:20140910
SUMMARY:LocWeb 2014 Final Version Due
DESCRIPTION:The 4th International Workshop on Location and the Web
URL:http://www.wikicfp.com/cfp/servlet/event.showcfp?eventid=38407&copyow
 nerid=63983
UID:cfp452154-N@wikicfp.com
END:VEVENT
BEGIN:VEVENT
DTSTAMP:20260420T021827Z
DTSTART;VALUE=DATE:20141027
DTEND;VALUE=DATE:20141031
SUMMARY:IPIN 2014
DESCRIPTION:5th International Conference on Indoor Positioning and Indoor
  Navigation
URL:http://www.wikicfp.com/cfp/servlet/event.showcfp?eventid=35729&copyow
 nerid=63983
UID:cfp442115-E@wikicfp.com
END:VEVENT
BEGIN:VEVENT
DTSTAMP:20260420T021827Z
DTSTART;VALUE=DATE:20140525
SUMMARY:IPIN 2014 Abstract Due
DESCRIPTION:5th International Conference on Indoor Positioning and Indoor
  Navigation
URL:http://www.wikicfp.com/cfp/servlet/event.showcfp?eventid=35729&copyow
 nerid=63983
UID:cfp442115-A@wikicfp.com
END:VEVENT
BEGIN:VEVENT
DTSTAMP:20260420T021827Z
DTSTART;VALUE=DATE:20140731
SUMMARY:IPIN 2014 Deadline
DESCRIPTION:5th International Conference on Indoor Positioning and Indoor
  Navigation
URL:http://www.wikicfp.com/cfp/servlet/event.showcfp?eventid=35729&copyow
 nerid=63983
UID:cfp442115-D@wikicfp.com
END:VEVENT
BEGIN:VEVENT
DTSTAMP:20260420T021827Z
DTSTART;VALUE=DATE:20140915
SUMMARY:IPIN 2014 Notification Due
DESCRIPTION:5th International Conference on Indoor Positioning and Indoor
  Navigation
URL:http://www.wikicfp.com/cfp/servlet/event.showcfp?eventid=35729&copyow
 nerid=63983
UID:cfp442115-N@wikicfp.com
END:VEVENT
BEGIN:VEVENT
DTSTAMP:20260420T021827Z
DTSTART;VALUE=DATE:20150413
DTEND;VALUE=DATE:20150418
SUMMARY:IPSN 2015
DESCRIPTION:The International Conference on Information Processing in Sen
 sor Networks
URL:http://www.wikicfp.com/cfp/servlet/event.showcfp?eventid=39468&copyow
 nerid=63983
UID:cfp477225-E@wikicfp.com
END:VEVENT
BEGIN:VEVENT
DTSTAMP:20260420T021827Z
DTSTART;VALUE=DATE:20141003
SUMMARY:IPSN 2015 Abstract Due
DESCRIPTION:The International Conference on Information Processing in Sen
 sor Networks
URL:http://www.wikicfp.com/cfp/servlet/event.showcfp?eventid=39468&copyow
 nerid=63983
UID:cfp477225-A@wikicfp.com
END:VEVENT
BEGIN:VEVENT
DTSTAMP:20260420T021827Z
DTSTART;VALUE=DATE:20141010
SUMMARY:IPSN 2015 Deadline
DESCRIPTION:The International Conference on Information Processing in Sen
 sor Networks
URL:http://www.wikicfp.com/cfp/servlet/event.showcfp?eventid=39468&copyow
 nerid=63983
UID:cfp477225-D@wikicfp.com
END:VEVENT
BEGIN:VEVENT
DTSTAMP:20260420T021827Z
DTSTART;VALUE=DATE:20150117
SUMMARY:IPSN 2015 Notification Due
DESCRIPTION:The International Conference on Information Processing in Sen
 sor Networks
URL:http://www.wikicfp.com/cfp/servlet/event.showcfp?eventid=39468&copyow
 nerid=63983
UID:cfp477225-N@wikicfp.com
END:VEVENT
BEGIN:VEVENT
DTSTAMP:20260420T021827Z
DTSTART;VALUE=DATE:20150117
SUMMARY:IPSN 2015 Final Version Due
DESCRIPTION:The International Conference on Information Processing in Sen
 sor Networks
URL:http://www.wikicfp.com/cfp/servlet/event.showcfp?eventid=39468&copyow
 nerid=63983
UID:cfp477225-N@wikicfp.com
END:VEVENT
BEGIN:VEVENT
DTSTAMP:20260420T021827Z
DTSTART;VALUE=DATE:20150528
DTEND;VALUE=DATE:20150530
SUMMARY:ICIME 2015
DESCRIPTION:5th International Conference on IS Management and Evaluation
URL:http://www.wikicfp.com/cfp/servlet/event.showcfp?eventid=39743&copyow
 nerid=63983
UID:cfp477301-E@wikicfp.com
END:VEVENT
BEGIN:VEVENT
DTSTAMP:20260420T021827Z
DTSTART;VALUE=DATE:20141106
SUMMARY:ICIME 2015 Deadline
DESCRIPTION:5th International Conference on IS Management and Evaluation
URL:http://www.wikicfp.com/cfp/servlet/event.showcfp?eventid=39743&copyow
 nerid=63983
UID:cfp477301-D@wikicfp.com
END:VEVENT
BEGIN:VEVENT
DTSTAMP:20260420T021827Z
DTSTART;VALUE=DATE:20150105
SUMMARY:ICIME 2015 Final Version Due
DESCRIPTION:5th International Conference on IS Management and Evaluation
URL:http://www.wikicfp.com/cfp/servlet/event.showcfp?eventid=39743&copyow
 nerid=63983
UID:cfp477301-N@wikicfp.com
END:VEVENT
BEGIN:VEVENT
DTSTAMP:20260420T021827Z
DTSTART;VALUE=DATE:20150614
DTEND;VALUE=DATE:20150618
SUMMARY:WoWMoM 2015
DESCRIPTION:IEEE International Symposium on a World of Wireless\, Mobile 
 and Multimedia Networks
URL:http://www.wikicfp.com/cfp/servlet/event.showcfp?eventid=39907&copyow
 nerid=63983
UID:cfp481678-E@wikicfp.com
END:VEVENT
BEGIN:VEVENT
DTSTAMP:20260420T021827Z
DTSTART;VALUE=DATE:20141121
SUMMARY:WoWMoM 2015 Abstract Due
DESCRIPTION:IEEE International Symposium on a World of Wireless\, Mobile 
 and Multimedia Networks
URL:http://www.wikicfp.com/cfp/servlet/event.showcfp?eventid=39907&copyow
 nerid=63983
UID:cfp481678-A@wikicfp.com
END:VEVENT
BEGIN:VEVENT
DTSTAMP:20260420T021827Z
DTSTART;VALUE=DATE:20141128
SUMMARY:WoWMoM 2015 Deadline
DESCRIPTION:IEEE International Symposium on a World of Wireless\, Mobile 
 and Multimedia Networks
URL:http://www.wikicfp.com/cfp/servlet/event.showcfp?eventid=39907&copyow
 nerid=63983
UID:cfp481678-D@wikicfp.com
END:VEVENT
BEGIN:VEVENT
DTSTAMP:20260420T021827Z
DTSTART;VALUE=DATE:20150313
SUMMARY:WoWMoM 2015 Notification Due
DESCRIPTION:IEEE International Symposium on a World of Wireless\, Mobile 
 and Multimedia Networks
URL:http://www.wikicfp.com/cfp/servlet/event.showcfp?eventid=39907&copyow
 nerid=63983
UID:cfp481678-N@wikicfp.com
END:VEVENT
BEGIN:VEVENT
DTSTAMP:20260420T021827Z
DTSTART;VALUE=DATE:20150817
DTEND;VALUE=DATE:20150822
SUMMARY:SIGCOMM 2015
DESCRIPTION:Conference on Applications\, Technologies\, Architectures\, a
 nd Protocols for Computer Communication
URL:http://www.wikicfp.com/cfp/servlet/event.showcfp?eventid=40879&copyow
 nerid=63983
UID:cfp477228-E@wikicfp.com
END:VEVENT
BEGIN:VEVENT
DTSTAMP:20260420T021827Z
DTSTART;VALUE=DATE:20150123
SUMMARY:SIGCOMM 2015 Abstract Due
DESCRIPTION:Conference on Applications\, Technologies\, Architectures\, a
 nd Protocols for Computer Communication
URL:http://www.wikicfp.com/cfp/servlet/event.showcfp?eventid=40879&copyow
 nerid=63983
UID:cfp477228-A@wikicfp.com
END:VEVENT
BEGIN:VEVENT
DTSTAMP:20260420T021827Z
DTSTART;VALUE=DATE:20150130
SUMMARY:SIGCOMM 2015 Deadline
DESCRIPTION:Conference on Applications\, Technologies\, Architectures\, a
 nd Protocols for Computer Communication
URL:http://www.wikicfp.com/cfp/servlet/event.showcfp?eventid=40879&copyow
 nerid=63983
UID:cfp477228-D@wikicfp.com
END:VEVENT
BEGIN:VEVENT
DTSTAMP:20260420T021827Z
DTSTART;VALUE=DATE:20150424
SUMMARY:SIGCOMM 2015 Notification Due
DESCRIPTION:Conference on Applications\, Technologies\, Architectures\, a
 nd Protocols for Computer Communication
URL:http://www.wikicfp.com/cfp/servlet/event.showcfp?eventid=40879&copyow
 nerid=63983
UID:cfp477228-N@wikicfp.com
END:VEVENT
BEGIN:VEVENT
DTSTAMP:20260420T021827Z
DTSTART;VALUE=DATE:20150901
DTEND;VALUE=DATE:20150905
SUMMARY:ICPP 2015
DESCRIPTION:International Conference on Parallel Processing
URL:http://www.wikicfp.com/cfp/servlet/event.showcfp?eventid=40871&copyow
 nerid=63983
UID:cfp477234-E@wikicfp.com
END:VEVENT
BEGIN:VEVENT
DTSTAMP:20260420T021827Z
DTSTART;VALUE=DATE:20150302
SUMMARY:ICPP 2015 Deadline
DESCRIPTION:International Conference on Parallel Processing
URL:http://www.wikicfp.com/cfp/servlet/event.showcfp?eventid=40871&copyow
 nerid=63983
UID:cfp477234-D@wikicfp.com
END:VEVENT
BEGIN:VEVENT
DTSTAMP:20260420T021827Z
DTSTART;VALUE=DATE:20150424
SUMMARY:ICPP 2015 Notification Due
DESCRIPTION:International Conference on Parallel Processing
URL:http://www.wikicfp.com/cfp/servlet/event.showcfp?eventid=40871&copyow
 nerid=63983
UID:cfp477234-N@wikicfp.com
END:VEVENT
BEGIN:VEVENT
DTSTAMP:20260420T021827Z
DTSTART;VALUE=DATE:20150615
SUMMARY:ICPP 2015 Final Version Due
DESCRIPTION:International Conference on Parallel Processing
URL:http://www.wikicfp.com/cfp/servlet/event.showcfp?eventid=40871&copyow
 nerid=63983
UID:cfp477234-N@wikicfp.com
END:VEVENT
BEGIN:VEVENT
DTSTAMP:20260420T021827Z
DTSTART;VALUE=DATE:20151206
DTEND;VALUE=DATE:20151211
SUMMARY:GLOBECOM 2015
DESCRIPTION:IEEE Global Communications Conference
URL:http://www.wikicfp.com/cfp/servlet/event.showcfp?eventid=41092&copyow
 nerid=63983
UID:cfp494879-E@wikicfp.com
END:VEVENT
BEGIN:VEVENT
DTSTAMP:20260420T021827Z
DTSTART;VALUE=DATE:20150401
SUMMARY:GLOBECOM 2015 Deadline
DESCRIPTION:IEEE Global Communications Conference
URL:http://www.wikicfp.com/cfp/servlet/event.showcfp?eventid=41092&copyow
 nerid=63983
UID:cfp494879-D@wikicfp.com
END:VEVENT
BEGIN:VEVENT
DTSTAMP:20260420T021827Z
DTSTART;VALUE=DATE:20160320
DTEND;VALUE=DATE:20160326
SUMMARY:ICASSP 2016
DESCRIPTION:International Conference on Acoustics\, Speech\, and Signal P
 rocessing
URL:http://www.wikicfp.com/cfp/servlet/event.showcfp?eventid=41657&copyow
 nerid=63983
UID:cfp494878-E@wikicfp.com
END:VEVENT
BEGIN:VEVENT
DTSTAMP:20260420T021827Z
DTSTART;VALUE=DATE:20150925
SUMMARY:ICASSP 2016 Deadline
DESCRIPTION:International Conference on Acoustics\, Speech\, and Signal P
 rocessing
URL:http://www.wikicfp.com/cfp/servlet/event.showcfp?eventid=41657&copyow
 nerid=63983
UID:cfp494878-D@wikicfp.com
END:VEVENT
END:VCALENDAR
