BEGIN:VCALENDAR
PRODID:-//WikiCFP//hanaru001 1.0//EN
VERSION:2.0
CALSCALE:GREGORIAN
BEGIN:VEVENT
DTSTAMP:20260423T230359Z
DTSTART;VALUE=DATE:20130718
DTEND;VALUE=DATE:20130720
SUMMARY:MHCI 2013
DESCRIPTION:International Conference on Multimedia and Human Computer Int
 eraction
URL:http://www.wikicfp.com/cfp/servlet/event.showcfp?eventid=27363&copyow
 nerid=63856
UID:cfp441313-E@wikicfp.com
END:VEVENT
BEGIN:VEVENT
DTSTAMP:20260423T230359Z
DTSTART;VALUE=DATE:20130501
SUMMARY:MHCI 2013 Deadline
DESCRIPTION:International Conference on Multimedia and Human Computer Int
 eraction
URL:http://www.wikicfp.com/cfp/servlet/event.showcfp?eventid=27363&copyow
 nerid=63856
UID:cfp441313-D@wikicfp.com
END:VEVENT
BEGIN:VEVENT
DTSTAMP:20260423T230359Z
DTSTART;VALUE=DATE:20130501
SUMMARY:MHCI 2013 Notification Due
DESCRIPTION:International Conference on Multimedia and Human Computer Int
 eraction
URL:http://www.wikicfp.com/cfp/servlet/event.showcfp?eventid=27363&copyow
 nerid=63856
UID:cfp441313-N@wikicfp.com
END:VEVENT
BEGIN:VEVENT
DTSTAMP:20260423T230359Z
DTSTART;VALUE=DATE:20130601
SUMMARY:MHCI 2013 Final Version Due
DESCRIPTION:International Conference on Multimedia and Human Computer Int
 eraction
URL:http://www.wikicfp.com/cfp/servlet/event.showcfp?eventid=27363&copyow
 nerid=63856
UID:cfp441313-N@wikicfp.com
END:VEVENT
BEGIN:VEVENT
DTSTAMP:20260423T230359Z
DTSTART;VALUE=DATE:20140507
DTEND;VALUE=DATE:20140510
SUMMARY:GI 2014
DESCRIPTION:Graphics Interface 2014
URL:http://www.wikicfp.com/cfp/servlet/event.showcfp?eventid=33364&copyow
 nerid=63856
UID:cfp449557-E@wikicfp.com
END:VEVENT
BEGIN:VEVENT
DTSTAMP:20260423T230359Z
DTSTART;VALUE=DATE:20131218
SUMMARY:GI 2014 Deadline
DESCRIPTION:Graphics Interface 2014
URL:http://www.wikicfp.com/cfp/servlet/event.showcfp?eventid=33364&copyow
 nerid=63856
UID:cfp449557-D@wikicfp.com
END:VEVENT
BEGIN:VEVENT
DTSTAMP:20260423T230359Z
DTSTART;VALUE=DATE:20140220
SUMMARY:GI 2014 Notification Due
DESCRIPTION:Graphics Interface 2014
URL:http://www.wikicfp.com/cfp/servlet/event.showcfp?eventid=33364&copyow
 nerid=63856
UID:cfp449557-N@wikicfp.com
END:VEVENT
BEGIN:VEVENT
DTSTAMP:20260423T230359Z
DTSTART;VALUE=DATE:20140303
SUMMARY:GI 2014 Final Version Due
DESCRIPTION:Graphics Interface 2014
URL:http://www.wikicfp.com/cfp/servlet/event.showcfp?eventid=33364&copyow
 nerid=63856
UID:cfp449557-N@wikicfp.com
END:VEVENT
BEGIN:VEVENT
DTSTAMP:20260423T230359Z
DTSTART;VALUE=DATE:20140707
DTEND;VALUE=DATE:20140712
SUMMARY:UMAP 2014
DESCRIPTION:The 22nd International Conference on User Modelling\, Adaptat
 ion\, and Personalization
URL:http://www.wikicfp.com/cfp/servlet/event.showcfp?eventid=32901&copyow
 nerid=63856
UID:cfp449556-E@wikicfp.com
END:VEVENT
BEGIN:VEVENT
DTSTAMP:20260423T230359Z
DTSTART;VALUE=DATE:20140127
SUMMARY:UMAP 2014 Abstract Due
DESCRIPTION:The 22nd International Conference on User Modelling\, Adaptat
 ion\, and Personalization
URL:http://www.wikicfp.com/cfp/servlet/event.showcfp?eventid=32901&copyow
 nerid=63856
UID:cfp449556-A@wikicfp.com
END:VEVENT
BEGIN:VEVENT
DTSTAMP:20260423T230359Z
DTSTART;VALUE=DATE:20140203
SUMMARY:UMAP 2014 Deadline
DESCRIPTION:The 22nd International Conference on User Modelling\, Adaptat
 ion\, and Personalization
URL:http://www.wikicfp.com/cfp/servlet/event.showcfp?eventid=32901&copyow
 nerid=63856
UID:cfp449556-D@wikicfp.com
END:VEVENT
BEGIN:VEVENT
DTSTAMP:20260423T230359Z
DTSTART;VALUE=DATE:20140324
SUMMARY:UMAP 2014 Notification Due
DESCRIPTION:The 22nd International Conference on User Modelling\, Adaptat
 ion\, and Personalization
URL:http://www.wikicfp.com/cfp/servlet/event.showcfp?eventid=32901&copyow
 nerid=63856
UID:cfp449556-N@wikicfp.com
END:VEVENT
BEGIN:VEVENT
DTSTAMP:20260423T230359Z
DTSTART;VALUE=DATE:20140414
SUMMARY:UMAP 2014 Final Version Due
DESCRIPTION:The 22nd International Conference on User Modelling\, Adaptat
 ion\, and Personalization
URL:http://www.wikicfp.com/cfp/servlet/event.showcfp?eventid=32901&copyow
 nerid=63856
UID:cfp449556-N@wikicfp.com
END:VEVENT
BEGIN:VEVENT
DTSTAMP:20260423T230359Z
DTSTART;VALUE=DATE:20140526
DTEND;VALUE=DATE:20140529
SUMMARY:CASA  2014
DESCRIPTION:27th International Conference on Computer Animation and Socia
 l Agents 2014
URL:http://www.wikicfp.com/cfp/servlet/event.showcfp?eventid=31771&copyow
 nerid=63856
UID:cfp449555-E@wikicfp.com
END:VEVENT
BEGIN:VEVENT
DTSTAMP:20260423T230359Z
DTSTART;VALUE=DATE:20140212
SUMMARY:CASA  2014 Deadline
DESCRIPTION:27th International Conference on Computer Animation and Socia
 l Agents 2014
URL:http://www.wikicfp.com/cfp/servlet/event.showcfp?eventid=31771&copyow
 nerid=63856
UID:cfp449555-D@wikicfp.com
END:VEVENT
BEGIN:VEVENT
DTSTAMP:20260423T230359Z
DTSTART;VALUE=DATE:20140312
SUMMARY:CASA  2014 Notification Due
DESCRIPTION:27th International Conference on Computer Animation and Socia
 l Agents 2014
URL:http://www.wikicfp.com/cfp/servlet/event.showcfp?eventid=31771&copyow
 nerid=63856
UID:cfp449555-N@wikicfp.com
END:VEVENT
BEGIN:VEVENT
DTSTAMP:20260423T230359Z
DTSTART;VALUE=DATE:20140325
SUMMARY:CASA  2014 Final Version Due
DESCRIPTION:27th International Conference on Computer Animation and Socia
 l Agents 2014
URL:http://www.wikicfp.com/cfp/servlet/event.showcfp?eventid=31771&copyow
 nerid=63856
UID:cfp449555-N@wikicfp.com
END:VEVENT
BEGIN:VEVENT
DTSTAMP:20260423T230359Z
DTSTART;VALUE=DATE:20140909
DTEND;VALUE=DATE:20140913
SUMMARY:HCI 2014
DESCRIPTION:28th British HCI Conference
URL:http://www.wikicfp.com/cfp/servlet/event.showcfp?eventid=34737&copyow
 nerid=63856
UID:cfp441417-E@wikicfp.com
END:VEVENT
BEGIN:VEVENT
DTSTAMP:20260423T230359Z
DTSTART;VALUE=DATE:20140314
SUMMARY:HCI 2014 Deadline
DESCRIPTION:28th British HCI Conference
URL:http://www.wikicfp.com/cfp/servlet/event.showcfp?eventid=34737&copyow
 nerid=63856
UID:cfp441417-D@wikicfp.com
END:VEVENT
BEGIN:VEVENT
DTSTAMP:20260423T230359Z
DTSTART;VALUE=DATE:20140701
SUMMARY:HCI 2014 Notification Due
DESCRIPTION:28th British HCI Conference
URL:http://www.wikicfp.com/cfp/servlet/event.showcfp?eventid=34737&copyow
 nerid=63856
UID:cfp441417-N@wikicfp.com
END:VEVENT
BEGIN:VEVENT
DTSTAMP:20260423T230359Z
DTSTART;VALUE=DATE:20140808
SUMMARY:HCI 2014 Final Version Due
DESCRIPTION:28th British HCI Conference
URL:http://www.wikicfp.com/cfp/servlet/event.showcfp?eventid=34737&copyow
 nerid=63856
UID:cfp441417-N@wikicfp.com
END:VEVENT
BEGIN:VEVENT
DTSTAMP:20260423T230359Z
DTSTART;VALUE=DATE:20140908
DTEND;VALUE=DATE:20140913
SUMMARY:DL (JCDL and TPDL) 2014
DESCRIPTION:ACM/IEEE Joint Conference on Digital Libraries
URL:http://www.wikicfp.com/cfp/servlet/event.showcfp?eventid=32062&copyow
 nerid=63856
UID:cfp449554-E@wikicfp.com
END:VEVENT
BEGIN:VEVENT
DTSTAMP:20260423T230359Z
DTSTART;VALUE=DATE:20140316
SUMMARY:DL (JCDL and TPDL) 2014 Deadline
DESCRIPTION:ACM/IEEE Joint Conference on Digital Libraries
URL:http://www.wikicfp.com/cfp/servlet/event.showcfp?eventid=32062&copyow
 nerid=63856
UID:cfp449554-D@wikicfp.com
END:VEVENT
BEGIN:VEVENT
DTSTAMP:20260423T230359Z
DTSTART;VALUE=DATE:20140525
SUMMARY:DL (JCDL and TPDL) 2014 Notification Due
DESCRIPTION:ACM/IEEE Joint Conference on Digital Libraries
URL:http://www.wikicfp.com/cfp/servlet/event.showcfp?eventid=32062&copyow
 nerid=63856
UID:cfp449554-N@wikicfp.com
END:VEVENT
BEGIN:VEVENT
DTSTAMP:20260423T230359Z
DTSTART;VALUE=DATE:20141109
DTEND;VALUE=DATE:20141115
SUMMARY:VIS 2014
DESCRIPTION:IEEE Visualization: Visual Analytics Science and Technology (
 VAST)\, Information Visualization (InfoVis) & Scientific Visualization (
 SciVis)
URL:http://www.wikicfp.com/cfp/servlet/event.showcfp?eventid=33659&copyow
 nerid=63856
UID:cfp441414-E@wikicfp.com
END:VEVENT
BEGIN:VEVENT
DTSTAMP:20260423T230359Z
DTSTART;VALUE=DATE:20140321
SUMMARY:VIS 2014 Abstract Due
DESCRIPTION:IEEE Visualization: Visual Analytics Science and Technology (
 VAST)\, Information Visualization (InfoVis) & Scientific Visualization (
 SciVis)
URL:http://www.wikicfp.com/cfp/servlet/event.showcfp?eventid=33659&copyow
 nerid=63856
UID:cfp441414-A@wikicfp.com
END:VEVENT
BEGIN:VEVENT
DTSTAMP:20260423T230359Z
DTSTART;VALUE=DATE:20140331
SUMMARY:VIS 2014 Deadline
DESCRIPTION:IEEE Visualization: Visual Analytics Science and Technology (
 VAST)\, Information Visualization (InfoVis) & Scientific Visualization (
 SciVis)
URL:http://www.wikicfp.com/cfp/servlet/event.showcfp?eventid=33659&copyow
 nerid=63856
UID:cfp441414-D@wikicfp.com
END:VEVENT
BEGIN:VEVENT
DTSTAMP:20260423T230359Z
DTSTART;VALUE=DATE:20140606
SUMMARY:VIS 2014 Notification Due
DESCRIPTION:IEEE Visualization: Visual Analytics Science and Technology (
 VAST)\, Information Visualization (InfoVis) & Scientific Visualization (
 SciVis)
URL:http://www.wikicfp.com/cfp/servlet/event.showcfp?eventid=33659&copyow
 nerid=63856
UID:cfp441414-N@wikicfp.com
END:VEVENT
BEGIN:VEVENT
DTSTAMP:20260423T230359Z
DTSTART;VALUE=DATE:20140801
SUMMARY:VIS 2014 Final Version Due
DESCRIPTION:IEEE Visualization: Visual Analytics Science and Technology (
 VAST)\, Information Visualization (InfoVis) & Scientific Visualization (
 SciVis)
URL:http://www.wikicfp.com/cfp/servlet/event.showcfp?eventid=33659&copyow
 nerid=63856
UID:cfp441414-N@wikicfp.com
END:VEVENT
BEGIN:VEVENT
DTSTAMP:20260423T230359Z
DTSTART;VALUE=DATE:20140811
DTEND;VALUE=DATE:20140815
SUMMARY:WI 2014
DESCRIPTION:Web Intelligence
URL:http://www.wikicfp.com/cfp/servlet/event.showcfp?eventid=34467&copyow
 nerid=63856
UID:cfp441318-E@wikicfp.com
END:VEVENT
BEGIN:VEVENT
DTSTAMP:20260423T230359Z
DTSTART;VALUE=DATE:20140413
SUMMARY:WI 2014 Deadline
DESCRIPTION:Web Intelligence
URL:http://www.wikicfp.com/cfp/servlet/event.showcfp?eventid=34467&copyow
 nerid=63856
UID:cfp441318-D@wikicfp.com
END:VEVENT
BEGIN:VEVENT
DTSTAMP:20260423T230359Z
DTSTART;VALUE=DATE:20140504
SUMMARY:WI 2014 Notification Due
DESCRIPTION:Web Intelligence
URL:http://www.wikicfp.com/cfp/servlet/event.showcfp?eventid=34467&copyow
 nerid=63856
UID:cfp441318-N@wikicfp.com
END:VEVENT
BEGIN:VEVENT
DTSTAMP:20260423T230359Z
DTSTART;VALUE=DATE:20140518
SUMMARY:WI 2014 Final Version Due
DESCRIPTION:Web Intelligence
URL:http://www.wikicfp.com/cfp/servlet/event.showcfp?eventid=34467&copyow
 nerid=63856
UID:cfp441318-N@wikicfp.com
END:VEVENT
BEGIN:VEVENT
DTSTAMP:20260423T230359Z
DTSTART;VALUE=DATE:20140610
DTEND;VALUE=DATE:20140614
SUMMARY:CGI 2014
DESCRIPTION:Computer Graphics International
URL:http://www.wikicfp.com/cfp/servlet/event.showcfp?eventid=32252&copyow
 nerid=63856
UID:cfp441314-E@wikicfp.com
END:VEVENT
BEGIN:VEVENT
DTSTAMP:20260423T230359Z
DTSTART;VALUE=DATE:20140418
SUMMARY:CGI 2014 Deadline
DESCRIPTION:Computer Graphics International
URL:http://www.wikicfp.com/cfp/servlet/event.showcfp?eventid=32252&copyow
 nerid=63856
UID:cfp441314-D@wikicfp.com
END:VEVENT
BEGIN:VEVENT
DTSTAMP:20260423T230359Z
DTSTART;VALUE=DATE:20140502
SUMMARY:CGI 2014 Notification Due
DESCRIPTION:Computer Graphics International
URL:http://www.wikicfp.com/cfp/servlet/event.showcfp?eventid=32252&copyow
 nerid=63856
UID:cfp441314-N@wikicfp.com
END:VEVENT
BEGIN:VEVENT
DTSTAMP:20260423T230359Z
DTSTART;VALUE=DATE:20140805
DTEND;VALUE=DATE:20140809
SUMMARY:VINCI 2014
DESCRIPTION:The 7th International Symposium on Visual Information Communi
 cation and Interaction
URL:http://www.wikicfp.com/cfp/servlet/event.showcfp?eventid=34989&copyow
 nerid=63856
UID:cfp441410-E@wikicfp.com
END:VEVENT
BEGIN:VEVENT
DTSTAMP:20260423T230359Z
DTSTART;VALUE=DATE:20140422
SUMMARY:VINCI 2014 Deadline
DESCRIPTION:The 7th International Symposium on Visual Information Communi
 cation and Interaction
URL:http://www.wikicfp.com/cfp/servlet/event.showcfp?eventid=34989&copyow
 nerid=63856
UID:cfp441410-D@wikicfp.com
END:VEVENT
BEGIN:VEVENT
DTSTAMP:20260423T230359Z
DTSTART;VALUE=DATE:20140515
SUMMARY:VINCI 2014 Notification Due
DESCRIPTION:The 7th International Symposium on Visual Information Communi
 cation and Interaction
URL:http://www.wikicfp.com/cfp/servlet/event.showcfp?eventid=34989&copyow
 nerid=63856
UID:cfp441410-N@wikicfp.com
END:VEVENT
BEGIN:VEVENT
DTSTAMP:20260423T230359Z
DTSTART;VALUE=DATE:20140610
SUMMARY:VINCI 2014 Final Version Due
DESCRIPTION:The 7th International Symposium on Visual Information Communi
 cation and Interaction
URL:http://www.wikicfp.com/cfp/servlet/event.showcfp?eventid=34989&copyow
 nerid=63856
UID:cfp441410-N@wikicfp.com
END:VEVENT
BEGIN:VEVENT
DTSTAMP:20260423T230359Z
DTSTART;VALUE=DATE:20141026
DTEND;VALUE=DATE:20141031
SUMMARY:NordiCHI 2014
DESCRIPTION:8th Nordic Conference on Human-Computer Interaction
URL:http://www.wikicfp.com/cfp/servlet/event.showcfp?eventid=29167&copyow
 nerid=63856
UID:cfp441315-E@wikicfp.com
END:VEVENT
BEGIN:VEVENT
DTSTAMP:20260423T230359Z
DTSTART;VALUE=DATE:20140424
SUMMARY:NordiCHI 2014 Deadline
DESCRIPTION:8th Nordic Conference on Human-Computer Interaction
URL:http://www.wikicfp.com/cfp/servlet/event.showcfp?eventid=29167&copyow
 nerid=63856
UID:cfp441315-D@wikicfp.com
END:VEVENT
BEGIN:VEVENT
DTSTAMP:20260423T230359Z
DTSTART;VALUE=DATE:20140923
DTEND;VALUE=DATE:20140924
SUMMARY:ET4S  2014
DESCRIPTION:2nd International Workshop on Eye Tracking for Spatial Resear
 ch
URL:http://www.wikicfp.com/cfp/servlet/event.showcfp?eventid=36285&copyow
 nerid=63856
UID:cfp441415-E@wikicfp.com
END:VEVENT
BEGIN:VEVENT
DTSTAMP:20260423T230359Z
DTSTART;VALUE=DATE:20140502
SUMMARY:ET4S  2014 Deadline
DESCRIPTION:2nd International Workshop on Eye Tracking for Spatial Resear
 ch
URL:http://www.wikicfp.com/cfp/servlet/event.showcfp?eventid=36285&copyow
 nerid=63856
UID:cfp441415-D@wikicfp.com
END:VEVENT
BEGIN:VEVENT
DTSTAMP:20260423T230359Z
DTSTART;VALUE=DATE:20140606
SUMMARY:ET4S  2014 Notification Due
DESCRIPTION:2nd International Workshop on Eye Tracking for Spatial Resear
 ch
URL:http://www.wikicfp.com/cfp/servlet/event.showcfp?eventid=36285&copyow
 nerid=63856
UID:cfp441415-N@wikicfp.com
END:VEVENT
BEGIN:VEVENT
DTSTAMP:20260423T230359Z
DTSTART;VALUE=DATE:20140710
SUMMARY:ET4S  2014 Final Version Due
DESCRIPTION:2nd International Workshop on Eye Tracking for Spatial Resear
 ch
URL:http://www.wikicfp.com/cfp/servlet/event.showcfp?eventid=36285&copyow
 nerid=63856
UID:cfp441415-N@wikicfp.com
END:VEVENT
BEGIN:VEVENT
DTSTAMP:20260423T230359Z
DTSTART;VALUE=DATE:20140818
DTEND;VALUE=DATE:20140822
SUMMARY:HumanCom 2014
DESCRIPTION:The 7th FTRA International Conference on Human-centric Ubiqui
 tous Computing and Applications
URL:http://www.wikicfp.com/cfp/servlet/event.showcfp?eventid=36921&copyow
 nerid=63856
UID:cfp441411-E@wikicfp.com
END:VEVENT
BEGIN:VEVENT
DTSTAMP:20260423T230359Z
DTSTART;VALUE=DATE:20140515
SUMMARY:HumanCom 2014 Deadline
DESCRIPTION:The 7th FTRA International Conference on Human-centric Ubiqui
 tous Computing and Applications
URL:http://www.wikicfp.com/cfp/servlet/event.showcfp?eventid=36921&copyow
 nerid=63856
UID:cfp441411-D@wikicfp.com
END:VEVENT
BEGIN:VEVENT
DTSTAMP:20260423T230359Z
DTSTART;VALUE=DATE:20140615
SUMMARY:HumanCom 2014 Notification Due
DESCRIPTION:The 7th FTRA International Conference on Human-centric Ubiqui
 tous Computing and Applications
URL:http://www.wikicfp.com/cfp/servlet/event.showcfp?eventid=36921&copyow
 nerid=63856
UID:cfp441411-N@wikicfp.com
END:VEVENT
BEGIN:VEVENT
DTSTAMP:20260423T230359Z
DTSTART;VALUE=DATE:20140630
SUMMARY:HumanCom 2014 Final Version Due
DESCRIPTION:The 7th FTRA International Conference on Human-centric Ubiqui
 tous Computing and Applications
URL:http://www.wikicfp.com/cfp/servlet/event.showcfp?eventid=36921&copyow
 nerid=63856
UID:cfp441411-N@wikicfp.com
END:VEVENT
BEGIN:VEVENT
DTSTAMP:20260423T230359Z
DTSTART;VALUE=DATE:20140922
DTEND;VALUE=DATE:20140926
SUMMARY:EUSPN'14 2014
DESCRIPTION:2nd Last Call for Papers: DEADLINE EXTENDED TO MAY 30 (Final 
 Extension) 
URL:http://www.wikicfp.com/cfp/servlet/event.showcfp?eventid=38262&copyow
 nerid=63856
UID:cfp449553-E@wikicfp.com
END:VEVENT
BEGIN:VEVENT
DTSTAMP:20260423T230359Z
DTSTART;VALUE=DATE:20140530
SUMMARY:EUSPN'14 2014 Deadline
DESCRIPTION:2nd Last Call for Papers: DEADLINE EXTENDED TO MAY 30 (Final 
 Extension) 
URL:http://www.wikicfp.com/cfp/servlet/event.showcfp?eventid=38262&copyow
 nerid=63856
UID:cfp449553-D@wikicfp.com
END:VEVENT
BEGIN:VEVENT
DTSTAMP:20260423T230359Z
DTSTART;VALUE=DATE:20140624
SUMMARY:EUSPN'14 2014 Notification Due
DESCRIPTION:2nd Last Call for Papers: DEADLINE EXTENDED TO MAY 30 (Final 
 Extension) 
URL:http://www.wikicfp.com/cfp/servlet/event.showcfp?eventid=38262&copyow
 nerid=63856
UID:cfp449553-N@wikicfp.com
END:VEVENT
BEGIN:VEVENT
DTSTAMP:20260423T230359Z
DTSTART;VALUE=DATE:20140717
SUMMARY:EUSPN'14 2014 Final Version Due
DESCRIPTION:2nd Last Call for Papers: DEADLINE EXTENDED TO MAY 30 (Final 
 Extension) 
URL:http://www.wikicfp.com/cfp/servlet/event.showcfp?eventid=38262&copyow
 nerid=63856
UID:cfp449553-N@wikicfp.com
END:VEVENT
BEGIN:VEVENT
DTSTAMP:20260423T230359Z
DTSTART;VALUE=DATE:20141208
DTEND;VALUE=DATE:20141214
SUMMARY:NIPS 2014
DESCRIPTION:Neural Information Processing Systems Conference
URL:http://www.wikicfp.com/cfp/servlet/event.showcfp?eventid=21362&copyow
 nerid=63856
UID:cfp441413-E@wikicfp.com
END:VEVENT
BEGIN:VEVENT
DTSTAMP:20260423T230359Z
DTSTART;VALUE=DATE:20140606
SUMMARY:NIPS 2014 Deadline
DESCRIPTION:Neural Information Processing Systems Conference
URL:http://www.wikicfp.com/cfp/servlet/event.showcfp?eventid=21362&copyow
 nerid=63856
UID:cfp441413-D@wikicfp.com
END:VEVENT
BEGIN:VEVENT
DTSTAMP:20260423T230359Z
DTSTART;VALUE=DATE:20140917
DTEND;VALUE=DATE:20140921
SUMMARY:SALENTO AVR  2014
DESCRIPTION:1st International Conference on Augmented and Virtual Reality
 
URL:http://www.wikicfp.com/cfp/servlet/event.showcfp?eventid=36601&copyow
 nerid=63856
UID:cfp449560-E@wikicfp.com
END:VEVENT
BEGIN:VEVENT
DTSTAMP:20260423T230359Z
DTSTART;VALUE=DATE:20140615
SUMMARY:SALENTO AVR  2014 Deadline
DESCRIPTION:1st International Conference on Augmented and Virtual Reality
 
URL:http://www.wikicfp.com/cfp/servlet/event.showcfp?eventid=36601&copyow
 nerid=63856
UID:cfp449560-D@wikicfp.com
END:VEVENT
BEGIN:VEVENT
DTSTAMP:20260423T230359Z
DTSTART;VALUE=DATE:20140715
SUMMARY:SALENTO AVR  2014 Notification Due
DESCRIPTION:1st International Conference on Augmented and Virtual Reality
 
URL:http://www.wikicfp.com/cfp/servlet/event.showcfp?eventid=36601&copyow
 nerid=63856
UID:cfp449560-N@wikicfp.com
END:VEVENT
BEGIN:VEVENT
DTSTAMP:20260423T230359Z
DTSTART;VALUE=DATE:20140731
SUMMARY:SALENTO AVR  2014 Final Version Due
DESCRIPTION:1st International Conference on Augmented and Virtual Reality
 
URL:http://www.wikicfp.com/cfp/servlet/event.showcfp?eventid=36601&copyow
 nerid=63856
UID:cfp449560-N@wikicfp.com
END:VEVENT
BEGIN:VEVENT
DTSTAMP:20260423T230359Z
DTSTART;VALUE=DATE:20141208
DTEND;VALUE=DATE:20141211
SUMMARY:IHCI 2014
DESCRIPTION:Intelligent Human Computer Interaction
URL:http://www.wikicfp.com/cfp/servlet/event.showcfp?eventid=37217&copyow
 nerid=63856
UID:cfp450992-E@wikicfp.com
END:VEVENT
BEGIN:VEVENT
DTSTAMP:20260423T230359Z
DTSTART;VALUE=DATE:20140615
SUMMARY:IHCI 2014 Deadline
DESCRIPTION:Intelligent Human Computer Interaction
URL:http://www.wikicfp.com/cfp/servlet/event.showcfp?eventid=37217&copyow
 nerid=63856
UID:cfp450992-D@wikicfp.com
END:VEVENT
BEGIN:VEVENT
DTSTAMP:20260423T230359Z
DTSTART;VALUE=DATE:20140910
SUMMARY:IHCI 2014 Notification Due
DESCRIPTION:Intelligent Human Computer Interaction
URL:http://www.wikicfp.com/cfp/servlet/event.showcfp?eventid=37217&copyow
 nerid=63856
UID:cfp450992-N@wikicfp.com
END:VEVENT
BEGIN:VEVENT
DTSTAMP:20260423T230359Z
DTSTART;VALUE=DATE:20140930
SUMMARY:IHCI 2014 Final Version Due
DESCRIPTION:Intelligent Human Computer Interaction
URL:http://www.wikicfp.com/cfp/servlet/event.showcfp?eventid=37217&copyow
 nerid=63856
UID:cfp450992-N@wikicfp.com
END:VEVENT
BEGIN:VEVENT
DTSTAMP:20260423T230359Z
DTSTART;VALUE=DATE:20140923
DTEND;VALUE=DATE:20140924
SUMMARY:PID-MAD 2014
DESCRIPTION:Second International Workshop on Prototyping to Support the I
 nteraction Designing in Mobile Application Development
URL:http://www.wikicfp.com/cfp/servlet/event.showcfp?eventid=37415&copyow
 nerid=63856
UID:cfp449559-E@wikicfp.com
END:VEVENT
BEGIN:VEVENT
DTSTAMP:20260423T230359Z
DTSTART;VALUE=DATE:20140616
SUMMARY:PID-MAD 2014 Deadline
DESCRIPTION:Second International Workshop on Prototyping to Support the I
 nteraction Designing in Mobile Application Development
URL:http://www.wikicfp.com/cfp/servlet/event.showcfp?eventid=37415&copyow
 nerid=63856
UID:cfp449559-D@wikicfp.com
END:VEVENT
BEGIN:VEVENT
DTSTAMP:20260423T230359Z
DTSTART;VALUE=DATE:20140707
SUMMARY:PID-MAD 2014 Notification Due
DESCRIPTION:Second International Workshop on Prototyping to Support the I
 nteraction Designing in Mobile Application Development
URL:http://www.wikicfp.com/cfp/servlet/event.showcfp?eventid=37415&copyow
 nerid=63856
UID:cfp449559-N@wikicfp.com
END:VEVENT
BEGIN:VEVENT
DTSTAMP:20260423T230359Z
DTSTART;VALUE=DATE:20140718
SUMMARY:PID-MAD 2014 Final Version Due
DESCRIPTION:Second International Workshop on Prototyping to Support the I
 nteraction Designing in Mobile Application Development
URL:http://www.wikicfp.com/cfp/servlet/event.showcfp?eventid=37415&copyow
 nerid=63856
UID:cfp449559-N@wikicfp.com
END:VEVENT
BEGIN:VEVENT
DTSTAMP:20260423T230359Z
DTSTART;VALUE=DATE:20141027
DTEND;VALUE=DATE:20141029
SUMMARY:Urb-IoT 2014
DESCRIPTION:The First International Conference on IoT in Urban Space
URL:http://www.wikicfp.com/cfp/servlet/event.showcfp?eventid=37297&copyow
 nerid=63856
UID:cfp449558-E@wikicfp.com
END:VEVENT
BEGIN:VEVENT
DTSTAMP:20260423T230359Z
DTSTART;VALUE=DATE:20140615
SUMMARY:Urb-IoT 2014 Abstract Due
DESCRIPTION:The First International Conference on IoT in Urban Space
URL:http://www.wikicfp.com/cfp/servlet/event.showcfp?eventid=37297&copyow
 nerid=63856
UID:cfp449558-A@wikicfp.com
END:VEVENT
BEGIN:VEVENT
DTSTAMP:20260423T230359Z
DTSTART;VALUE=DATE:20140621
SUMMARY:Urb-IoT 2014 Deadline
DESCRIPTION:The First International Conference on IoT in Urban Space
URL:http://www.wikicfp.com/cfp/servlet/event.showcfp?eventid=37297&copyow
 nerid=63856
UID:cfp449558-D@wikicfp.com
END:VEVENT
BEGIN:VEVENT
DTSTAMP:20260423T230359Z
DTSTART;VALUE=DATE:20140815
SUMMARY:Urb-IoT 2014 Notification Due
DESCRIPTION:The First International Conference on IoT in Urban Space
URL:http://www.wikicfp.com/cfp/servlet/event.showcfp?eventid=37297&copyow
 nerid=63856
UID:cfp449558-N@wikicfp.com
END:VEVENT
BEGIN:VEVENT
DTSTAMP:20260423T230359Z
DTSTART;VALUE=DATE:20140910
SUMMARY:Urb-IoT 2014 Final Version Due
DESCRIPTION:The First International Conference on IoT in Urban Space
URL:http://www.wikicfp.com/cfp/servlet/event.showcfp?eventid=37297&copyow
 nerid=63856
UID:cfp449558-N@wikicfp.com
END:VEVENT
BEGIN:VEVENT
DTSTAMP:20260423T230359Z
DTSTART;VALUE=DATE:20141107
DTEND;VALUE=DATE:20141110
SUMMARY:SoVIP 2014
DESCRIPTION:INNS Symposium on Vision and Image Processing
URL:http://www.wikicfp.com/cfp/servlet/event.showcfp?eventid=37499&copyow
 nerid=63856
UID:cfp441409-E@wikicfp.com
END:VEVENT
BEGIN:VEVENT
DTSTAMP:20260423T230359Z
DTSTART;VALUE=DATE:20140701
SUMMARY:SoVIP 2014 Deadline
DESCRIPTION:INNS Symposium on Vision and Image Processing
URL:http://www.wikicfp.com/cfp/servlet/event.showcfp?eventid=37499&copyow
 nerid=63856
UID:cfp441409-D@wikicfp.com
END:VEVENT
BEGIN:VEVENT
DTSTAMP:20260423T230359Z
DTSTART;VALUE=DATE:20140901
SUMMARY:SoVIP 2014 Notification Due
DESCRIPTION:INNS Symposium on Vision and Image Processing
URL:http://www.wikicfp.com/cfp/servlet/event.showcfp?eventid=37499&copyow
 nerid=63856
UID:cfp441409-N@wikicfp.com
END:VEVENT
BEGIN:VEVENT
DTSTAMP:20260423T230359Z
DTSTART;VALUE=DATE:20141001
SUMMARY:SoVIP 2014 Final Version Due
DESCRIPTION:INNS Symposium on Vision and Image Processing
URL:http://www.wikicfp.com/cfp/servlet/event.showcfp?eventid=37499&copyow
 nerid=63856
UID:cfp441409-N@wikicfp.com
END:VEVENT
BEGIN:VEVENT
DTSTAMP:20260423T230359Z
DTSTART;VALUE=DATE:20141208
DTEND;VALUE=DATE:20141211
SUMMARY:ISVC 2014
DESCRIPTION:International Symposium on Visual Computing
URL:http://www.wikicfp.com/cfp/servlet/event.showcfp?eventid=35092&copyow
 nerid=63856
UID:cfp441317-E@wikicfp.com
END:VEVENT
BEGIN:VEVENT
DTSTAMP:20260423T230359Z
DTSTART;VALUE=DATE:20140823
SUMMARY:ISVC 2014 Deadline
DESCRIPTION:International Symposium on Visual Computing
URL:http://www.wikicfp.com/cfp/servlet/event.showcfp?eventid=35092&copyow
 nerid=63856
UID:cfp441317-D@wikicfp.com
END:VEVENT
BEGIN:VEVENT
DTSTAMP:20260423T230359Z
DTSTART;VALUE=DATE:20140907
SUMMARY:ISVC 2014 Notification Due
DESCRIPTION:International Symposium on Visual Computing
URL:http://www.wikicfp.com/cfp/servlet/event.showcfp?eventid=35092&copyow
 nerid=63856
UID:cfp441317-N@wikicfp.com
END:VEVENT
BEGIN:VEVENT
DTSTAMP:20260423T230359Z
DTSTART;VALUE=DATE:20141001
SUMMARY:ISVC 2014 Final Version Due
DESCRIPTION:International Symposium on Visual Computing
URL:http://www.wikicfp.com/cfp/servlet/event.showcfp?eventid=35092&copyow
 nerid=63856
UID:cfp441317-N@wikicfp.com
END:VEVENT
BEGIN:VEVENT
DTSTAMP:20260423T230359Z
DTSTART;VALUE=DATE:20141015
SUMMARY:SI: Pervasive Games 2014 Deadline
DESCRIPTION:Personal and Ubiquitous Computing - Special Issue on Mobile a
 nd Pervasive Games
URL:http://www.wikicfp.com/cfp/servlet/event.showcfp?eventid=38348&copyow
 nerid=63856
UID:cfp451024-D@wikicfp.com
END:VEVENT
BEGIN:VEVENT
DTSTAMP:20260423T230359Z
DTSTART;VALUE=DATE:20141215
SUMMARY:SI: Pervasive Games 2014 Notification Due
DESCRIPTION:Personal and Ubiquitous Computing - Special Issue on Mobile a
 nd Pervasive Games
URL:http://www.wikicfp.com/cfp/servlet/event.showcfp?eventid=38348&copyow
 nerid=63856
UID:cfp451024-N@wikicfp.com
END:VEVENT
BEGIN:VEVENT
DTSTAMP:20260423T230359Z
DTSTART;VALUE=DATE:20150228
SUMMARY:SI: Pervasive Games 2014 Final Version Due
DESCRIPTION:Personal and Ubiquitous Computing - Special Issue on Mobile a
 nd Pervasive Games
URL:http://www.wikicfp.com/cfp/servlet/event.showcfp?eventid=38348&copyow
 nerid=63856
UID:cfp451024-N@wikicfp.com
END:VEVENT
BEGIN:VEVENT
DTSTAMP:20260423T230359Z
DTSTART;VALUE=DATE:20141117
DTEND;VALUE=DATE:20141120
SUMMARY:CGMIP 2014
DESCRIPTION:The International Conference on Computer Graphics\, Multimedi
 a and Image Processing
URL:http://www.wikicfp.com/cfp/servlet/event.showcfp?eventid=33934&copyow
 nerid=63856
UID:cfp441316-E@wikicfp.com
END:VEVENT
BEGIN:VEVENT
DTSTAMP:20260423T230359Z
DTSTART;VALUE=DATE:20141017
SUMMARY:CGMIP 2014 Deadline
DESCRIPTION:The International Conference on Computer Graphics\, Multimedi
 a and Image Processing
URL:http://www.wikicfp.com/cfp/servlet/event.showcfp?eventid=33934&copyow
 nerid=63856
UID:cfp441316-D@wikicfp.com
END:VEVENT
BEGIN:VEVENT
DTSTAMP:20260423T230359Z
DTSTART;VALUE=DATE:20141101
SUMMARY:CGMIP 2014 Notification Due
DESCRIPTION:The International Conference on Computer Graphics\, Multimedi
 a and Image Processing
URL:http://www.wikicfp.com/cfp/servlet/event.showcfp?eventid=33934&copyow
 nerid=63856
UID:cfp441316-N@wikicfp.com
END:VEVENT
BEGIN:VEVENT
DTSTAMP:20260423T230359Z
DTSTART;VALUE=DATE:20141107
SUMMARY:CGMIP 2014 Final Version Due
DESCRIPTION:The International Conference on Computer Graphics\, Multimedi
 a and Image Processing
URL:http://www.wikicfp.com/cfp/servlet/event.showcfp?eventid=33934&copyow
 nerid=63856
UID:cfp441316-N@wikicfp.com
END:VEVENT
BEGIN:VEVENT
DTSTAMP:20260423T230359Z
DTSTART;VALUE=DATE:20150329
DTEND;VALUE=DATE:20150402
SUMMARY:IUI 2015
DESCRIPTION:Intelligent User Interfaces
URL:http://www.wikicfp.com/cfp/servlet/event.showcfp?eventid=38912&copyow
 nerid=63856
UID:cfp472503-E@wikicfp.com
END:VEVENT
BEGIN:VEVENT
DTSTAMP:20260423T230359Z
DTSTART;VALUE=DATE:20141013
SUMMARY:IUI 2015 Abstract Due
DESCRIPTION:Intelligent User Interfaces
URL:http://www.wikicfp.com/cfp/servlet/event.showcfp?eventid=38912&copyow
 nerid=63856
UID:cfp472503-A@wikicfp.com
END:VEVENT
BEGIN:VEVENT
DTSTAMP:20260423T230359Z
DTSTART;VALUE=DATE:20141017
SUMMARY:IUI 2015 Deadline
DESCRIPTION:Intelligent User Interfaces
URL:http://www.wikicfp.com/cfp/servlet/event.showcfp?eventid=38912&copyow
 nerid=63856
UID:cfp472503-D@wikicfp.com
END:VEVENT
BEGIN:VEVENT
DTSTAMP:20260423T230359Z
DTSTART;VALUE=DATE:20150728
DTEND;VALUE=DATE:20150802
SUMMARY:IJCAI 2015
DESCRIPTION:International Joint Conference on Artificial Intelligence
URL:http://www.wikicfp.com/cfp/servlet/event.showcfp?eventid=31845&copyow
 nerid=63856
UID:cfp441412-E@wikicfp.com
END:VEVENT
BEGIN:VEVENT
DTSTAMP:20260423T230359Z
DTSTART;VALUE=DATE:20150208
SUMMARY:IJCAI 2015 Abstract Due
DESCRIPTION:International Joint Conference on Artificial Intelligence
URL:http://www.wikicfp.com/cfp/servlet/event.showcfp?eventid=31845&copyow
 nerid=63856
UID:cfp441412-A@wikicfp.com
END:VEVENT
BEGIN:VEVENT
DTSTAMP:20260423T230359Z
DTSTART;VALUE=DATE:20150212
SUMMARY:IJCAI 2015 Deadline
DESCRIPTION:International Joint Conference on Artificial Intelligence
URL:http://www.wikicfp.com/cfp/servlet/event.showcfp?eventid=31845&copyow
 nerid=63856
UID:cfp441412-D@wikicfp.com
END:VEVENT
END:VCALENDAR
