BEGIN:VCALENDAR
PRODID:-//WikiCFP//adina 1.0//EN
VERSION:2.0
CALSCALE:GREGORIAN
BEGIN:VEVENT
DTSTAMP:20260422T224137Z
DTSTART;VALUE=DATE:20141210
DTEND;VALUE=DATE:20141214
SUMMARY:ASA 2014
DESCRIPTION:International Conference of the Architectural Science Associa
 tion 
URL:http://www.wikicfp.com/cfp/servlet/event.showcfp?eventid=36694&copyow
 nerid=63834
UID:cfp441086-E@wikicfp.com
END:VEVENT
BEGIN:VEVENT
DTSTAMP:20260422T224137Z
DTSTART;VALUE=DATE:20140414
SUMMARY:ASA 2014 Deadline
DESCRIPTION:International Conference of the Architectural Science Associa
 tion 
URL:http://www.wikicfp.com/cfp/servlet/event.showcfp?eventid=36694&copyow
 nerid=63834
UID:cfp441086-D@wikicfp.com
END:VEVENT
BEGIN:VEVENT
DTSTAMP:20260422T224137Z
DTSTART;VALUE=DATE:20140512
SUMMARY:ASA 2014 Notification Due
DESCRIPTION:International Conference of the Architectural Science Associa
 tion 
URL:http://www.wikicfp.com/cfp/servlet/event.showcfp?eventid=36694&copyow
 nerid=63834
UID:cfp441086-N@wikicfp.com
END:VEVENT
BEGIN:VEVENT
DTSTAMP:20260422T224137Z
DTSTART;VALUE=DATE:20140929
SUMMARY:ASA 2014 Final Version Due
DESCRIPTION:International Conference of the Architectural Science Associa
 tion 
URL:http://www.wikicfp.com/cfp/servlet/event.showcfp?eventid=36694&copyow
 nerid=63834
UID:cfp441086-N@wikicfp.com
END:VEVENT
BEGIN:VEVENT
DTSTAMP:20260422T224137Z
DTSTART;VALUE=DATE:20140902
DTEND;VALUE=DATE:20140627
SUMMARY:SGEM Social&Arts 2014
DESCRIPTION:SGEM 2014 Scientific Conference on ARTS\, ARCHITECTURE and DE
 SIGN
URL:http://www.wikicfp.com/cfp/servlet/event.showcfp?eventid=34346&copyow
 nerid=63834
UID:cfp441082-E@wikicfp.com
END:VEVENT
BEGIN:VEVENT
DTSTAMP:20260422T224137Z
DTSTART;VALUE=DATE:20140526
SUMMARY:SGEM Social&Arts 2014 Deadline
DESCRIPTION:SGEM 2014 Scientific Conference on ARTS\, ARCHITECTURE and DE
 SIGN
URL:http://www.wikicfp.com/cfp/servlet/event.showcfp?eventid=34346&copyow
 nerid=63834
UID:cfp441082-D@wikicfp.com
END:VEVENT
BEGIN:VEVENT
DTSTAMP:20260422T224137Z
DTSTART;VALUE=DATE:20140710
SUMMARY:SGEM Social&Arts 2014 Final Version Due
DESCRIPTION:SGEM 2014 Scientific Conference on ARTS\, ARCHITECTURE and DE
 SIGN
URL:http://www.wikicfp.com/cfp/servlet/event.showcfp?eventid=34346&copyow
 nerid=63834
UID:cfp441082-N@wikicfp.com
END:VEVENT
BEGIN:VEVENT
DTSTAMP:20260422T224137Z
DTSTART;VALUE=DATE:20140808
DTEND;VALUE=DATE:20140810
SUMMARY:IWCEA 2014
DESCRIPTION:International Workshop on Civil Engineering and Architecture
URL:http://www.wikicfp.com/cfp/servlet/event.showcfp?eventid=35355&copyow
 nerid=63834
UID:cfp441083-E@wikicfp.com
END:VEVENT
BEGIN:VEVENT
DTSTAMP:20260422T224137Z
DTSTART;VALUE=DATE:20140605
SUMMARY:IWCEA 2014 Deadline
DESCRIPTION:International Workshop on Civil Engineering and Architecture
URL:http://www.wikicfp.com/cfp/servlet/event.showcfp?eventid=35355&copyow
 nerid=63834
UID:cfp441083-D@wikicfp.com
END:VEVENT
BEGIN:VEVENT
DTSTAMP:20260422T224137Z
DTSTART;VALUE=DATE:20140615
SUMMARY:IWCEA 2014 Notification Due
DESCRIPTION:International Workshop on Civil Engineering and Architecture
URL:http://www.wikicfp.com/cfp/servlet/event.showcfp?eventid=35355&copyow
 nerid=63834
UID:cfp441083-N@wikicfp.com
END:VEVENT
BEGIN:VEVENT
DTSTAMP:20260422T224137Z
DTSTART;VALUE=DATE:20140625
SUMMARY:IWCEA 2014 Final Version Due
DESCRIPTION:International Workshop on Civil Engineering and Architecture
URL:http://www.wikicfp.com/cfp/servlet/event.showcfp?eventid=35355&copyow
 nerid=63834
UID:cfp441083-N@wikicfp.com
END:VEVENT
BEGIN:VEVENT
DTSTAMP:20260422T224137Z
DTSTART;VALUE=DATE:20140927
DTEND;VALUE=DATE:20140929
SUMMARY:APCBEES-ICCAE 2014
DESCRIPTION:2014 2nd International Conference on Civil and Architecture E
 ngineering
URL:http://www.wikicfp.com/cfp/servlet/event.showcfp?eventid=37228&copyow
 nerid=63834
UID:cfp441087-E@wikicfp.com
END:VEVENT
BEGIN:VEVENT
DTSTAMP:20260422T224137Z
DTSTART;VALUE=DATE:20140710
SUMMARY:APCBEES-ICCAE 2014 Deadline
DESCRIPTION:2014 2nd International Conference on Civil and Architecture E
 ngineering
URL:http://www.wikicfp.com/cfp/servlet/event.showcfp?eventid=37228&copyow
 nerid=63834
UID:cfp441087-D@wikicfp.com
END:VEVENT
BEGIN:VEVENT
DTSTAMP:20260422T224137Z
DTSTART;VALUE=DATE:20140730
SUMMARY:APCBEES-ICCAE 2014 Notification Due
DESCRIPTION:2014 2nd International Conference on Civil and Architecture E
 ngineering
URL:http://www.wikicfp.com/cfp/servlet/event.showcfp?eventid=37228&copyow
 nerid=63834
UID:cfp441087-N@wikicfp.com
END:VEVENT
BEGIN:VEVENT
DTSTAMP:20260422T224137Z
DTSTART;VALUE=DATE:20140815
SUMMARY:APCBEES-ICCAE 2014 Final Version Due
DESCRIPTION:2014 2nd International Conference on Civil and Architecture E
 ngineering
URL:http://www.wikicfp.com/cfp/servlet/event.showcfp?eventid=37228&copyow
 nerid=63834
UID:cfp441087-N@wikicfp.com
END:VEVENT
BEGIN:VEVENT
DTSTAMP:20260422T224137Z
DTSTART;VALUE=DATE:20150406
DTEND;VALUE=DATE:20150410
SUMMARY:ARCC 2015
DESCRIPTION:Architectural Research Centers Consortium 2015 Conference
URL:http://www.wikicfp.com/cfp/servlet/event.showcfp?eventid=36691&copyow
 nerid=63834
UID:cfp441085-E@wikicfp.com
END:VEVENT
BEGIN:VEVENT
DTSTAMP:20260422T224137Z
DTSTART;VALUE=DATE:20140915
SUMMARY:ARCC 2015 Deadline
DESCRIPTION:Architectural Research Centers Consortium 2015 Conference
URL:http://www.wikicfp.com/cfp/servlet/event.showcfp?eventid=36691&copyow
 nerid=63834
UID:cfp441085-D@wikicfp.com
END:VEVENT
BEGIN:VEVENT
DTSTAMP:20260422T224137Z
DTSTART;VALUE=DATE:20141015
SUMMARY:ARCC 2015 Notification Due
DESCRIPTION:Architectural Research Centers Consortium 2015 Conference
URL:http://www.wikicfp.com/cfp/servlet/event.showcfp?eventid=36691&copyow
 nerid=63834
UID:cfp441085-N@wikicfp.com
END:VEVENT
BEGIN:VEVENT
DTSTAMP:20260422T224137Z
DTSTART;VALUE=DATE:20141205
SUMMARY:ARCC 2015 Final Version Due
DESCRIPTION:Architectural Research Centers Consortium 2015 Conference
URL:http://www.wikicfp.com/cfp/servlet/event.showcfp?eventid=36691&copyow
 nerid=63834
UID:cfp441085-N@wikicfp.com
END:VEVENT
BEGIN:VEVENT
DTSTAMP:20260422T224137Z
DTSTART;VALUE=DATE:20150225
DTEND;VALUE=DATE:20150228
SUMMARY:EMR 2015
DESCRIPTION:The Energy & Materials Research Conference
URL:http://www.wikicfp.com/cfp/servlet/event.showcfp?eventid=37669&copyow
 nerid=63834
UID:cfp474198-E@wikicfp.com
END:VEVENT
BEGIN:VEVENT
DTSTAMP:20260422T224137Z
DTSTART;VALUE=DATE:20141110
SUMMARY:EMR 2015 Deadline
DESCRIPTION:The Energy & Materials Research Conference
URL:http://www.wikicfp.com/cfp/servlet/event.showcfp?eventid=37669&copyow
 nerid=63834
UID:cfp474198-D@wikicfp.com
END:VEVENT
BEGIN:VEVENT
DTSTAMP:20260422T224137Z
DTSTART;VALUE=DATE:20141209
SUMMARY:EMR 2015 Notification Due
DESCRIPTION:The Energy & Materials Research Conference
URL:http://www.wikicfp.com/cfp/servlet/event.showcfp?eventid=37669&copyow
 nerid=63834
UID:cfp474198-N@wikicfp.com
END:VEVENT
BEGIN:VEVENT
DTSTAMP:20260422T224137Z
DTSTART;VALUE=DATE:20150123
SUMMARY:EMR 2015 Final Version Due
DESCRIPTION:The Energy & Materials Research Conference
URL:http://www.wikicfp.com/cfp/servlet/event.showcfp?eventid=37669&copyow
 nerid=63834
UID:cfp474198-N@wikicfp.com
END:VEVENT
BEGIN:VEVENT
DTSTAMP:20260422T224137Z
DTSTART;VALUE=DATE:20150922
DTEND;VALUE=DATE:20150927
SUMMARY:ISUF 2015
DESCRIPTION:XXII International Conference. City as organism: new visions 
 for  urban life.
URL:http://www.wikicfp.com/cfp/servlet/event.showcfp?eventid=35848&copyow
 nerid=63834
UID:cfp441084-E@wikicfp.com
END:VEVENT
BEGIN:VEVENT
DTSTAMP:20260422T224137Z
DTSTART;VALUE=DATE:20150515
SUMMARY:ISUF 2015 Abstract Due
DESCRIPTION:XXII International Conference. City as organism: new visions 
 for  urban life.
URL:http://www.wikicfp.com/cfp/servlet/event.showcfp?eventid=35848&copyow
 nerid=63834
UID:cfp441084-A@wikicfp.com
END:VEVENT
BEGIN:VEVENT
DTSTAMP:20260422T224137Z
DTSTART;VALUE=DATE:20150115
SUMMARY:ISUF 2015 Deadline
DESCRIPTION:XXII International Conference. City as organism: new visions 
 for  urban life.
URL:http://www.wikicfp.com/cfp/servlet/event.showcfp?eventid=35848&copyow
 nerid=63834
UID:cfp441084-D@wikicfp.com
END:VEVENT
BEGIN:VEVENT
DTSTAMP:20260422T224137Z
DTSTART;VALUE=DATE:20150301
SUMMARY:ISUF 2015 Notification Due
DESCRIPTION:XXII International Conference. City as organism: new visions 
 for  urban life.
URL:http://www.wikicfp.com/cfp/servlet/event.showcfp?eventid=35848&copyow
 nerid=63834
UID:cfp441084-N@wikicfp.com
END:VEVENT
BEGIN:VEVENT
DTSTAMP:20260422T224137Z
DTSTART;VALUE=DATE:20150530
SUMMARY:ISUF 2015 Final Version Due
DESCRIPTION:XXII International Conference. City as organism: new visions 
 for  urban life.
URL:http://www.wikicfp.com/cfp/servlet/event.showcfp?eventid=35848&copyow
 nerid=63834
UID:cfp441084-N@wikicfp.com
END:VEVENT
END:VCALENDAR
