BEGIN:VCALENDAR
PRODID:-//WikiCFP//chelseaju 1.0//EN
VERSION:2.0
CALSCALE:GREGORIAN
BEGIN:VEVENT
DTSTAMP:20260420T122257Z
DTSTART;VALUE=DATE:20150121
DTEND;VALUE=DATE:20150124
SUMMARY:APBC 2015
DESCRIPTION:Asia-Pacific Bioinformatics Conference 
URL:http://www.wikicfp.com/cfp/servlet/event.showcfp?eventid=37982&copyow
 nerid=63753
UID:cfp477015-E@wikicfp.com
END:VEVENT
BEGIN:VEVENT
DTSTAMP:20260420T122257Z
DTSTART;VALUE=DATE:20140730
SUMMARY:APBC 2015 Deadline
DESCRIPTION:Asia-Pacific Bioinformatics Conference 
URL:http://www.wikicfp.com/cfp/servlet/event.showcfp?eventid=37982&copyow
 nerid=63753
UID:cfp477015-D@wikicfp.com
END:VEVENT
BEGIN:VEVENT
DTSTAMP:20260420T122257Z
DTSTART;VALUE=DATE:20140830
SUMMARY:APBC 2015 Notification Due
DESCRIPTION:Asia-Pacific Bioinformatics Conference 
URL:http://www.wikicfp.com/cfp/servlet/event.showcfp?eventid=37982&copyow
 nerid=63753
UID:cfp477015-N@wikicfp.com
END:VEVENT
BEGIN:VEVENT
DTSTAMP:20260420T122257Z
DTSTART;VALUE=DATE:20141001
SUMMARY:APBC 2015 Final Version Due
DESCRIPTION:Asia-Pacific Bioinformatics Conference 
URL:http://www.wikicfp.com/cfp/servlet/event.showcfp?eventid=37982&copyow
 nerid=63753
UID:cfp477015-N@wikicfp.com
END:VEVENT
BEGIN:VEVENT
DTSTAMP:20260420T122257Z
DTSTART;VALUE=DATE:20150412
DTEND;VALUE=DATE:20150416
SUMMARY:RECOMB 2015
DESCRIPTION:Research in Computational Molecular Biology
URL:http://www.wikicfp.com/cfp/servlet/event.showcfp?eventid=37897&copyow
 nerid=63753
UID:cfp477016-E@wikicfp.com
END:VEVENT
BEGIN:VEVENT
DTSTAMP:20260420T122257Z
DTSTART;VALUE=DATE:20141019
SUMMARY:RECOMB 2015 Deadline
DESCRIPTION:Research in Computational Molecular Biology
URL:http://www.wikicfp.com/cfp/servlet/event.showcfp?eventid=37897&copyow
 nerid=63753
UID:cfp477016-D@wikicfp.com
END:VEVENT
BEGIN:VEVENT
DTSTAMP:20260420T122257Z
DTSTART;VALUE=DATE:20150602
DTEND;VALUE=DATE:20150605
SUMMARY:iSWAG 2015
DESCRIPTION:First International Symposium on Web Algorithms
URL:http://www.wikicfp.com/cfp/servlet/event.showcfp?eventid=39073&copyow
 nerid=63753
UID:cfp466293-E@wikicfp.com
END:VEVENT
BEGIN:VEVENT
DTSTAMP:20260420T122257Z
DTSTART;VALUE=DATE:20141114
SUMMARY:iSWAG 2015 Abstract Due
DESCRIPTION:First International Symposium on Web Algorithms
URL:http://www.wikicfp.com/cfp/servlet/event.showcfp?eventid=39073&copyow
 nerid=63753
UID:cfp466293-A@wikicfp.com
END:VEVENT
BEGIN:VEVENT
DTSTAMP:20260420T122257Z
DTSTART;VALUE=DATE:20141121
SUMMARY:iSWAG 2015 Deadline
DESCRIPTION:First International Symposium on Web Algorithms
URL:http://www.wikicfp.com/cfp/servlet/event.showcfp?eventid=39073&copyow
 nerid=63753
UID:cfp466293-D@wikicfp.com
END:VEVENT
BEGIN:VEVENT
DTSTAMP:20260420T122257Z
DTSTART;VALUE=DATE:20150206
SUMMARY:iSWAG 2015 Notification Due
DESCRIPTION:First International Symposium on Web Algorithms
URL:http://www.wikicfp.com/cfp/servlet/event.showcfp?eventid=39073&copyow
 nerid=63753
UID:cfp466293-N@wikicfp.com
END:VEVENT
BEGIN:VEVENT
DTSTAMP:20260420T122257Z
DTSTART;VALUE=DATE:20150301
SUMMARY:iSWAG 2015 Final Version Due
DESCRIPTION:First International Symposium on Web Algorithms
URL:http://www.wikicfp.com/cfp/servlet/event.showcfp?eventid=39073&copyow
 nerid=63753
UID:cfp466293-N@wikicfp.com
END:VEVENT
END:VCALENDAR
