BEGIN:VCALENDAR
PRODID:-//WikiCFP//neiniu 1.0//EN
VERSION:2.0
CALSCALE:GREGORIAN
BEGIN:VEVENT
DTSTAMP:20260424T063045Z
DTSTART;VALUE=DATE:20140706
DTEND;VALUE=DATE:20140712
SUMMARY:SIGIR 2014
DESCRIPTION:The 37th Annual ACM SIGIR Conference
URL:http://www.wikicfp.com/cfp/servlet/event.showcfp?eventid=31804&copyow
 nerid=63744
UID:cfp440583-E@wikicfp.com
END:VEVENT
BEGIN:VEVENT
DTSTAMP:20260424T063045Z
DTSTART;VALUE=DATE:20140120
SUMMARY:SIGIR 2014 Abstract Due
DESCRIPTION:The 37th Annual ACM SIGIR Conference
URL:http://www.wikicfp.com/cfp/servlet/event.showcfp?eventid=31804&copyow
 nerid=63744
UID:cfp440583-A@wikicfp.com
END:VEVENT
BEGIN:VEVENT
DTSTAMP:20260424T063045Z
DTSTART;VALUE=DATE:20140127
SUMMARY:SIGIR 2014 Deadline
DESCRIPTION:The 37th Annual ACM SIGIR Conference
URL:http://www.wikicfp.com/cfp/servlet/event.showcfp?eventid=31804&copyow
 nerid=63744
UID:cfp440583-D@wikicfp.com
END:VEVENT
BEGIN:VEVENT
DTSTAMP:20260424T063045Z
DTSTART;VALUE=DATE:20140418
SUMMARY:SIGIR 2014 Notification Due
DESCRIPTION:The 37th Annual ACM SIGIR Conference
URL:http://www.wikicfp.com/cfp/servlet/event.showcfp?eventid=31804&copyow
 nerid=63744
UID:cfp440583-N@wikicfp.com
END:VEVENT
BEGIN:VEVENT
DTSTAMP:20260424T063045Z
DTSTART;VALUE=DATE:20140511
SUMMARY:SIGIR 2014 Final Version Due
DESCRIPTION:The 37th Annual ACM SIGIR Conference
URL:http://www.wikicfp.com/cfp/servlet/event.showcfp?eventid=31804&copyow
 nerid=63744
UID:cfp440583-N@wikicfp.com
END:VEVENT
BEGIN:VEVENT
DTSTAMP:20260424T063045Z
DTSTART;VALUE=DATE:20140727
DTEND;VALUE=DATE:20140801
SUMMARY:AAAI 2014
DESCRIPTION:28th AAAI Conference on Artificial Intelligence
URL:http://www.wikicfp.com/cfp/servlet/event.showcfp?eventid=31244&copyow
 nerid=63744
UID:cfp440582-E@wikicfp.com
END:VEVENT
BEGIN:VEVENT
DTSTAMP:20260424T063045Z
DTSTART;VALUE=DATE:20140131
SUMMARY:AAAI 2014 Abstract Due
DESCRIPTION:28th AAAI Conference on Artificial Intelligence
URL:http://www.wikicfp.com/cfp/servlet/event.showcfp?eventid=31244&copyow
 nerid=63744
UID:cfp440582-A@wikicfp.com
END:VEVENT
BEGIN:VEVENT
DTSTAMP:20260424T063045Z
DTSTART;VALUE=DATE:20140204
SUMMARY:AAAI 2014 Deadline
DESCRIPTION:28th AAAI Conference on Artificial Intelligence
URL:http://www.wikicfp.com/cfp/servlet/event.showcfp?eventid=31244&copyow
 nerid=63744
UID:cfp440582-D@wikicfp.com
END:VEVENT
BEGIN:VEVENT
DTSTAMP:20260424T063045Z
DTSTART;VALUE=DATE:20140407
SUMMARY:AAAI 2014 Notification Due
DESCRIPTION:28th AAAI Conference on Artificial Intelligence
URL:http://www.wikicfp.com/cfp/servlet/event.showcfp?eventid=31244&copyow
 nerid=63744
UID:cfp440582-N@wikicfp.com
END:VEVENT
BEGIN:VEVENT
DTSTAMP:20260424T063045Z
DTSTART;VALUE=DATE:20140422
SUMMARY:AAAI 2014 Final Version Due
DESCRIPTION:28th AAAI Conference on Artificial Intelligence
URL:http://www.wikicfp.com/cfp/servlet/event.showcfp?eventid=31244&copyow
 nerid=63744
UID:cfp440582-N@wikicfp.com
END:VEVENT
BEGIN:VEVENT
DTSTAMP:20260424T063045Z
DTSTART;VALUE=DATE:20141103
DTEND;VALUE=DATE:20141108
SUMMARY:CIKM 2014
DESCRIPTION:ACM International Conference on Information and Knowledge Man
 agement (CIKM 2014)
URL:http://www.wikicfp.com/cfp/servlet/event.showcfp?eventid=33708&copyow
 nerid=63744
UID:cfp440579-E@wikicfp.com
END:VEVENT
BEGIN:VEVENT
DTSTAMP:20260424T063045Z
DTSTART;VALUE=DATE:20140604
SUMMARY:CIKM 2014 Abstract Due
DESCRIPTION:ACM International Conference on Information and Knowledge Man
 agement (CIKM 2014)
URL:http://www.wikicfp.com/cfp/servlet/event.showcfp?eventid=33708&copyow
 nerid=63744
UID:cfp440579-A@wikicfp.com
END:VEVENT
BEGIN:VEVENT
DTSTAMP:20260424T063045Z
DTSTART;VALUE=DATE:20140611
SUMMARY:CIKM 2014 Deadline
DESCRIPTION:ACM International Conference on Information and Knowledge Man
 agement (CIKM 2014)
URL:http://www.wikicfp.com/cfp/servlet/event.showcfp?eventid=33708&copyow
 nerid=63744
UID:cfp440579-D@wikicfp.com
END:VEVENT
BEGIN:VEVENT
DTSTAMP:20260424T063045Z
DTSTART;VALUE=DATE:20140808
SUMMARY:CIKM 2014 Notification Due
DESCRIPTION:ACM International Conference on Information and Knowledge Man
 agement (CIKM 2014)
URL:http://www.wikicfp.com/cfp/servlet/event.showcfp?eventid=33708&copyow
 nerid=63744
UID:cfp440579-N@wikicfp.com
END:VEVENT
BEGIN:VEVENT
DTSTAMP:20260424T063045Z
DTSTART;VALUE=DATE:20141214
DTEND;VALUE=DATE:20141218
SUMMARY:ICDM 2014
DESCRIPTION:IEEE International Conference on Data Mining
URL:http://www.wikicfp.com/cfp/servlet/event.showcfp?eventid=34995&copyow
 nerid=63744
UID:cfp440580-E@wikicfp.com
END:VEVENT
BEGIN:VEVENT
DTSTAMP:20260424T063045Z
DTSTART;VALUE=DATE:20140624
SUMMARY:ICDM 2014 Deadline
DESCRIPTION:IEEE International Conference on Data Mining
URL:http://www.wikicfp.com/cfp/servlet/event.showcfp?eventid=34995&copyow
 nerid=63744
UID:cfp440580-D@wikicfp.com
END:VEVENT
BEGIN:VEVENT
DTSTAMP:20260424T063045Z
DTSTART;VALUE=DATE:20140924
SUMMARY:ICDM 2014 Notification Due
DESCRIPTION:IEEE International Conference on Data Mining
URL:http://www.wikicfp.com/cfp/servlet/event.showcfp?eventid=34995&copyow
 nerid=63744
UID:cfp440580-N@wikicfp.com
END:VEVENT
BEGIN:VEVENT
DTSTAMP:20260424T063045Z
DTSTART;VALUE=DATE:20150202
DTEND;VALUE=DATE:20150207
SUMMARY:WSDM  2015
DESCRIPTION:The Eighth ACM WSDM Conference Series Web Search and Data Min
 ing
URL:http://www.wikicfp.com/cfp/servlet/event.showcfp?eventid=38230&copyow
 nerid=63744
UID:cfp449295-E@wikicfp.com
END:VEVENT
BEGIN:VEVENT
DTSTAMP:20260424T063045Z
DTSTART;VALUE=DATE:20140720
SUMMARY:WSDM  2015 Abstract Due
DESCRIPTION:The Eighth ACM WSDM Conference Series Web Search and Data Min
 ing
URL:http://www.wikicfp.com/cfp/servlet/event.showcfp?eventid=38230&copyow
 nerid=63744
UID:cfp449295-A@wikicfp.com
END:VEVENT
BEGIN:VEVENT
DTSTAMP:20260424T063045Z
DTSTART;VALUE=DATE:20140727
SUMMARY:WSDM  2015 Deadline
DESCRIPTION:The Eighth ACM WSDM Conference Series Web Search and Data Min
 ing
URL:http://www.wikicfp.com/cfp/servlet/event.showcfp?eventid=38230&copyow
 nerid=63744
UID:cfp449295-D@wikicfp.com
END:VEVENT
BEGIN:VEVENT
DTSTAMP:20260424T063045Z
DTSTART;VALUE=DATE:20141023
SUMMARY:WSDM  2015 Notification Due
DESCRIPTION:The Eighth ACM WSDM Conference Series Web Search and Data Min
 ing
URL:http://www.wikicfp.com/cfp/servlet/event.showcfp?eventid=38230&copyow
 nerid=63744
UID:cfp449295-N@wikicfp.com
END:VEVENT
BEGIN:VEVENT
DTSTAMP:20260424T063045Z
DTSTART;VALUE=DATE:20150728
DTEND;VALUE=DATE:20150802
SUMMARY:IJCAI 2015
DESCRIPTION:International Joint Conference on Artificial Intelligence
URL:http://www.wikicfp.com/cfp/servlet/event.showcfp?eventid=31845&copyow
 nerid=63744
UID:cfp440581-E@wikicfp.com
END:VEVENT
BEGIN:VEVENT
DTSTAMP:20260424T063045Z
DTSTART;VALUE=DATE:20150208
SUMMARY:IJCAI 2015 Abstract Due
DESCRIPTION:International Joint Conference on Artificial Intelligence
URL:http://www.wikicfp.com/cfp/servlet/event.showcfp?eventid=31845&copyow
 nerid=63744
UID:cfp440581-A@wikicfp.com
END:VEVENT
BEGIN:VEVENT
DTSTAMP:20260424T063045Z
DTSTART;VALUE=DATE:20150212
SUMMARY:IJCAI 2015 Deadline
DESCRIPTION:International Joint Conference on Artificial Intelligence
URL:http://www.wikicfp.com/cfp/servlet/event.showcfp?eventid=31845&copyow
 nerid=63744
UID:cfp440581-D@wikicfp.com
END:VEVENT
END:VCALENDAR
