BEGIN:VCALENDAR
PRODID:-//WikiCFP//alan_lin_usaf 1.0//EN
VERSION:2.0
CALSCALE:GREGORIAN
BEGIN:VEVENT
DTSTAMP:20260420T210207Z
DTSTART;VALUE=DATE:20140818
DTEND;VALUE=DATE:20140819
SUMMARY:CSET 2014
DESCRIPTION:7th Workshop on Cyber Security Experimentation and Test
URL:http://www.wikicfp.com/cfp/servlet/event.showcfp?eventid=35905&copyow
 nerid=63653
UID:cfp440002-E@wikicfp.com
END:VEVENT
BEGIN:VEVENT
DTSTAMP:20260420T210207Z
DTSTART;VALUE=DATE:20140425
SUMMARY:CSET 2014 Deadline
DESCRIPTION:7th Workshop on Cyber Security Experimentation and Test
URL:http://www.wikicfp.com/cfp/servlet/event.showcfp?eventid=35905&copyow
 nerid=63653
UID:cfp440002-D@wikicfp.com
END:VEVENT
BEGIN:VEVENT
DTSTAMP:20260420T210207Z
DTSTART;VALUE=DATE:20140531
SUMMARY:CSET 2014 Notification Due
DESCRIPTION:7th Workshop on Cyber Security Experimentation and Test
URL:http://www.wikicfp.com/cfp/servlet/event.showcfp?eventid=35905&copyow
 nerid=63653
UID:cfp440002-N@wikicfp.com
END:VEVENT
BEGIN:VEVENT
DTSTAMP:20260420T210207Z
DTSTART;VALUE=DATE:20140626
SUMMARY:CSET 2014 Final Version Due
DESCRIPTION:7th Workshop on Cyber Security Experimentation and Test
URL:http://www.wikicfp.com/cfp/servlet/event.showcfp?eventid=35905&copyow
 nerid=63653
UID:cfp440002-N@wikicfp.com
END:VEVENT
BEGIN:VEVENT
DTSTAMP:20260420T210207Z
DTSTART;VALUE=DATE:20140813
DTEND;VALUE=DATE:20140816
SUMMARY:IRI-DIM 2014
DESCRIPTION:The Third IEEE International Workshop on Data Integration and
  Mining
URL:http://www.wikicfp.com/cfp/servlet/event.showcfp?eventid=34890&copyow
 nerid=63653
UID:cfp440001-E@wikicfp.com
END:VEVENT
BEGIN:VEVENT
DTSTAMP:20260420T210207Z
DTSTART;VALUE=DATE:20140516
SUMMARY:IRI-DIM 2014 Deadline
DESCRIPTION:The Third IEEE International Workshop on Data Integration and
  Mining
URL:http://www.wikicfp.com/cfp/servlet/event.showcfp?eventid=34890&copyow
 nerid=63653
UID:cfp440001-D@wikicfp.com
END:VEVENT
BEGIN:VEVENT
DTSTAMP:20260420T210207Z
DTSTART;VALUE=DATE:20140525
SUMMARY:IRI-DIM 2014 Notification Due
DESCRIPTION:The Third IEEE International Workshop on Data Integration and
  Mining
URL:http://www.wikicfp.com/cfp/servlet/event.showcfp?eventid=34890&copyow
 nerid=63653
UID:cfp440001-N@wikicfp.com
END:VEVENT
BEGIN:VEVENT
DTSTAMP:20260420T210207Z
DTSTART;VALUE=DATE:20140630
SUMMARY:IRI-DIM 2014 Final Version Due
DESCRIPTION:The Third IEEE International Workshop on Data Integration and
  Mining
URL:http://www.wikicfp.com/cfp/servlet/event.showcfp?eventid=34890&copyow
 nerid=63653
UID:cfp440001-N@wikicfp.com
END:VEVENT
BEGIN:VEVENT
DTSTAMP:20260420T210207Z
DTSTART;VALUE=DATE:20140918
DTEND;VALUE=DATE:20140921
SUMMARY:ICDF2C 2014
DESCRIPTION:6th International Conference on Digital Forensics & Cyber Cri
 me
URL:http://www.wikicfp.com/cfp/servlet/event.showcfp?eventid=35766&copyow
 nerid=63653
UID:cfp439998-E@wikicfp.com
END:VEVENT
BEGIN:VEVENT
DTSTAMP:20260420T210207Z
DTSTART;VALUE=DATE:20140516
SUMMARY:ICDF2C 2014 Deadline
DESCRIPTION:6th International Conference on Digital Forensics & Cyber Cri
 me
URL:http://www.wikicfp.com/cfp/servlet/event.showcfp?eventid=35766&copyow
 nerid=63653
UID:cfp439998-D@wikicfp.com
END:VEVENT
BEGIN:VEVENT
DTSTAMP:20260420T210207Z
DTSTART;VALUE=DATE:20140730
SUMMARY:ICDF2C 2014 Notification Due
DESCRIPTION:6th International Conference on Digital Forensics & Cyber Cri
 me
URL:http://www.wikicfp.com/cfp/servlet/event.showcfp?eventid=35766&copyow
 nerid=63653
UID:cfp439998-N@wikicfp.com
END:VEVENT
BEGIN:VEVENT
DTSTAMP:20260420T210207Z
DTSTART;VALUE=DATE:20140901
SUMMARY:ICDF2C 2014 Final Version Due
DESCRIPTION:6th International Conference on Digital Forensics & Cyber Cri
 me
URL:http://www.wikicfp.com/cfp/servlet/event.showcfp?eventid=35766&copyow
 nerid=63653
UID:cfp439998-N@wikicfp.com
END:VEVENT
BEGIN:VEVENT
DTSTAMP:20260420T210207Z
DTSTART;VALUE=DATE:20141001
DTEND;VALUE=DATE:20141005
SUMMARY:IWDW 2014
DESCRIPTION:13th International Workshop on Digital-Forensics and Watermar
 king
URL:http://www.wikicfp.com/cfp/servlet/event.showcfp?eventid=34972&copyow
 nerid=63653
UID:cfp439999-E@wikicfp.com
END:VEVENT
BEGIN:VEVENT
DTSTAMP:20260420T210207Z
DTSTART;VALUE=DATE:20140615
SUMMARY:IWDW 2014 Deadline
DESCRIPTION:13th International Workshop on Digital-Forensics and Watermar
 king
URL:http://www.wikicfp.com/cfp/servlet/event.showcfp?eventid=34972&copyow
 nerid=63653
UID:cfp439999-D@wikicfp.com
END:VEVENT
BEGIN:VEVENT
DTSTAMP:20260420T210207Z
DTSTART;VALUE=DATE:20140801
SUMMARY:IWDW 2014 Notification Due
DESCRIPTION:13th International Workshop on Digital-Forensics and Watermar
 king
URL:http://www.wikicfp.com/cfp/servlet/event.showcfp?eventid=34972&copyow
 nerid=63653
UID:cfp439999-N@wikicfp.com
END:VEVENT
BEGIN:VEVENT
DTSTAMP:20260420T210207Z
DTSTART;VALUE=DATE:20140910
SUMMARY:IWDW 2014 Final Version Due
DESCRIPTION:13th International Workshop on Digital-Forensics and Watermar
 king
URL:http://www.wikicfp.com/cfp/servlet/event.showcfp?eventid=34972&copyow
 nerid=63653
UID:cfp439999-N@wikicfp.com
END:VEVENT
BEGIN:VEVENT
DTSTAMP:20260420T210207Z
DTSTART;VALUE=DATE:20141027
DTEND;VALUE=DATE:20141031
SUMMARY:IEEE BigData 2014
DESCRIPTION:2014 IEEE International Conference on Big Data
URL:http://www.wikicfp.com/cfp/servlet/event.showcfp?eventid=35427&copyow
 nerid=63653
UID:cfp439997-E@wikicfp.com
END:VEVENT
BEGIN:VEVENT
DTSTAMP:20260420T210207Z
DTSTART;VALUE=DATE:20140701
SUMMARY:IEEE BigData 2014 Deadline
DESCRIPTION:2014 IEEE International Conference on Big Data
URL:http://www.wikicfp.com/cfp/servlet/event.showcfp?eventid=35427&copyow
 nerid=63653
UID:cfp439997-D@wikicfp.com
END:VEVENT
BEGIN:VEVENT
DTSTAMP:20260420T210207Z
DTSTART;VALUE=DATE:20140830
SUMMARY:IEEE BigData 2014 Notification Due
DESCRIPTION:2014 IEEE International Conference on Big Data
URL:http://www.wikicfp.com/cfp/servlet/event.showcfp?eventid=35427&copyow
 nerid=63653
UID:cfp439997-N@wikicfp.com
END:VEVENT
BEGIN:VEVENT
DTSTAMP:20260420T210207Z
DTSTART;VALUE=DATE:20140925
SUMMARY:IEEE BigData 2014 Final Version Due
DESCRIPTION:2014 IEEE International Conference on Big Data
URL:http://www.wikicfp.com/cfp/servlet/event.showcfp?eventid=35427&copyow
 nerid=63653
UID:cfp439997-N@wikicfp.com
END:VEVENT
BEGIN:VEVENT
DTSTAMP:20260420T210207Z
DTSTART;VALUE=DATE:20141107
DTEND;VALUE=DATE:20141108
SUMMARY:WCPR 2014
DESCRIPTION:Workshop on Computational Personality Recognition 2014
URL:http://www.wikicfp.com/cfp/servlet/event.showcfp?eventid=36837&copyow
 nerid=63653
UID:cfp439996-E@wikicfp.com
END:VEVENT
BEGIN:VEVENT
DTSTAMP:20260420T210207Z
DTSTART;VALUE=DATE:20140708
SUMMARY:WCPR 2014 Deadline
DESCRIPTION:Workshop on Computational Personality Recognition 2014
URL:http://www.wikicfp.com/cfp/servlet/event.showcfp?eventid=36837&copyow
 nerid=63653
UID:cfp439996-D@wikicfp.com
END:VEVENT
BEGIN:VEVENT
DTSTAMP:20260420T210207Z
DTSTART;VALUE=DATE:20140801
SUMMARY:WCPR 2014 Notification Due
DESCRIPTION:Workshop on Computational Personality Recognition 2014
URL:http://www.wikicfp.com/cfp/servlet/event.showcfp?eventid=36837&copyow
 nerid=63653
UID:cfp439996-N@wikicfp.com
END:VEVENT
BEGIN:VEVENT
DTSTAMP:20260420T210207Z
DTSTART;VALUE=DATE:20140824
SUMMARY:WCPR 2014 Final Version Due
DESCRIPTION:Workshop on Computational Personality Recognition 2014
URL:http://www.wikicfp.com/cfp/servlet/event.showcfp?eventid=36837&copyow
 nerid=63653
UID:cfp439996-N@wikicfp.com
END:VEVENT
BEGIN:VEVENT
DTSTAMP:20260420T210207Z
DTSTART;VALUE=DATE:20141210
DTEND;VALUE=DATE:20141213
SUMMARY:ISM 2014
DESCRIPTION:IEEE International Symposium on Multimedia 
URL:http://www.wikicfp.com/cfp/servlet/event.showcfp?eventid=36283&copyow
 nerid=63653
UID:cfp440000-E@wikicfp.com
END:VEVENT
BEGIN:VEVENT
DTSTAMP:20260420T210207Z
DTSTART;VALUE=DATE:20140718
SUMMARY:ISM 2014 Deadline
DESCRIPTION:IEEE International Symposium on Multimedia 
URL:http://www.wikicfp.com/cfp/servlet/event.showcfp?eventid=36283&copyow
 nerid=63653
UID:cfp440000-D@wikicfp.com
END:VEVENT
BEGIN:VEVENT
DTSTAMP:20260420T210207Z
DTSTART;VALUE=DATE:20140905
SUMMARY:ISM 2014 Notification Due
DESCRIPTION:IEEE International Symposium on Multimedia 
URL:http://www.wikicfp.com/cfp/servlet/event.showcfp?eventid=36283&copyow
 nerid=63653
UID:cfp440000-N@wikicfp.com
END:VEVENT
BEGIN:VEVENT
DTSTAMP:20260420T210207Z
DTSTART;VALUE=DATE:20140926
SUMMARY:ISM 2014 Final Version Due
DESCRIPTION:IEEE International Symposium on Multimedia 
URL:http://www.wikicfp.com/cfp/servlet/event.showcfp?eventid=36283&copyow
 nerid=63653
UID:cfp440000-N@wikicfp.com
END:VEVENT
END:VCALENDAR
