BEGIN:VCALENDAR
PRODID:-//WikiCFP//purushotam 1.0//EN
VERSION:2.0
CALSCALE:GREGORIAN
BEGIN:VEVENT
DTSTAMP:20260424T214433Z
DTSTART;VALUE=DATE:20141102
DTEND;VALUE=DATE:20141106
SUMMARY:Asilomar 2014
DESCRIPTION:48th Annual Asilomar Conference on   Signals\, Systems\, and 
 Computers 
URL:http://www.wikicfp.com/cfp/servlet/event.showcfp?eventid=34556&copyow
 nerid=63611
UID:cfp439746-E@wikicfp.com
END:VEVENT
BEGIN:VEVENT
DTSTAMP:20260424T214433Z
DTSTART;VALUE=DATE:20140501
SUMMARY:Asilomar 2014 Deadline
DESCRIPTION:48th Annual Asilomar Conference on   Signals\, Systems\, and 
 Computers 
URL:http://www.wikicfp.com/cfp/servlet/event.showcfp?eventid=34556&copyow
 nerid=63611
UID:cfp439746-D@wikicfp.com
END:VEVENT
BEGIN:VEVENT
DTSTAMP:20260424T214433Z
DTSTART;VALUE=DATE:20140715
SUMMARY:Asilomar 2014 Notification Due
DESCRIPTION:48th Annual Asilomar Conference on   Signals\, Systems\, and 
 Computers 
URL:http://www.wikicfp.com/cfp/servlet/event.showcfp?eventid=34556&copyow
 nerid=63611
UID:cfp439746-N@wikicfp.com
END:VEVENT
BEGIN:VEVENT
DTSTAMP:20260424T214433Z
DTSTART;VALUE=DATE:20141125
SUMMARY:Asilomar 2014 Final Version Due
DESCRIPTION:48th Annual Asilomar Conference on   Signals\, Systems\, and 
 Computers 
URL:http://www.wikicfp.com/cfp/servlet/event.showcfp?eventid=34556&copyow
 nerid=63611
UID:cfp439746-N@wikicfp.com
END:VEVENT
END:VCALENDAR
