BEGIN:VCALENDAR
PRODID:-//WikiCFP//seven 1.0//EN
VERSION:2.0
CALSCALE:GREGORIAN
BEGIN:VEVENT
DTSTAMP:20260419T220437Z
DTSTART;VALUE=DATE:20140827
DTEND;VALUE=DATE:20140830
SUMMARY:IOV 2014
DESCRIPTION:2014 International Conference on Internet of Vehicles
URL:http://www.wikicfp.com/cfp/servlet/event.showcfp?eventid=36988&copyow
 nerid=63435
UID:cfp438624-E@wikicfp.com
END:VEVENT
BEGIN:VEVENT
DTSTAMP:20260419T220437Z
DTSTART;VALUE=DATE:20140415
SUMMARY:IOV 2014 Deadline
DESCRIPTION:2014 International Conference on Internet of Vehicles
URL:http://www.wikicfp.com/cfp/servlet/event.showcfp?eventid=36988&copyow
 nerid=63435
UID:cfp438624-D@wikicfp.com
END:VEVENT
BEGIN:VEVENT
DTSTAMP:20260419T220437Z
DTSTART;VALUE=DATE:20140520
SUMMARY:IOV 2014 Notification Due
DESCRIPTION:2014 International Conference on Internet of Vehicles
URL:http://www.wikicfp.com/cfp/servlet/event.showcfp?eventid=36988&copyow
 nerid=63435
UID:cfp438624-N@wikicfp.com
END:VEVENT
BEGIN:VEVENT
DTSTAMP:20260419T220437Z
DTSTART;VALUE=DATE:20140615
SUMMARY:IOV 2014 Final Version Due
DESCRIPTION:2014 International Conference on Internet of Vehicles
URL:http://www.wikicfp.com/cfp/servlet/event.showcfp?eventid=36988&copyow
 nerid=63435
UID:cfp438624-N@wikicfp.com
END:VEVENT
BEGIN:VEVENT
DTSTAMP:20260419T220437Z
DTSTART;VALUE=DATE:20141020
DTEND;VALUE=DATE:20141024
SUMMARY:SIMPAR 2014
DESCRIPTION:International Conference on Simulation\, Modeling\, and Progr
 amming for Autonomous Robots
URL:http://www.wikicfp.com/cfp/servlet/event.showcfp?eventid=35614&copyow
 nerid=63435
UID:cfp438632-E@wikicfp.com
END:VEVENT
BEGIN:VEVENT
DTSTAMP:20260419T220437Z
DTSTART;VALUE=DATE:20140505
SUMMARY:SIMPAR 2014 Deadline
DESCRIPTION:International Conference on Simulation\, Modeling\, and Progr
 amming for Autonomous Robots
URL:http://www.wikicfp.com/cfp/servlet/event.showcfp?eventid=35614&copyow
 nerid=63435
UID:cfp438632-D@wikicfp.com
END:VEVENT
BEGIN:VEVENT
DTSTAMP:20260419T220437Z
DTSTART;VALUE=DATE:20140630
SUMMARY:SIMPAR 2014 Notification Due
DESCRIPTION:International Conference on Simulation\, Modeling\, and Progr
 amming for Autonomous Robots
URL:http://www.wikicfp.com/cfp/servlet/event.showcfp?eventid=35614&copyow
 nerid=63435
UID:cfp438632-N@wikicfp.com
END:VEVENT
BEGIN:VEVENT
DTSTAMP:20260419T220437Z
DTSTART;VALUE=DATE:20140728
SUMMARY:SIMPAR 2014 Final Version Due
DESCRIPTION:International Conference on Simulation\, Modeling\, and Progr
 amming for Autonomous Robots
URL:http://www.wikicfp.com/cfp/servlet/event.showcfp?eventid=35614&copyow
 nerid=63435
UID:cfp438632-N@wikicfp.com
END:VEVENT
BEGIN:VEVENT
DTSTAMP:20260419T220437Z
DTSTART;VALUE=DATE:20141103
DTEND;VALUE=DATE:20141106
SUMMARY:CoDIT 2014
DESCRIPTION:IEEE-2nd International Conference on Control\, Decision and I
 nformation Technologies
URL:http://www.wikicfp.com/cfp/servlet/event.showcfp?eventid=37496&copyow
 nerid=63435
UID:cfp441653-E@wikicfp.com
END:VEVENT
BEGIN:VEVENT
DTSTAMP:20260419T220437Z
DTSTART;VALUE=DATE:20140601
SUMMARY:CoDIT 2014 Deadline
DESCRIPTION:IEEE-2nd International Conference on Control\, Decision and I
 nformation Technologies
URL:http://www.wikicfp.com/cfp/servlet/event.showcfp?eventid=37496&copyow
 nerid=63435
UID:cfp441653-D@wikicfp.com
END:VEVENT
BEGIN:VEVENT
DTSTAMP:20260419T220437Z
DTSTART;VALUE=DATE:20140630
SUMMARY:CoDIT 2014 Notification Due
DESCRIPTION:IEEE-2nd International Conference on Control\, Decision and I
 nformation Technologies
URL:http://www.wikicfp.com/cfp/servlet/event.showcfp?eventid=37496&copyow
 nerid=63435
UID:cfp441653-N@wikicfp.com
END:VEVENT
BEGIN:VEVENT
DTSTAMP:20260419T220437Z
DTSTART;VALUE=DATE:20141008
DTEND;VALUE=DATE:20141012
SUMMARY:ITSC 2014
DESCRIPTION:The 17th International IEEE Conference on Intelligent Transpo
 rtation Systems
URL:http://www.wikicfp.com/cfp/servlet/event.showcfp?eventid=33920&copyow
 nerid=63435
UID:cfp438623-E@wikicfp.com
END:VEVENT
BEGIN:VEVENT
DTSTAMP:20260419T220437Z
DTSTART;VALUE=DATE:20140608
SUMMARY:ITSC 2014 Deadline
DESCRIPTION:The 17th International IEEE Conference on Intelligent Transpo
 rtation Systems
URL:http://www.wikicfp.com/cfp/servlet/event.showcfp?eventid=33920&copyow
 nerid=63435
UID:cfp438623-D@wikicfp.com
END:VEVENT
BEGIN:VEVENT
DTSTAMP:20260419T220437Z
DTSTART;VALUE=DATE:20140725
SUMMARY:ITSC 2014 Notification Due
DESCRIPTION:The 17th International IEEE Conference on Intelligent Transpo
 rtation Systems
URL:http://www.wikicfp.com/cfp/servlet/event.showcfp?eventid=33920&copyow
 nerid=63435
UID:cfp438623-N@wikicfp.com
END:VEVENT
BEGIN:VEVENT
DTSTAMP:20260419T220437Z
DTSTART;VALUE=DATE:20140811
SUMMARY:ITSC 2014 Final Version Due
DESCRIPTION:The 17th International IEEE Conference on Intelligent Transpo
 rtation Systems
URL:http://www.wikicfp.com/cfp/servlet/event.showcfp?eventid=33920&copyow
 nerid=63435
UID:cfp438623-N@wikicfp.com
END:VEVENT
BEGIN:VEVENT
DTSTAMP:20260419T220437Z
DTSTART;VALUE=DATE:20141209
DTEND;VALUE=DATE:20141213
SUMMARY:SSCI 2014
DESCRIPTION:2014 IEEE Symposium Series on Computational Intelligence
URL:http://www.wikicfp.com/cfp/servlet/event.showcfp?eventid=31203&copyow
 nerid=63435
UID:cfp438625-E@wikicfp.com
END:VEVENT
BEGIN:VEVENT
DTSTAMP:20260419T220437Z
DTSTART;VALUE=DATE:20140615
SUMMARY:SSCI 2014 Deadline
DESCRIPTION:2014 IEEE Symposium Series on Computational Intelligence
URL:http://www.wikicfp.com/cfp/servlet/event.showcfp?eventid=31203&copyow
 nerid=63435
UID:cfp438625-D@wikicfp.com
END:VEVENT
BEGIN:VEVENT
DTSTAMP:20260419T220437Z
DTSTART;VALUE=DATE:20140905
SUMMARY:SSCI 2014 Notification Due
DESCRIPTION:2014 IEEE Symposium Series on Computational Intelligence
URL:http://www.wikicfp.com/cfp/servlet/event.showcfp?eventid=31203&copyow
 nerid=63435
UID:cfp438625-N@wikicfp.com
END:VEVENT
BEGIN:VEVENT
DTSTAMP:20260419T220437Z
DTSTART;VALUE=DATE:20141005
SUMMARY:SSCI 2014 Final Version Due
DESCRIPTION:2014 IEEE Symposium Series on Computational Intelligence
URL:http://www.wikicfp.com/cfp/servlet/event.showcfp?eventid=31203&copyow
 nerid=63435
UID:cfp438625-N@wikicfp.com
END:VEVENT
BEGIN:VEVENT
DTSTAMP:20260419T220437Z
DTSTART;VALUE=DATE:20141026
DTEND;VALUE=DATE:20141029
SUMMARY:ICMCE 2014
DESCRIPTION:2014 3rd International Conference on Mechanics and Control En
 gineering
URL:http://www.wikicfp.com/cfp/servlet/event.showcfp?eventid=36207&copyow
 nerid=63435
UID:cfp438633-E@wikicfp.com
END:VEVENT
BEGIN:VEVENT
DTSTAMP:20260419T220437Z
DTSTART;VALUE=DATE:20140905
SUMMARY:ICMCE 2014 Deadline
DESCRIPTION:2014 3rd International Conference on Mechanics and Control En
 gineering
URL:http://www.wikicfp.com/cfp/servlet/event.showcfp?eventid=36207&copyow
 nerid=63435
UID:cfp438633-D@wikicfp.com
END:VEVENT
BEGIN:VEVENT
DTSTAMP:20260419T220437Z
DTSTART;VALUE=DATE:20140920
SUMMARY:ICMCE 2014 Notification Due
DESCRIPTION:2014 3rd International Conference on Mechanics and Control En
 gineering
URL:http://www.wikicfp.com/cfp/servlet/event.showcfp?eventid=36207&copyow
 nerid=63435
UID:cfp438633-N@wikicfp.com
END:VEVENT
BEGIN:VEVENT
DTSTAMP:20260419T220437Z
DTSTART;VALUE=DATE:20140920
SUMMARY:ICMCE 2014 Final Version Due
DESCRIPTION:2014 3rd International Conference on Mechanics and Control En
 gineering
URL:http://www.wikicfp.com/cfp/servlet/event.showcfp?eventid=36207&copyow
 nerid=63435
UID:cfp438633-N@wikicfp.com
END:VEVENT
BEGIN:VEVENT
DTSTAMP:20260419T220437Z
DTSTART;VALUE=DATE:20150125
DTEND;VALUE=DATE:20150130
SUMMARY:AAAI 2015
DESCRIPTION:29th AAAI Conference on Artificial Intelligence
URL:http://www.wikicfp.com/cfp/servlet/event.showcfp?eventid=37497&copyow
 nerid=63435
UID:cfp441654-E@wikicfp.com
END:VEVENT
BEGIN:VEVENT
DTSTAMP:20260419T220437Z
DTSTART;VALUE=DATE:20140910
SUMMARY:AAAI 2015 Abstract Due
DESCRIPTION:29th AAAI Conference on Artificial Intelligence
URL:http://www.wikicfp.com/cfp/servlet/event.showcfp?eventid=37497&copyow
 nerid=63435
UID:cfp441654-A@wikicfp.com
END:VEVENT
BEGIN:VEVENT
DTSTAMP:20260419T220437Z
DTSTART;VALUE=DATE:20140915
SUMMARY:AAAI 2015 Deadline
DESCRIPTION:29th AAAI Conference on Artificial Intelligence
URL:http://www.wikicfp.com/cfp/servlet/event.showcfp?eventid=37497&copyow
 nerid=63435
UID:cfp441654-D@wikicfp.com
END:VEVENT
BEGIN:VEVENT
DTSTAMP:20260419T220437Z
DTSTART;VALUE=DATE:20141107
SUMMARY:AAAI 2015 Notification Due
DESCRIPTION:29th AAAI Conference on Artificial Intelligence
URL:http://www.wikicfp.com/cfp/servlet/event.showcfp?eventid=37497&copyow
 nerid=63435
UID:cfp441654-N@wikicfp.com
END:VEVENT
BEGIN:VEVENT
DTSTAMP:20260419T220437Z
DTSTART;VALUE=DATE:20141120
SUMMARY:AAAI 2015 Final Version Due
DESCRIPTION:29th AAAI Conference on Artificial Intelligence
URL:http://www.wikicfp.com/cfp/servlet/event.showcfp?eventid=37497&copyow
 nerid=63435
UID:cfp441654-N@wikicfp.com
END:VEVENT
BEGIN:VEVENT
DTSTAMP:20260419T220437Z
DTSTART;VALUE=DATE:20150728
DTEND;VALUE=DATE:20150802
SUMMARY:IJCAI 2015
DESCRIPTION:International Joint Conference on Artificial Intelligence
URL:http://www.wikicfp.com/cfp/servlet/event.showcfp?eventid=31845&copyow
 nerid=63435
UID:cfp438631-E@wikicfp.com
END:VEVENT
BEGIN:VEVENT
DTSTAMP:20260419T220437Z
DTSTART;VALUE=DATE:20150208
SUMMARY:IJCAI 2015 Abstract Due
DESCRIPTION:International Joint Conference on Artificial Intelligence
URL:http://www.wikicfp.com/cfp/servlet/event.showcfp?eventid=31845&copyow
 nerid=63435
UID:cfp438631-A@wikicfp.com
END:VEVENT
BEGIN:VEVENT
DTSTAMP:20260419T220437Z
DTSTART;VALUE=DATE:20150212
SUMMARY:IJCAI 2015 Deadline
DESCRIPTION:International Joint Conference on Artificial Intelligence
URL:http://www.wikicfp.com/cfp/servlet/event.showcfp?eventid=31845&copyow
 nerid=63435
UID:cfp438631-D@wikicfp.com
END:VEVENT
BEGIN:VEVENT
DTSTAMP:20260419T220437Z
DTSTART;VALUE=DATE:20150901
DTEND;VALUE=DATE:20150905
SUMMARY:ITSC 2015
DESCRIPTION:18th IEEE International Conference on Intelligent Transportat
 ion Systems
URL:http://www.wikicfp.com/cfp/servlet/event.showcfp?eventid=36189&copyow
 nerid=63435
UID:cfp438626-E@wikicfp.com
END:VEVENT
BEGIN:VEVENT
DTSTAMP:20260419T220437Z
DTSTART;VALUE=DATE:20150415
SUMMARY:ITSC 2015 Deadline
DESCRIPTION:18th IEEE International Conference on Intelligent Transportat
 ion Systems
URL:http://www.wikicfp.com/cfp/servlet/event.showcfp?eventid=36189&copyow
 nerid=63435
UID:cfp438626-D@wikicfp.com
END:VEVENT
BEGIN:VEVENT
DTSTAMP:20260419T220437Z
DTSTART;VALUE=DATE:20150515
SUMMARY:ITSC 2015 Notification Due
DESCRIPTION:18th IEEE International Conference on Intelligent Transportat
 ion Systems
URL:http://www.wikicfp.com/cfp/servlet/event.showcfp?eventid=36189&copyow
 nerid=63435
UID:cfp438626-N@wikicfp.com
END:VEVENT
BEGIN:VEVENT
DTSTAMP:20260419T220437Z
DTSTART;VALUE=DATE:20150615
SUMMARY:ITSC 2015 Final Version Due
DESCRIPTION:18th IEEE International Conference on Intelligent Transportat
 ion Systems
URL:http://www.wikicfp.com/cfp/servlet/event.showcfp?eventid=36189&copyow
 nerid=63435
UID:cfp438626-N@wikicfp.com
END:VEVENT
END:VCALENDAR
