BEGIN:VCALENDAR
PRODID:-//WikiCFP//jackie71 1.0//EN
VERSION:2.0
CALSCALE:GREGORIAN
BEGIN:VEVENT
DTSTAMP:20260426T020727Z
DTSTART;VALUE=DATE:20141026
DTEND;VALUE=DATE:20141029
SUMMARY:SPM 2014
DESCRIPTION:Symposium on Solid and Physical Modeling
URL:http://www.wikicfp.com/cfp/servlet/event.showcfp?eventid=35246&copyow
 nerid=63224
UID:cfp437176-E@wikicfp.com
END:VEVENT
BEGIN:VEVENT
DTSTAMP:20260426T020727Z
DTSTART;VALUE=DATE:20140330
SUMMARY:SPM 2014 Abstract Due
DESCRIPTION:Symposium on Solid and Physical Modeling
URL:http://www.wikicfp.com/cfp/servlet/event.showcfp?eventid=35246&copyow
 nerid=63224
UID:cfp437176-A@wikicfp.com
END:VEVENT
BEGIN:VEVENT
DTSTAMP:20260426T020727Z
DTSTART;VALUE=DATE:20140408
SUMMARY:SPM 2014 Deadline
DESCRIPTION:Symposium on Solid and Physical Modeling
URL:http://www.wikicfp.com/cfp/servlet/event.showcfp?eventid=35246&copyow
 nerid=63224
UID:cfp437176-D@wikicfp.com
END:VEVENT
BEGIN:VEVENT
DTSTAMP:20260426T020727Z
DTSTART;VALUE=DATE:20140522
SUMMARY:SPM 2014 Notification Due
DESCRIPTION:Symposium on Solid and Physical Modeling
URL:http://www.wikicfp.com/cfp/servlet/event.showcfp?eventid=35246&copyow
 nerid=63224
UID:cfp437176-N@wikicfp.com
END:VEVENT
BEGIN:VEVENT
DTSTAMP:20260426T020727Z
DTSTART;VALUE=DATE:20140801
SUMMARY:SPM 2014 Final Version Due
DESCRIPTION:Symposium on Solid and Physical Modeling
URL:http://www.wikicfp.com/cfp/servlet/event.showcfp?eventid=35246&copyow
 nerid=63224
UID:cfp437176-N@wikicfp.com
END:VEVENT
END:VCALENDAR
