BEGIN:VCALENDAR
PRODID:-//WikiCFP//dadun 1.0//EN
VERSION:2.0
CALSCALE:GREGORIAN
BEGIN:VEVENT
DTSTAMP:20260422T020659Z
DTSTART;VALUE=DATE:20140426
DTEND;VALUE=DATE:20140428
SUMMARY:ICPEC 2014
DESCRIPTION:2014 2nd International Conference on Physical Education and C
 omptuer Technology
URL:http://www.wikicfp.com/cfp/servlet/event.showcfp?eventid=36573&copyow
 nerid=62944
UID:cfp435801-E@wikicfp.com
END:VEVENT
BEGIN:VEVENT
DTSTAMP:20260422T020659Z
DTSTART;VALUE=DATE:20140331
SUMMARY:ICPEC 2014 Deadline
DESCRIPTION:2014 2nd International Conference on Physical Education and C
 omptuer Technology
URL:http://www.wikicfp.com/cfp/servlet/event.showcfp?eventid=36573&copyow
 nerid=62944
UID:cfp435801-D@wikicfp.com
END:VEVENT
BEGIN:VEVENT
DTSTAMP:20260422T020659Z
DTSTART;VALUE=DATE:20140410
SUMMARY:ICPEC 2014 Notification Due
DESCRIPTION:2014 2nd International Conference on Physical Education and C
 omptuer Technology
URL:http://www.wikicfp.com/cfp/servlet/event.showcfp?eventid=36573&copyow
 nerid=62944
UID:cfp435801-N@wikicfp.com
END:VEVENT
BEGIN:VEVENT
DTSTAMP:20260422T020659Z
DTSTART;VALUE=DATE:20140420
SUMMARY:ICPEC 2014 Final Version Due
DESCRIPTION:2014 2nd International Conference on Physical Education and C
 omptuer Technology
URL:http://www.wikicfp.com/cfp/servlet/event.showcfp?eventid=36573&copyow
 nerid=62944
UID:cfp435801-N@wikicfp.com
END:VEVENT
BEGIN:VEVENT
DTSTAMP:20260422T020659Z
DTSTART;VALUE=DATE:20140729
DTEND;VALUE=DATE:20140731
SUMMARY:CIIE 2014
DESCRIPTION:2014 International Conference on Computational Intelligence a
 nd Industrial Engineering
URL:http://www.wikicfp.com/cfp/servlet/event.showcfp?eventid=36048&copyow
 nerid=62944
UID:cfp435805-E@wikicfp.com
END:VEVENT
BEGIN:VEVENT
DTSTAMP:20260422T020659Z
DTSTART;VALUE=DATE:20140430
SUMMARY:CIIE 2014 Abstract Due
DESCRIPTION:2014 International Conference on Computational Intelligence a
 nd Industrial Engineering
URL:http://www.wikicfp.com/cfp/servlet/event.showcfp?eventid=36048&copyow
 nerid=62944
UID:cfp435805-A@wikicfp.com
END:VEVENT
BEGIN:VEVENT
DTSTAMP:20260422T020659Z
DTSTART;VALUE=DATE:20140402
SUMMARY:CIIE 2014 Deadline
DESCRIPTION:2014 International Conference on Computational Intelligence a
 nd Industrial Engineering
URL:http://www.wikicfp.com/cfp/servlet/event.showcfp?eventid=36048&copyow
 nerid=62944
UID:cfp435805-D@wikicfp.com
END:VEVENT
BEGIN:VEVENT
DTSTAMP:20260422T020659Z
DTSTART;VALUE=DATE:20140415
SUMMARY:CIIE 2014 Notification Due
DESCRIPTION:2014 International Conference on Computational Intelligence a
 nd Industrial Engineering
URL:http://www.wikicfp.com/cfp/servlet/event.showcfp?eventid=36048&copyow
 nerid=62944
UID:cfp435805-N@wikicfp.com
END:VEVENT
BEGIN:VEVENT
DTSTAMP:20260422T020659Z
DTSTART;VALUE=DATE:20140430
SUMMARY:CIIE 2014 Final Version Due
DESCRIPTION:2014 International Conference on Computational Intelligence a
 nd Industrial Engineering
URL:http://www.wikicfp.com/cfp/servlet/event.showcfp?eventid=36048&copyow
 nerid=62944
UID:cfp435805-N@wikicfp.com
END:VEVENT
BEGIN:VEVENT
DTSTAMP:20260422T020659Z
DTSTART;VALUE=DATE:20140910
DTEND;VALUE=DATE:20140913
SUMMARY:IDEAL 2014
DESCRIPTION:15th International Conference on Intelligent Data Engineering
  and Automated Learning
URL:http://www.wikicfp.com/cfp/servlet/event.showcfp?eventid=35641&copyow
 nerid=62944
UID:cfp435806-E@wikicfp.com
END:VEVENT
BEGIN:VEVENT
DTSTAMP:20260422T020659Z
DTSTART;VALUE=DATE:20140404
SUMMARY:IDEAL 2014 Deadline
DESCRIPTION:15th International Conference on Intelligent Data Engineering
  and Automated Learning
URL:http://www.wikicfp.com/cfp/servlet/event.showcfp?eventid=35641&copyow
 nerid=62944
UID:cfp435806-D@wikicfp.com
END:VEVENT
BEGIN:VEVENT
DTSTAMP:20260422T020659Z
DTSTART;VALUE=DATE:20140509
SUMMARY:IDEAL 2014 Notification Due
DESCRIPTION:15th International Conference on Intelligent Data Engineering
  and Automated Learning
URL:http://www.wikicfp.com/cfp/servlet/event.showcfp?eventid=35641&copyow
 nerid=62944
UID:cfp435806-N@wikicfp.com
END:VEVENT
BEGIN:VEVENT
DTSTAMP:20260422T020659Z
DTSTART;VALUE=DATE:20140530
SUMMARY:IDEAL 2014 Final Version Due
DESCRIPTION:15th International Conference on Intelligent Data Engineering
  and Automated Learning
URL:http://www.wikicfp.com/cfp/servlet/event.showcfp?eventid=35641&copyow
 nerid=62944
UID:cfp435806-N@wikicfp.com
END:VEVENT
BEGIN:VEVENT
DTSTAMP:20260422T020659Z
DTSTART;VALUE=DATE:20140729
DTEND;VALUE=DATE:20140731
SUMMARY:CSES 2014
DESCRIPTION:2014 International Conference on Computer Science and Educati
 on Science
URL:http://www.wikicfp.com/cfp/servlet/event.showcfp?eventid=36047&copyow
 nerid=62944
UID:cfp435807-E@wikicfp.com
END:VEVENT
BEGIN:VEVENT
DTSTAMP:20260422T020659Z
DTSTART;VALUE=DATE:20140530
SUMMARY:CSES 2014 Abstract Due
DESCRIPTION:2014 International Conference on Computer Science and Educati
 on Science
URL:http://www.wikicfp.com/cfp/servlet/event.showcfp?eventid=36047&copyow
 nerid=62944
UID:cfp435807-A@wikicfp.com
END:VEVENT
BEGIN:VEVENT
DTSTAMP:20260422T020659Z
DTSTART;VALUE=DATE:20140501
SUMMARY:CSES 2014 Deadline
DESCRIPTION:2014 International Conference on Computer Science and Educati
 on Science
URL:http://www.wikicfp.com/cfp/servlet/event.showcfp?eventid=36047&copyow
 nerid=62944
UID:cfp435807-D@wikicfp.com
END:VEVENT
BEGIN:VEVENT
DTSTAMP:20260422T020659Z
DTSTART;VALUE=DATE:20140515
SUMMARY:CSES 2014 Notification Due
DESCRIPTION:2014 International Conference on Computer Science and Educati
 on Science
URL:http://www.wikicfp.com/cfp/servlet/event.showcfp?eventid=36047&copyow
 nerid=62944
UID:cfp435807-N@wikicfp.com
END:VEVENT
BEGIN:VEVENT
DTSTAMP:20260422T020659Z
DTSTART;VALUE=DATE:20140530
SUMMARY:CSES 2014 Final Version Due
DESCRIPTION:2014 International Conference on Computer Science and Educati
 on Science
URL:http://www.wikicfp.com/cfp/servlet/event.showcfp?eventid=36047&copyow
 nerid=62944
UID:cfp435807-N@wikicfp.com
END:VEVENT
BEGIN:VEVENT
DTSTAMP:20260422T020659Z
DTSTART;VALUE=DATE:20140911
DTEND;VALUE=DATE:20140914
SUMMARY:CIT 2014
DESCRIPTION:14th IEEE International Conference on Computer and Informatio
 n Technology 
URL:http://www.wikicfp.com/cfp/servlet/event.showcfp?eventid=35939&copyow
 nerid=62944
UID:cfp435803-E@wikicfp.com
END:VEVENT
BEGIN:VEVENT
DTSTAMP:20260422T020659Z
DTSTART;VALUE=DATE:20140512
SUMMARY:CIT 2014 Deadline
DESCRIPTION:14th IEEE International Conference on Computer and Informatio
 n Technology 
URL:http://www.wikicfp.com/cfp/servlet/event.showcfp?eventid=35939&copyow
 nerid=62944
UID:cfp435803-D@wikicfp.com
END:VEVENT
BEGIN:VEVENT
DTSTAMP:20260422T020659Z
DTSTART;VALUE=DATE:20140620
SUMMARY:CIT 2014 Notification Due
DESCRIPTION:14th IEEE International Conference on Computer and Informatio
 n Technology 
URL:http://www.wikicfp.com/cfp/servlet/event.showcfp?eventid=35939&copyow
 nerid=62944
UID:cfp435803-N@wikicfp.com
END:VEVENT
BEGIN:VEVENT
DTSTAMP:20260422T020659Z
DTSTART;VALUE=DATE:20140710
SUMMARY:CIT 2014 Final Version Due
DESCRIPTION:14th IEEE International Conference on Computer and Informatio
 n Technology 
URL:http://www.wikicfp.com/cfp/servlet/event.showcfp?eventid=35939&copyow
 nerid=62944
UID:cfp435803-N@wikicfp.com
END:VEVENT
BEGIN:VEVENT
DTSTAMP:20260422T020659Z
DTSTART;VALUE=DATE:20140728
DTEND;VALUE=DATE:20140730
SUMMARY:ICCCD 2014
DESCRIPTION:2014 the 4th International Conference on Computer and Communi
 cation Devices (ICCCD 2014)
URL:http://www.wikicfp.com/cfp/servlet/event.showcfp?eventid=34575&copyow
 nerid=62944
UID:cfp435804-E@wikicfp.com
END:VEVENT
BEGIN:VEVENT
DTSTAMP:20260422T020659Z
DTSTART;VALUE=DATE:20140515
SUMMARY:ICCCD 2014 Deadline
DESCRIPTION:2014 the 4th International Conference on Computer and Communi
 cation Devices (ICCCD 2014)
URL:http://www.wikicfp.com/cfp/servlet/event.showcfp?eventid=34575&copyow
 nerid=62944
UID:cfp435804-D@wikicfp.com
END:VEVENT
BEGIN:VEVENT
DTSTAMP:20260422T020659Z
DTSTART;VALUE=DATE:20140610
SUMMARY:ICCCD 2014 Notification Due
DESCRIPTION:2014 the 4th International Conference on Computer and Communi
 cation Devices (ICCCD 2014)
URL:http://www.wikicfp.com/cfp/servlet/event.showcfp?eventid=34575&copyow
 nerid=62944
UID:cfp435804-N@wikicfp.com
END:VEVENT
BEGIN:VEVENT
DTSTAMP:20260422T020659Z
DTSTART;VALUE=DATE:20140625
SUMMARY:ICCCD 2014 Final Version Due
DESCRIPTION:2014 the 4th International Conference on Computer and Communi
 cation Devices (ICCCD 2014)
URL:http://www.wikicfp.com/cfp/servlet/event.showcfp?eventid=34575&copyow
 nerid=62944
UID:cfp435804-N@wikicfp.com
END:VEVENT
BEGIN:VEVENT
DTSTAMP:20260422T020659Z
DTSTART;VALUE=DATE:20141107
DTEND;VALUE=DATE:20141110
SUMMARY:ICCTD 2014
DESCRIPTION:2014 6th International Conference on Computer Technology and 
 Development
URL:http://www.wikicfp.com/cfp/servlet/event.showcfp?eventid=36641&copyow
 nerid=62944
UID:cfp435809-E@wikicfp.com
END:VEVENT
BEGIN:VEVENT
DTSTAMP:20260422T020659Z
DTSTART;VALUE=DATE:20140820
SUMMARY:ICCTD 2014 Deadline
DESCRIPTION:2014 6th International Conference on Computer Technology and 
 Development
URL:http://www.wikicfp.com/cfp/servlet/event.showcfp?eventid=36641&copyow
 nerid=62944
UID:cfp435809-D@wikicfp.com
END:VEVENT
BEGIN:VEVENT
DTSTAMP:20260422T020659Z
DTSTART;VALUE=DATE:20140910
SUMMARY:ICCTD 2014 Notification Due
DESCRIPTION:2014 6th International Conference on Computer Technology and 
 Development
URL:http://www.wikicfp.com/cfp/servlet/event.showcfp?eventid=36641&copyow
 nerid=62944
UID:cfp435809-N@wikicfp.com
END:VEVENT
BEGIN:VEVENT
DTSTAMP:20260422T020659Z
DTSTART;VALUE=DATE:20140925
SUMMARY:ICCTD 2014 Final Version Due
DESCRIPTION:2014 6th International Conference on Computer Technology and 
 Development
URL:http://www.wikicfp.com/cfp/servlet/event.showcfp?eventid=36641&copyow
 nerid=62944
UID:cfp435809-N@wikicfp.com
END:VEVENT
END:VCALENDAR
