BEGIN:VCALENDAR
PRODID:-//WikiCFP//mohamedeltaweel 1.0//EN
VERSION:2.0
CALSCALE:GREGORIAN
BEGIN:VEVENT
DTSTAMP:20260423T132146Z
DTSTART;VALUE=DATE:20160115
DTEND;VALUE=DATE:20160302
SUMMARY:FoSec 2016
DESCRIPTION:Call for Book Chapters in Innovation in Multimedia Forensics 
 and Security: Theory and Practice
URL:http://www.wikicfp.com/cfp/servlet/event.showcfp?eventid=50778&copyow
 nerid=62858
UID:cfp573725-E@wikicfp.com
END:VEVENT
BEGIN:VEVENT
DTSTAMP:20260423T132146Z
DTSTART;VALUE=DATE:20150420
DTEND;VALUE=DATE:20150423
SUMMARY:MaLOTA 2015
DESCRIPTION:Machine Learning and Optimization: Trends and Applications
URL:http://www.wikicfp.com/cfp/servlet/event.showcfp?eventid=42675&copyow
 nerid=62858
UID:cfp495922-E@wikicfp.com
END:VEVENT
BEGIN:VEVENT
DTSTAMP:20260423T132146Z
DTSTART;VALUE=DATE:20150228
SUMMARY:MaLOTA 2015 Deadline
DESCRIPTION:Machine Learning and Optimization: Trends and Applications
URL:http://www.wikicfp.com/cfp/servlet/event.showcfp?eventid=42675&copyow
 nerid=62858
UID:cfp495922-D@wikicfp.com
END:VEVENT
BEGIN:VEVENT
DTSTAMP:20260423T132146Z
DTSTART;VALUE=DATE:20150307
SUMMARY:MaLOTA 2015 Notification Due
DESCRIPTION:Machine Learning and Optimization: Trends and Applications
URL:http://www.wikicfp.com/cfp/servlet/event.showcfp?eventid=42675&copyow
 nerid=62858
UID:cfp495922-N@wikicfp.com
END:VEVENT
BEGIN:VEVENT
DTSTAMP:20260423T132146Z
DTSTART;VALUE=DATE:20150315
SUMMARY:MaLOTA 2015 Final Version Due
DESCRIPTION:Machine Learning and Optimization: Trends and Applications
URL:http://www.wikicfp.com/cfp/servlet/event.showcfp?eventid=42675&copyow
 nerid=62858
UID:cfp495922-N@wikicfp.com
END:VEVENT
BEGIN:VEVENT
DTSTAMP:20260423T132146Z
DTSTART;VALUE=DATE:20200206
DTEND;VALUE=DATE:20200208
SUMMARY:AICO 2020
DESCRIPTION:The First Arab Informatics Conference in Oncology
URL:http://www.wikicfp.com/cfp/servlet/event.showcfp?eventid=97771&copyow
 nerid=62858
UID:cfp820632-E@wikicfp.com
END:VEVENT
BEGIN:VEVENT
DTSTAMP:20260423T132146Z
DTSTART;VALUE=DATE:20191130
SUMMARY:AICO 2020 Abstract Due
DESCRIPTION:The First Arab Informatics Conference in Oncology
URL:http://www.wikicfp.com/cfp/servlet/event.showcfp?eventid=97771&copyow
 nerid=62858
UID:cfp820632-A@wikicfp.com
END:VEVENT
BEGIN:VEVENT
DTSTAMP:20260423T132146Z
DTSTART;VALUE=DATE:20200120
SUMMARY:AICO 2020 Deadline
DESCRIPTION:The First Arab Informatics Conference in Oncology
URL:http://www.wikicfp.com/cfp/servlet/event.showcfp?eventid=97771&copyow
 nerid=62858
UID:cfp820632-D@wikicfp.com
END:VEVENT
BEGIN:VEVENT
DTSTAMP:20260423T132146Z
DTSTART;VALUE=DATE:20200125
SUMMARY:AICO 2020 Notification Due
DESCRIPTION:The First Arab Informatics Conference in Oncology
URL:http://www.wikicfp.com/cfp/servlet/event.showcfp?eventid=97771&copyow
 nerid=62858
UID:cfp820632-N@wikicfp.com
END:VEVENT
BEGIN:VEVENT
DTSTAMP:20260423T132146Z
DTSTART;VALUE=DATE:20200130
SUMMARY:AICO 2020 Final Version Due
DESCRIPTION:The First Arab Informatics Conference in Oncology
URL:http://www.wikicfp.com/cfp/servlet/event.showcfp?eventid=97771&copyow
 nerid=62858
UID:cfp820632-N@wikicfp.com
END:VEVENT
END:VCALENDAR
