BEGIN:VCALENDAR
PRODID:-//WikiCFP//profsoheil 1.0//EN
VERSION:2.0
CALSCALE:GREGORIAN
BEGIN:VEVENT
DTSTAMP:20260421T011558Z
DTSTART;VALUE=DATE:20150413
DTEND;VALUE=DATE:20150417
SUMMARY:ICDE 2015
DESCRIPTION:International Conference on Data Engineering
URL:http://www.wikicfp.com/cfp/servlet/event.showcfp?eventid=38254&copyow
 nerid=62161
UID:cfp525168-E@wikicfp.com
END:VEVENT
BEGIN:VEVENT
DTSTAMP:20260421T011558Z
DTSTART;VALUE=DATE:20140729
SUMMARY:ICDE 2015 Abstract Due
DESCRIPTION:International Conference on Data Engineering
URL:http://www.wikicfp.com/cfp/servlet/event.showcfp?eventid=38254&copyow
 nerid=62161
UID:cfp525168-A@wikicfp.com
END:VEVENT
BEGIN:VEVENT
DTSTAMP:20260421T011558Z
DTSTART;VALUE=DATE:20140805
SUMMARY:ICDE 2015 Deadline
DESCRIPTION:International Conference on Data Engineering
URL:http://www.wikicfp.com/cfp/servlet/event.showcfp?eventid=38254&copyow
 nerid=62161
UID:cfp525168-D@wikicfp.com
END:VEVENT
BEGIN:VEVENT
DTSTAMP:20260421T011558Z
DTSTART;VALUE=DATE:20141017
SUMMARY:ICDE 2015 Notification Due
DESCRIPTION:International Conference on Data Engineering
URL:http://www.wikicfp.com/cfp/servlet/event.showcfp?eventid=38254&copyow
 nerid=62161
UID:cfp525168-N@wikicfp.com
END:VEVENT
BEGIN:VEVENT
DTSTAMP:20260421T011558Z
DTSTART;VALUE=DATE:20141128
SUMMARY:ICDE 2015 Final Version Due
DESCRIPTION:International Conference on Data Engineering
URL:http://www.wikicfp.com/cfp/servlet/event.showcfp?eventid=38254&copyow
 nerid=62161
UID:cfp525168-N@wikicfp.com
END:VEVENT
BEGIN:VEVENT
DTSTAMP:20260421T011558Z
DTSTART;VALUE=DATE:20150309
DTEND;VALUE=DATE:20150313
SUMMARY:IC2E 2015
DESCRIPTION:IEEE International Conference on Cloud Engineering
URL:http://www.wikicfp.com/cfp/servlet/event.showcfp?eventid=43674&copyow
 nerid=62161
UID:cfp525172-E@wikicfp.com
END:VEVENT
BEGIN:VEVENT
DTSTAMP:20260421T011558Z
DTSTART;VALUE=DATE:20140914
SUMMARY:IC2E 2015 Deadline
DESCRIPTION:IEEE International Conference on Cloud Engineering
URL:http://www.wikicfp.com/cfp/servlet/event.showcfp?eventid=43674&copyow
 nerid=62161
UID:cfp525172-D@wikicfp.com
END:VEVENT
BEGIN:VEVENT
DTSTAMP:20260421T011558Z
DTSTART;VALUE=DATE:20141205
SUMMARY:IC2E 2015 Notification Due
DESCRIPTION:IEEE International Conference on Cloud Engineering
URL:http://www.wikicfp.com/cfp/servlet/event.showcfp?eventid=43674&copyow
 nerid=62161
UID:cfp525172-N@wikicfp.com
END:VEVENT
BEGIN:VEVENT
DTSTAMP:20260421T011558Z
DTSTART;VALUE=DATE:20150112
SUMMARY:IC2E 2015 Final Version Due
DESCRIPTION:IEEE International Conference on Cloud Engineering
URL:http://www.wikicfp.com/cfp/servlet/event.showcfp?eventid=43674&copyow
 nerid=62161
UID:cfp525172-N@wikicfp.com
END:VEVENT
BEGIN:VEVENT
DTSTAMP:20260421T011558Z
DTSTART;VALUE=DATE:20150531
DTEND;VALUE=DATE:20150605
SUMMARY:SIGMOD 2015
DESCRIPTION:International Conference on Management of Data
URL:http://www.wikicfp.com/cfp/servlet/event.showcfp?eventid=37140&copyow
 nerid=62161
UID:cfp525170-E@wikicfp.com
END:VEVENT
BEGIN:VEVENT
DTSTAMP:20260421T011558Z
DTSTART;VALUE=DATE:20141030
SUMMARY:SIGMOD 2015 Abstract Due
DESCRIPTION:International Conference on Management of Data
URL:http://www.wikicfp.com/cfp/servlet/event.showcfp?eventid=37140&copyow
 nerid=62161
UID:cfp525170-A@wikicfp.com
END:VEVENT
BEGIN:VEVENT
DTSTAMP:20260421T011558Z
DTSTART;VALUE=DATE:20141106
SUMMARY:SIGMOD 2015 Deadline
DESCRIPTION:International Conference on Management of Data
URL:http://www.wikicfp.com/cfp/servlet/event.showcfp?eventid=37140&copyow
 nerid=62161
UID:cfp525170-D@wikicfp.com
END:VEVENT
BEGIN:VEVENT
DTSTAMP:20260421T011558Z
DTSTART;VALUE=DATE:20140112
SUMMARY:SIGMOD 2015 Notification Due
DESCRIPTION:International Conference on Management of Data
URL:http://www.wikicfp.com/cfp/servlet/event.showcfp?eventid=37140&copyow
 nerid=62161
UID:cfp525170-N@wikicfp.com
END:VEVENT
BEGIN:VEVENT
DTSTAMP:20260421T011558Z
DTSTART;VALUE=DATE:20140329
SUMMARY:SIGMOD 2015 Final Version Due
DESCRIPTION:International Conference on Management of Data
URL:http://www.wikicfp.com/cfp/servlet/event.showcfp?eventid=37140&copyow
 nerid=62161
UID:cfp525170-N@wikicfp.com
END:VEVENT
BEGIN:VEVENT
DTSTAMP:20260421T011558Z
DTSTART;VALUE=DATE:20150623
DTEND;VALUE=DATE:20150627
SUMMARY:ICWE 2015
DESCRIPTION:15th International Conference on Web Engineering
URL:http://www.wikicfp.com/cfp/servlet/event.showcfp?eventid=43025&copyow
 nerid=62161
UID:cfp525171-E@wikicfp.com
END:VEVENT
BEGIN:VEVENT
DTSTAMP:20260421T011558Z
DTSTART;VALUE=DATE:20150205
SUMMARY:ICWE 2015 Abstract Due
DESCRIPTION:15th International Conference on Web Engineering
URL:http://www.wikicfp.com/cfp/servlet/event.showcfp?eventid=43025&copyow
 nerid=62161
UID:cfp525171-A@wikicfp.com
END:VEVENT
BEGIN:VEVENT
DTSTAMP:20260421T011558Z
DTSTART;VALUE=DATE:20150209
SUMMARY:ICWE 2015 Deadline
DESCRIPTION:15th International Conference on Web Engineering
URL:http://www.wikicfp.com/cfp/servlet/event.showcfp?eventid=43025&copyow
 nerid=62161
UID:cfp525171-D@wikicfp.com
END:VEVENT
BEGIN:VEVENT
DTSTAMP:20260421T011558Z
DTSTART;VALUE=DATE:20150320
SUMMARY:ICWE 2015 Notification Due
DESCRIPTION:15th International Conference on Web Engineering
URL:http://www.wikicfp.com/cfp/servlet/event.showcfp?eventid=43025&copyow
 nerid=62161
UID:cfp525171-N@wikicfp.com
END:VEVENT
BEGIN:VEVENT
DTSTAMP:20260421T011558Z
DTSTART;VALUE=DATE:20150410
SUMMARY:ICWE 2015 Final Version Due
DESCRIPTION:15th International Conference on Web Engineering
URL:http://www.wikicfp.com/cfp/servlet/event.showcfp?eventid=43025&copyow
 nerid=62161
UID:cfp525171-N@wikicfp.com
END:VEVENT
BEGIN:VEVENT
DTSTAMP:20260421T011558Z
DTSTART;VALUE=DATE:20150810
DTEND;VALUE=DATE:20150814
SUMMARY:KDD 2015
DESCRIPTION:21th ACM SIGKDD Conference on Knowledge Discovery and Data Mi
 ning
URL:http://www.wikicfp.com/cfp/servlet/event.showcfp?eventid=40581&copyow
 nerid=62161
UID:cfp525173-E@wikicfp.com
END:VEVENT
BEGIN:VEVENT
DTSTAMP:20260421T011558Z
DTSTART;VALUE=DATE:20150220
SUMMARY:KDD 2015 Deadline
DESCRIPTION:21th ACM SIGKDD Conference on Knowledge Discovery and Data Mi
 ning
URL:http://www.wikicfp.com/cfp/servlet/event.showcfp?eventid=40581&copyow
 nerid=62161
UID:cfp525173-D@wikicfp.com
END:VEVENT
BEGIN:VEVENT
DTSTAMP:20260421T011558Z
DTSTART;VALUE=DATE:20150512
SUMMARY:KDD 2015 Notification Due
DESCRIPTION:21th ACM SIGKDD Conference on Knowledge Discovery and Data Mi
 ning
URL:http://www.wikicfp.com/cfp/servlet/event.showcfp?eventid=40581&copyow
 nerid=62161
UID:cfp525173-N@wikicfp.com
END:VEVENT
BEGIN:VEVENT
DTSTAMP:20260421T011558Z
DTSTART;VALUE=DATE:20150627
DTEND;VALUE=DATE:20150703
SUMMARY:BigData 2015
DESCRIPTION:4th International Congress on Big Data
URL:http://www.wikicfp.com/cfp/servlet/event.showcfp?eventid=42817&copyow
 nerid=62161
UID:cfp525175-E@wikicfp.com
END:VEVENT
BEGIN:VEVENT
DTSTAMP:20260421T011558Z
DTSTART;VALUE=DATE:20150210
SUMMARY:BigData 2015 Abstract Due
DESCRIPTION:4th International Congress on Big Data
URL:http://www.wikicfp.com/cfp/servlet/event.showcfp?eventid=42817&copyow
 nerid=62161
UID:cfp525175-A@wikicfp.com
END:VEVENT
BEGIN:VEVENT
DTSTAMP:20260421T011558Z
DTSTART;VALUE=DATE:20150224
SUMMARY:BigData 2015 Deadline
DESCRIPTION:4th International Congress on Big Data
URL:http://www.wikicfp.com/cfp/servlet/event.showcfp?eventid=42817&copyow
 nerid=62161
UID:cfp525175-D@wikicfp.com
END:VEVENT
BEGIN:VEVENT
DTSTAMP:20260421T011558Z
DTSTART;VALUE=DATE:20150324
SUMMARY:BigData 2015 Notification Due
DESCRIPTION:4th International Congress on Big Data
URL:http://www.wikicfp.com/cfp/servlet/event.showcfp?eventid=42817&copyow
 nerid=62161
UID:cfp525175-N@wikicfp.com
END:VEVENT
BEGIN:VEVENT
DTSTAMP:20260421T011558Z
DTSTART;VALUE=DATE:20150414
SUMMARY:BigData 2015 Final Version Due
DESCRIPTION:4th International Congress on Big Data
URL:http://www.wikicfp.com/cfp/servlet/event.showcfp?eventid=42817&copyow
 nerid=62161
UID:cfp525175-N@wikicfp.com
END:VEVENT
BEGIN:VEVENT
DTSTAMP:20260421T011558Z
DTSTART;VALUE=DATE:20150921
DTEND;VALUE=DATE:20150926
SUMMARY:EDOC 2015
DESCRIPTION:IEEE EDOC 2015 conference
URL:http://www.wikicfp.com/cfp/servlet/event.showcfp?eventid=42606&copyow
 nerid=62161
UID:cfp525169-E@wikicfp.com
END:VEVENT
BEGIN:VEVENT
DTSTAMP:20260421T011558Z
DTSTART;VALUE=DATE:20150404
SUMMARY:EDOC 2015 Abstract Due
DESCRIPTION:IEEE EDOC 2015 conference
URL:http://www.wikicfp.com/cfp/servlet/event.showcfp?eventid=42606&copyow
 nerid=62161
UID:cfp525169-A@wikicfp.com
END:VEVENT
BEGIN:VEVENT
DTSTAMP:20260421T011558Z
DTSTART;VALUE=DATE:20150411
SUMMARY:EDOC 2015 Deadline
DESCRIPTION:IEEE EDOC 2015 conference
URL:http://www.wikicfp.com/cfp/servlet/event.showcfp?eventid=42606&copyow
 nerid=62161
UID:cfp525169-D@wikicfp.com
END:VEVENT
BEGIN:VEVENT
DTSTAMP:20260421T011558Z
DTSTART;VALUE=DATE:20150604
SUMMARY:EDOC 2015 Notification Due
DESCRIPTION:IEEE EDOC 2015 conference
URL:http://www.wikicfp.com/cfp/servlet/event.showcfp?eventid=42606&copyow
 nerid=62161
UID:cfp525169-N@wikicfp.com
END:VEVENT
BEGIN:VEVENT
DTSTAMP:20260421T011558Z
DTSTART;VALUE=DATE:20150704
SUMMARY:EDOC 2015 Final Version Due
DESCRIPTION:IEEE EDOC 2015 conference
URL:http://www.wikicfp.com/cfp/servlet/event.showcfp?eventid=42606&copyow
 nerid=62161
UID:cfp525169-N@wikicfp.com
END:VEVENT
BEGIN:VEVENT
DTSTAMP:20260421T011558Z
DTSTART;VALUE=DATE:20150610
DTEND;VALUE=DATE:20150613
SUMMARY:Cloudification IoT 2015
DESCRIPTION:Cloudification of the Internet of Things
URL:http://www.wikicfp.com/cfp/servlet/event.showcfp?eventid=44770&copyow
 nerid=62161
UID:cfp525153-E@wikicfp.com
END:VEVENT
BEGIN:VEVENT
DTSTAMP:20260421T011558Z
DTSTART;VALUE=DATE:20150430
SUMMARY:Cloudification IoT 2015 Deadline
DESCRIPTION:Cloudification of the Internet of Things
URL:http://www.wikicfp.com/cfp/servlet/event.showcfp?eventid=44770&copyow
 nerid=62161
UID:cfp525153-D@wikicfp.com
END:VEVENT
BEGIN:VEVENT
DTSTAMP:20260421T011558Z
DTSTART;VALUE=DATE:20150530
SUMMARY:Cloudification IoT 2015 Notification Due
DESCRIPTION:Cloudification of the Internet of Things
URL:http://www.wikicfp.com/cfp/servlet/event.showcfp?eventid=44770&copyow
 nerid=62161
UID:cfp525153-N@wikicfp.com
END:VEVENT
BEGIN:VEVENT
DTSTAMP:20260421T011558Z
DTSTART;VALUE=DATE:20150601
SUMMARY:Cloudification IoT 2015 Final Version Due
DESCRIPTION:Cloudification of the Internet of Things
URL:http://www.wikicfp.com/cfp/servlet/event.showcfp?eventid=44770&copyow
 nerid=62161
UID:cfp525153-N@wikicfp.com
END:VEVENT
BEGIN:VEVENT
DTSTAMP:20260421T011558Z
DTSTART;VALUE=DATE:20151026
DTEND;VALUE=DATE:20151029
SUMMARY:IOT 2015
DESCRIPTION:The International Conference on the Internet of Things 2015
URL:http://www.wikicfp.com/cfp/servlet/event.showcfp?eventid=43834&copyow
 nerid=62161
UID:cfp525155-E@wikicfp.com
END:VEVENT
BEGIN:VEVENT
DTSTAMP:20260421T011558Z
DTSTART;VALUE=DATE:20150504
SUMMARY:IOT 2015 Deadline
DESCRIPTION:The International Conference on the Internet of Things 2015
URL:http://www.wikicfp.com/cfp/servlet/event.showcfp?eventid=43834&copyow
 nerid=62161
UID:cfp525155-D@wikicfp.com
END:VEVENT
BEGIN:VEVENT
DTSTAMP:20260421T011558Z
DTSTART;VALUE=DATE:20150706
SUMMARY:IOT 2015 Notification Due
DESCRIPTION:The International Conference on the Internet of Things 2015
URL:http://www.wikicfp.com/cfp/servlet/event.showcfp?eventid=43834&copyow
 nerid=62161
UID:cfp525155-N@wikicfp.com
END:VEVENT
BEGIN:VEVENT
DTSTAMP:20260421T011558Z
DTSTART;VALUE=DATE:20150731
SUMMARY:IOT 2015 Final Version Due
DESCRIPTION:The International Conference on the Internet of Things 2015
URL:http://www.wikicfp.com/cfp/servlet/event.showcfp?eventid=43834&copyow
 nerid=62161
UID:cfp525155-N@wikicfp.com
END:VEVENT
BEGIN:VEVENT
DTSTAMP:20260421T011558Z
DTSTART;VALUE=DATE:20150907
DTEND;VALUE=DATE:20150908
SUMMARY: SMARTOBJECTS  2015
DESCRIPTION: SMARTOBJECTS 2015 (MobiCom 2015 Workshop) & ACM/Springer MON
 E SI
URL:http://www.wikicfp.com/cfp/servlet/event.showcfp?eventid=45640&copyow
 nerid=62161
UID:cfp525157-E@wikicfp.com
END:VEVENT
BEGIN:VEVENT
DTSTAMP:20260421T011558Z
DTSTART;VALUE=DATE:20150510
SUMMARY: SMARTOBJECTS  2015 Deadline
DESCRIPTION: SMARTOBJECTS 2015 (MobiCom 2015 Workshop) & ACM/Springer MON
 E SI
URL:http://www.wikicfp.com/cfp/servlet/event.showcfp?eventid=45640&copyow
 nerid=62161
UID:cfp525157-D@wikicfp.com
END:VEVENT
BEGIN:VEVENT
DTSTAMP:20260421T011558Z
DTSTART;VALUE=DATE:20150605
SUMMARY: SMARTOBJECTS  2015 Notification Due
DESCRIPTION: SMARTOBJECTS 2015 (MobiCom 2015 Workshop) & ACM/Springer MON
 E SI
URL:http://www.wikicfp.com/cfp/servlet/event.showcfp?eventid=45640&copyow
 nerid=62161
UID:cfp525157-N@wikicfp.com
END:VEVENT
BEGIN:VEVENT
DTSTAMP:20260421T011558Z
DTSTART;VALUE=DATE:20150626
SUMMARY: SMARTOBJECTS  2015 Final Version Due
DESCRIPTION: SMARTOBJECTS 2015 (MobiCom 2015 Workshop) & ACM/Springer MON
 E SI
URL:http://www.wikicfp.com/cfp/servlet/event.showcfp?eventid=45640&copyow
 nerid=62161
UID:cfp525157-N@wikicfp.com
END:VEVENT
BEGIN:VEVENT
DTSTAMP:20260421T011558Z
DTSTART;VALUE=DATE:20151116
DTEND;VALUE=DATE:20151120
SUMMARY:ICSOC 2015
DESCRIPTION:International Conference on Service Oriented Computing
URL:http://www.wikicfp.com/cfp/servlet/event.showcfp?eventid=44827&copyow
 nerid=62161
UID:cfp525161-E@wikicfp.com
END:VEVENT
BEGIN:VEVENT
DTSTAMP:20260421T011558Z
DTSTART;VALUE=DATE:20150504
SUMMARY:ICSOC 2015 Abstract Due
DESCRIPTION:International Conference on Service Oriented Computing
URL:http://www.wikicfp.com/cfp/servlet/event.showcfp?eventid=44827&copyow
 nerid=62161
UID:cfp525161-A@wikicfp.com
END:VEVENT
BEGIN:VEVENT
DTSTAMP:20260421T011558Z
DTSTART;VALUE=DATE:20150511
SUMMARY:ICSOC 2015 Deadline
DESCRIPTION:International Conference on Service Oriented Computing
URL:http://www.wikicfp.com/cfp/servlet/event.showcfp?eventid=44827&copyow
 nerid=62161
UID:cfp525161-D@wikicfp.com
END:VEVENT
BEGIN:VEVENT
DTSTAMP:20260421T011558Z
DTSTART;VALUE=DATE:20150701
SUMMARY:ICSOC 2015 Notification Due
DESCRIPTION:International Conference on Service Oriented Computing
URL:http://www.wikicfp.com/cfp/servlet/event.showcfp?eventid=44827&copyow
 nerid=62161
UID:cfp525161-N@wikicfp.com
END:VEVENT
BEGIN:VEVENT
DTSTAMP:20260421T011558Z
DTSTART;VALUE=DATE:20150715
SUMMARY:ICSOC 2015 Final Version Due
DESCRIPTION:International Conference on Service Oriented Computing
URL:http://www.wikicfp.com/cfp/servlet/event.showcfp?eventid=44827&copyow
 nerid=62161
UID:cfp525161-N@wikicfp.com
END:VEVENT
BEGIN:VEVENT
DTSTAMP:20260421T011558Z
DTSTART;VALUE=DATE:20150915
DTEND;VALUE=DATE:20150918
SUMMARY:ESOCC 2015
DESCRIPTION:European Conference on Service-Oriented and Cloud Computing
URL:http://www.wikicfp.com/cfp/servlet/event.showcfp?eventid=44507&copyow
 nerid=62161
UID:cfp525160-E@wikicfp.com
END:VEVENT
BEGIN:VEVENT
DTSTAMP:20260421T011558Z
DTSTART;VALUE=DATE:20150515
SUMMARY:ESOCC 2015 Deadline
DESCRIPTION:European Conference on Service-Oriented and Cloud Computing
URL:http://www.wikicfp.com/cfp/servlet/event.showcfp?eventid=44507&copyow
 nerid=62161
UID:cfp525160-D@wikicfp.com
END:VEVENT
BEGIN:VEVENT
DTSTAMP:20260421T011558Z
DTSTART;VALUE=DATE:20150619
SUMMARY:ESOCC 2015 Notification Due
DESCRIPTION:European Conference on Service-Oriented and Cloud Computing
URL:http://www.wikicfp.com/cfp/servlet/event.showcfp?eventid=44507&copyow
 nerid=62161
UID:cfp525160-N@wikicfp.com
END:VEVENT
BEGIN:VEVENT
DTSTAMP:20260421T011558Z
DTSTART;VALUE=DATE:20150626
SUMMARY:ESOCC 2015 Final Version Due
DESCRIPTION:European Conference on Service-Oriented and Cloud Computing
URL:http://www.wikicfp.com/cfp/servlet/event.showcfp?eventid=44507&copyow
 nerid=62161
UID:cfp525160-N@wikicfp.com
END:VEVENT
BEGIN:VEVENT
DTSTAMP:20260421T011558Z
DTSTART;VALUE=DATE:20150915
DTEND;VALUE=DATE:20150918
SUMMARY:GECON 2015
DESCRIPTION:12th International Conference on Economics of Grids\, Clouds\
 , Systems\, and Services
URL:http://www.wikicfp.com/cfp/servlet/event.showcfp?eventid=41738&copyow
 nerid=62161
UID:cfp525158-E@wikicfp.com
END:VEVENT
BEGIN:VEVENT
DTSTAMP:20260421T011558Z
DTSTART;VALUE=DATE:20150525
SUMMARY:GECON 2015 Deadline
DESCRIPTION:12th International Conference on Economics of Grids\, Clouds\
 , Systems\, and Services
URL:http://www.wikicfp.com/cfp/servlet/event.showcfp?eventid=41738&copyow
 nerid=62161
UID:cfp525158-D@wikicfp.com
END:VEVENT
BEGIN:VEVENT
DTSTAMP:20260421T011558Z
DTSTART;VALUE=DATE:20150622
SUMMARY:GECON 2015 Notification Due
DESCRIPTION:12th International Conference on Economics of Grids\, Clouds\
 , Systems\, and Services
URL:http://www.wikicfp.com/cfp/servlet/event.showcfp?eventid=41738&copyow
 nerid=62161
UID:cfp525158-N@wikicfp.com
END:VEVENT
BEGIN:VEVENT
DTSTAMP:20260421T011558Z
DTSTART;VALUE=DATE:20150715
SUMMARY:GECON 2015 Final Version Due
DESCRIPTION:12th International Conference on Economics of Grids\, Clouds\
 , Systems\, and Services
URL:http://www.wikicfp.com/cfp/servlet/event.showcfp?eventid=41738&copyow
 nerid=62161
UID:cfp525158-N@wikicfp.com
END:VEVENT
BEGIN:VEVENT
DTSTAMP:20260421T011558Z
DTSTART;VALUE=DATE:20151214
DTEND;VALUE=DATE:20151217
SUMMARY:WF-IoT 2015
DESCRIPTION:2nd IEEE World Forum on Internet of Things 
URL:http://www.wikicfp.com/cfp/servlet/event.showcfp?eventid=44644&copyow
 nerid=62161
UID:cfp525154-E@wikicfp.com
END:VEVENT
BEGIN:VEVENT
DTSTAMP:20260421T011558Z
DTSTART;VALUE=DATE:20150615
SUMMARY:WF-IoT 2015 Deadline
DESCRIPTION:2nd IEEE World Forum on Internet of Things 
URL:http://www.wikicfp.com/cfp/servlet/event.showcfp?eventid=44644&copyow
 nerid=62161
UID:cfp525154-D@wikicfp.com
END:VEVENT
BEGIN:VEVENT
DTSTAMP:20260421T011558Z
DTSTART;VALUE=DATE:20150915
SUMMARY:WF-IoT 2015 Notification Due
DESCRIPTION:2nd IEEE World Forum on Internet of Things 
URL:http://www.wikicfp.com/cfp/servlet/event.showcfp?eventid=44644&copyow
 nerid=62161
UID:cfp525154-N@wikicfp.com
END:VEVENT
BEGIN:VEVENT
DTSTAMP:20260421T011558Z
DTSTART;VALUE=DATE:20131031
SUMMARY:WF-IoT 2015 Final Version Due
DESCRIPTION:2nd IEEE World Forum on Internet of Things 
URL:http://www.wikicfp.com/cfp/servlet/event.showcfp?eventid=44644&copyow
 nerid=62161
UID:cfp525154-N@wikicfp.com
END:VEVENT
BEGIN:VEVENT
DTSTAMP:20260421T011558Z
DTSTART;VALUE=DATE:20151130
DTEND;VALUE=DATE:20151204
SUMMARY:CloudCom 2015
DESCRIPTION:7th IEEE International Conference on Cloud Computing Technolo
 gy and Science
URL:http://www.wikicfp.com/cfp/servlet/event.showcfp?eventid=45000&copyow
 nerid=62161
UID:cfp525159-E@wikicfp.com
END:VEVENT
BEGIN:VEVENT
DTSTAMP:20260421T011558Z
DTSTART;VALUE=DATE:20150615
SUMMARY:CloudCom 2015 Deadline
DESCRIPTION:7th IEEE International Conference on Cloud Computing Technolo
 gy and Science
URL:http://www.wikicfp.com/cfp/servlet/event.showcfp?eventid=45000&copyow
 nerid=62161
UID:cfp525159-D@wikicfp.com
END:VEVENT
BEGIN:VEVENT
DTSTAMP:20260421T011558Z
DTSTART;VALUE=DATE:20150815
SUMMARY:CloudCom 2015 Notification Due
DESCRIPTION:7th IEEE International Conference on Cloud Computing Technolo
 gy and Science
URL:http://www.wikicfp.com/cfp/servlet/event.showcfp?eventid=45000&copyow
 nerid=62161
UID:cfp525159-N@wikicfp.com
END:VEVENT
BEGIN:VEVENT
DTSTAMP:20260421T011558Z
DTSTART;VALUE=DATE:20150915
SUMMARY:CloudCom 2015 Final Version Due
DESCRIPTION:7th IEEE International Conference on Cloud Computing Technolo
 gy and Science
URL:http://www.wikicfp.com/cfp/servlet/event.showcfp?eventid=45000&copyow
 nerid=62161
UID:cfp525159-N@wikicfp.com
END:VEVENT
BEGIN:VEVENT
DTSTAMP:20260421T011558Z
DTSTART;VALUE=DATE:20151029
DTEND;VALUE=DATE:20151102
SUMMARY:IEEE BigData 2015
DESCRIPTION:2015 IEEE International Conference on Big Data
URL:http://www.wikicfp.com/cfp/servlet/event.showcfp?eventid=44457&copyow
 nerid=62161
UID:cfp525174-E@wikicfp.com
END:VEVENT
BEGIN:VEVENT
DTSTAMP:20260421T011558Z
DTSTART;VALUE=DATE:20150701
SUMMARY:IEEE BigData 2015 Deadline
DESCRIPTION:2015 IEEE International Conference on Big Data
URL:http://www.wikicfp.com/cfp/servlet/event.showcfp?eventid=44457&copyow
 nerid=62161
UID:cfp525174-D@wikicfp.com
END:VEVENT
BEGIN:VEVENT
DTSTAMP:20260421T011558Z
DTSTART;VALUE=DATE:20150904
SUMMARY:IEEE BigData 2015 Notification Due
DESCRIPTION:2015 IEEE International Conference on Big Data
URL:http://www.wikicfp.com/cfp/servlet/event.showcfp?eventid=44457&copyow
 nerid=62161
UID:cfp525174-N@wikicfp.com
END:VEVENT
BEGIN:VEVENT
DTSTAMP:20260421T011558Z
DTSTART;VALUE=DATE:20150925
SUMMARY:IEEE BigData 2015 Final Version Due
DESCRIPTION:2015 IEEE International Conference on Big Data
URL:http://www.wikicfp.com/cfp/servlet/event.showcfp?eventid=44457&copyow
 nerid=62161
UID:cfp525174-N@wikicfp.com
END:VEVENT
BEGIN:VEVENT
DTSTAMP:20260421T011558Z
DTSTART;VALUE=DATE:20151211
DTEND;VALUE=DATE:20151214
SUMMARY:iThings 2015
DESCRIPTION:The 8th IEEE International Conference on Internet of Things
URL:http://www.wikicfp.com/cfp/servlet/event.showcfp?eventid=47508&copyow
 nerid=62161
UID:cfp541077-E@wikicfp.com
END:VEVENT
BEGIN:VEVENT
DTSTAMP:20260421T011558Z
DTSTART;VALUE=DATE:20150831
SUMMARY:iThings 2015 Deadline
DESCRIPTION:The 8th IEEE International Conference on Internet of Things
URL:http://www.wikicfp.com/cfp/servlet/event.showcfp?eventid=47508&copyow
 nerid=62161
UID:cfp541077-D@wikicfp.com
END:VEVENT
BEGIN:VEVENT
DTSTAMP:20260421T011558Z
DTSTART;VALUE=DATE:20150925
SUMMARY:iThings 2015 Notification Due
DESCRIPTION:The 8th IEEE International Conference on Internet of Things
URL:http://www.wikicfp.com/cfp/servlet/event.showcfp?eventid=47508&copyow
 nerid=62161
UID:cfp541077-N@wikicfp.com
END:VEVENT
BEGIN:VEVENT
DTSTAMP:20260421T011558Z
DTSTART;VALUE=DATE:20151015
SUMMARY:iThings 2015 Final Version Due
DESCRIPTION:The 8th IEEE International Conference on Internet of Things
URL:http://www.wikicfp.com/cfp/servlet/event.showcfp?eventid=47508&copyow
 nerid=62161
UID:cfp541077-N@wikicfp.com
END:VEVENT
END:VCALENDAR
