BEGIN:VCALENDAR
PRODID:-//WikiCFP//Liuberte 1.0//EN
VERSION:2.0
CALSCALE:GREGORIAN
BEGIN:VEVENT
DTSTAMP:20260420T174631Z
DTSTART;VALUE=DATE:20130911
DTEND;VALUE=DATE:20130913
SUMMARY:IICM 2013
DESCRIPTION:5th International Conference on Intellectual Capital Manageme
 nt 
URL:http://www.wikicfp.com/cfp/servlet/event.showcfp?eventid=32039&copyow
 nerid=62060
UID:cfp429244-E@wikicfp.com
END:VEVENT
BEGIN:VEVENT
DTSTAMP:20260420T174631Z
DTSTART;VALUE=DATE:20130901
SUMMARY:IICM 2013 Deadline
DESCRIPTION:5th International Conference on Intellectual Capital Manageme
 nt 
URL:http://www.wikicfp.com/cfp/servlet/event.showcfp?eventid=32039&copyow
 nerid=62060
UID:cfp429244-D@wikicfp.com
END:VEVENT
BEGIN:VEVENT
DTSTAMP:20260420T174631Z
DTSTART;VALUE=DATE:20140611
DTEND;VALUE=DATE:20140614
SUMMARY:IFKAD 2014
DESCRIPTION:Knowledge and Management Models for Sustainable Growth
URL:http://www.wikicfp.com/cfp/servlet/event.showcfp?eventid=33354&copyow
 nerid=62060
UID:cfp429243-E@wikicfp.com
END:VEVENT
BEGIN:VEVENT
DTSTAMP:20260420T174631Z
DTSTART;VALUE=DATE:20140120
SUMMARY:IFKAD 2014 Abstract Due
DESCRIPTION:Knowledge and Management Models for Sustainable Growth
URL:http://www.wikicfp.com/cfp/servlet/event.showcfp?eventid=33354&copyow
 nerid=62060
UID:cfp429243-A@wikicfp.com
END:VEVENT
BEGIN:VEVENT
DTSTAMP:20260420T174631Z
DTSTART;VALUE=DATE:20140415
SUMMARY:IFKAD 2014 Deadline
DESCRIPTION:Knowledge and Management Models for Sustainable Growth
URL:http://www.wikicfp.com/cfp/servlet/event.showcfp?eventid=33354&copyow
 nerid=62060
UID:cfp429243-D@wikicfp.com
END:VEVENT
BEGIN:VEVENT
DTSTAMP:20260420T174631Z
DTSTART;VALUE=DATE:20140917
DTEND;VALUE=DATE:20140919
SUMMARY:ICITM 2014
DESCRIPTION:2014 the 4th International Conference on Industrial Technolog
 y and Management
URL:http://www.wikicfp.com/cfp/servlet/event.showcfp?eventid=36174&copyow
 nerid=62060
UID:cfp429242-E@wikicfp.com
END:VEVENT
BEGIN:VEVENT
DTSTAMP:20260420T174631Z
DTSTART;VALUE=DATE:20140630
SUMMARY:ICITM 2014 Deadline
DESCRIPTION:2014 the 4th International Conference on Industrial Technolog
 y and Management
URL:http://www.wikicfp.com/cfp/servlet/event.showcfp?eventid=36174&copyow
 nerid=62060
UID:cfp429242-D@wikicfp.com
END:VEVENT
BEGIN:VEVENT
DTSTAMP:20260420T174631Z
DTSTART;VALUE=DATE:20140725
SUMMARY:ICITM 2014 Notification Due
DESCRIPTION:2014 the 4th International Conference on Industrial Technolog
 y and Management
URL:http://www.wikicfp.com/cfp/servlet/event.showcfp?eventid=36174&copyow
 nerid=62060
UID:cfp429242-N@wikicfp.com
END:VEVENT
BEGIN:VEVENT
DTSTAMP:20260420T174631Z
DTSTART;VALUE=DATE:20140810
SUMMARY:ICITM 2014 Final Version Due
DESCRIPTION:2014 the 4th International Conference on Industrial Technolog
 y and Management
URL:http://www.wikicfp.com/cfp/servlet/event.showcfp?eventid=36174&copyow
 nerid=62060
UID:cfp429242-N@wikicfp.com
END:VEVENT
END:VCALENDAR
