BEGIN:VCALENDAR
PRODID:-//WikiCFP//ccwonder 1.0//EN
VERSION:2.0
CALSCALE:GREGORIAN
BEGIN:VEVENT
DTSTAMP:20260425T121557Z
DTSTART;VALUE=DATE:20140529
DTEND;VALUE=DATE:20140531
SUMMARY:ICASC 2014
DESCRIPTION:2014 The 3rd International Conference on Advance in Soft Comp
 uting (ICASC 2014)
URL:http://www.wikicfp.com/cfp/servlet/event.showcfp?eventid=33954&copyow
 nerid=61836
UID:cfp427842-E@wikicfp.com
END:VEVENT
BEGIN:VEVENT
DTSTAMP:20260425T121557Z
DTSTART;VALUE=DATE:20140225
SUMMARY:ICASC 2014 Deadline
DESCRIPTION:2014 The 3rd International Conference on Advance in Soft Comp
 uting (ICASC 2014)
URL:http://www.wikicfp.com/cfp/servlet/event.showcfp?eventid=33954&copyow
 nerid=61836
UID:cfp427842-D@wikicfp.com
END:VEVENT
BEGIN:VEVENT
DTSTAMP:20260425T121557Z
DTSTART;VALUE=DATE:20140315
SUMMARY:ICASC 2014 Notification Due
DESCRIPTION:2014 The 3rd International Conference on Advance in Soft Comp
 uting (ICASC 2014)
URL:http://www.wikicfp.com/cfp/servlet/event.showcfp?eventid=33954&copyow
 nerid=61836
UID:cfp427842-N@wikicfp.com
END:VEVENT
BEGIN:VEVENT
DTSTAMP:20260425T121557Z
DTSTART;VALUE=DATE:20140405
SUMMARY:ICASC 2014 Final Version Due
DESCRIPTION:2014 The 3rd International Conference on Advance in Soft Comp
 uting (ICASC 2014)
URL:http://www.wikicfp.com/cfp/servlet/event.showcfp?eventid=33954&copyow
 nerid=61836
UID:cfp427842-N@wikicfp.com
END:VEVENT
BEGIN:VEVENT
DTSTAMP:20260425T121557Z
DTSTART;VALUE=DATE:20140505
DTEND;VALUE=DATE:20140508
SUMMARY:DiVAI 2014
DESCRIPTION:10th international scientific conference on Distance Learning
  in Applied Informatics
URL:http://www.wikicfp.com/cfp/servlet/event.showcfp?eventid=31528&copyow
 nerid=61836
UID:cfp427899-E@wikicfp.com
END:VEVENT
BEGIN:VEVENT
DTSTAMP:20260425T121557Z
DTSTART;VALUE=DATE:20140228
SUMMARY:DiVAI 2014 Deadline
DESCRIPTION:10th international scientific conference on Distance Learning
  in Applied Informatics
URL:http://www.wikicfp.com/cfp/servlet/event.showcfp?eventid=31528&copyow
 nerid=61836
UID:cfp427899-D@wikicfp.com
END:VEVENT
BEGIN:VEVENT
DTSTAMP:20260425T121557Z
DTSTART;VALUE=DATE:20140315
SUMMARY:DiVAI 2014 Notification Due
DESCRIPTION:10th international scientific conference on Distance Learning
  in Applied Informatics
URL:http://www.wikicfp.com/cfp/servlet/event.showcfp?eventid=31528&copyow
 nerid=61836
UID:cfp427899-N@wikicfp.com
END:VEVENT
BEGIN:VEVENT
DTSTAMP:20260425T121557Z
DTSTART;VALUE=DATE:20140401
SUMMARY:DiVAI 2014 Final Version Due
DESCRIPTION:10th international scientific conference on Distance Learning
  in Applied Informatics
URL:http://www.wikicfp.com/cfp/servlet/event.showcfp?eventid=31528&copyow
 nerid=61836
UID:cfp427899-N@wikicfp.com
END:VEVENT
BEGIN:VEVENT
DTSTAMP:20260425T121557Z
DTSTART;VALUE=DATE:20140525
DTEND;VALUE=DATE:20140526
SUMMARY:Know@LOD 2014
DESCRIPTION:3rd International Workshop on Knowledge Discovery and Data Mi
 ning Meets Linked Open Data
URL:http://www.wikicfp.com/cfp/servlet/event.showcfp?eventid=36122&copyow
 nerid=61836
UID:cfp427893-E@wikicfp.com
END:VEVENT
BEGIN:VEVENT
DTSTAMP:20260425T121557Z
DTSTART;VALUE=DATE:20140306
SUMMARY:Know@LOD 2014 Deadline
DESCRIPTION:3rd International Workshop on Knowledge Discovery and Data Mi
 ning Meets Linked Open Data
URL:http://www.wikicfp.com/cfp/servlet/event.showcfp?eventid=36122&copyow
 nerid=61836
UID:cfp427893-D@wikicfp.com
END:VEVENT
BEGIN:VEVENT
DTSTAMP:20260425T121557Z
DTSTART;VALUE=DATE:20140401
SUMMARY:Know@LOD 2014 Notification Due
DESCRIPTION:3rd International Workshop on Knowledge Discovery and Data Mi
 ning Meets Linked Open Data
URL:http://www.wikicfp.com/cfp/servlet/event.showcfp?eventid=36122&copyow
 nerid=61836
UID:cfp427893-N@wikicfp.com
END:VEVENT
BEGIN:VEVENT
DTSTAMP:20260425T121557Z
DTSTART;VALUE=DATE:20140415
SUMMARY:Know@LOD 2014 Final Version Due
DESCRIPTION:3rd International Workshop on Knowledge Discovery and Data Mi
 ning Meets Linked Open Data
URL:http://www.wikicfp.com/cfp/servlet/event.showcfp?eventid=36122&copyow
 nerid=61836
UID:cfp427893-N@wikicfp.com
END:VEVENT
BEGIN:VEVENT
DTSTAMP:20260425T121557Z
DTSTART;VALUE=DATE:20140513
DTEND;VALUE=DATE:20140515
SUMMARY:ICSIBO 2014
DESCRIPTION:International Conference on Swarm Intelligence Based Optimiza
 tion
URL:http://www.wikicfp.com/cfp/servlet/event.showcfp?eventid=35207&copyow
 nerid=61836
UID:cfp427844-E@wikicfp.com
END:VEVENT
BEGIN:VEVENT
DTSTAMP:20260425T121557Z
DTSTART;VALUE=DATE:20140313
SUMMARY:ICSIBO 2014 Deadline
DESCRIPTION:International Conference on Swarm Intelligence Based Optimiza
 tion
URL:http://www.wikicfp.com/cfp/servlet/event.showcfp?eventid=35207&copyow
 nerid=61836
UID:cfp427844-D@wikicfp.com
END:VEVENT
BEGIN:VEVENT
DTSTAMP:20260425T121557Z
DTSTART;VALUE=DATE:20140329
SUMMARY:ICSIBO 2014 Notification Due
DESCRIPTION:International Conference on Swarm Intelligence Based Optimiza
 tion
URL:http://www.wikicfp.com/cfp/servlet/event.showcfp?eventid=35207&copyow
 nerid=61836
UID:cfp427844-N@wikicfp.com
END:VEVENT
BEGIN:VEVENT
DTSTAMP:20260425T121557Z
DTSTART;VALUE=DATE:20140415
SUMMARY:ICSIBO 2014 Final Version Due
DESCRIPTION:International Conference on Swarm Intelligence Based Optimiza
 tion
URL:http://www.wikicfp.com/cfp/servlet/event.showcfp?eventid=35207&copyow
 nerid=61836
UID:cfp427844-N@wikicfp.com
END:VEVENT
BEGIN:VEVENT
DTSTAMP:20260425T121557Z
DTSTART;VALUE=DATE:20140516
DTEND;VALUE=DATE:20140519
SUMMARY:ICT 2014
DESCRIPTION:The 2014 International Conference on Information and Communic
 ations Technologies 
URL:http://www.wikicfp.com/cfp/servlet/event.showcfp?eventid=33771&copyow
 nerid=61836
UID:cfp427895-E@wikicfp.com
END:VEVENT
BEGIN:VEVENT
DTSTAMP:20260425T121557Z
DTSTART;VALUE=DATE:20140408
SUMMARY:ICT 2014 Deadline
DESCRIPTION:The 2014 International Conference on Information and Communic
 ations Technologies 
URL:http://www.wikicfp.com/cfp/servlet/event.showcfp?eventid=33771&copyow
 nerid=61836
UID:cfp427895-D@wikicfp.com
END:VEVENT
BEGIN:VEVENT
DTSTAMP:20260425T121557Z
DTSTART;VALUE=DATE:20140418
SUMMARY:ICT 2014 Notification Due
DESCRIPTION:The 2014 International Conference on Information and Communic
 ations Technologies 
URL:http://www.wikicfp.com/cfp/servlet/event.showcfp?eventid=33771&copyow
 nerid=61836
UID:cfp427895-N@wikicfp.com
END:VEVENT
BEGIN:VEVENT
DTSTAMP:20260425T121557Z
DTSTART;VALUE=DATE:20140430
SUMMARY:ICT 2014 Final Version Due
DESCRIPTION:The 2014 International Conference on Information and Communic
 ations Technologies 
URL:http://www.wikicfp.com/cfp/servlet/event.showcfp?eventid=33771&copyow
 nerid=61836
UID:cfp427895-N@wikicfp.com
END:VEVENT
BEGIN:VEVENT
DTSTAMP:20260425T121557Z
DTSTART;VALUE=DATE:20140524
DTEND;VALUE=DATE:20140526
SUMMARY:ACITY 2014
DESCRIPTION:Fourth International Conference on Advances in Computing and 
 Information technology 
URL:http://www.wikicfp.com/cfp/servlet/event.showcfp?eventid=35951&copyow
 nerid=61836
UID:cfp427898-E@wikicfp.com
END:VEVENT
BEGIN:VEVENT
DTSTAMP:20260425T121557Z
DTSTART;VALUE=DATE:20140410
SUMMARY:ACITY 2014 Deadline
DESCRIPTION:Fourth International Conference on Advances in Computing and 
 Information technology 
URL:http://www.wikicfp.com/cfp/servlet/event.showcfp?eventid=35951&copyow
 nerid=61836
UID:cfp427898-D@wikicfp.com
END:VEVENT
BEGIN:VEVENT
DTSTAMP:20260425T121557Z
DTSTART;VALUE=DATE:20140510
SUMMARY:ACITY 2014 Notification Due
DESCRIPTION:Fourth International Conference on Advances in Computing and 
 Information technology 
URL:http://www.wikicfp.com/cfp/servlet/event.showcfp?eventid=35951&copyow
 nerid=61836
UID:cfp427898-N@wikicfp.com
END:VEVENT
BEGIN:VEVENT
DTSTAMP:20260425T121557Z
DTSTART;VALUE=DATE:20140512
SUMMARY:ACITY 2014 Final Version Due
DESCRIPTION:Fourth International Conference on Advances in Computing and 
 Information technology 
URL:http://www.wikicfp.com/cfp/servlet/event.showcfp?eventid=35951&copyow
 nerid=61836
UID:cfp427898-N@wikicfp.com
END:VEVENT
BEGIN:VEVENT
DTSTAMP:20260425T121557Z
DTSTART;VALUE=DATE:20140524
DTEND;VALUE=DATE:20140526
SUMMARY:AIAA 2014
DESCRIPTION:Fourth International Conference on Artificial Intelligence\, 
 Soft Computing and Applications
URL:http://www.wikicfp.com/cfp/servlet/event.showcfp?eventid=36062&copyow
 nerid=61836
UID:cfp427845-E@wikicfp.com
END:VEVENT
BEGIN:VEVENT
DTSTAMP:20260425T121557Z
DTSTART;VALUE=DATE:20140410
SUMMARY:AIAA 2014 Deadline
DESCRIPTION:Fourth International Conference on Artificial Intelligence\, 
 Soft Computing and Applications
URL:http://www.wikicfp.com/cfp/servlet/event.showcfp?eventid=36062&copyow
 nerid=61836
UID:cfp427845-D@wikicfp.com
END:VEVENT
BEGIN:VEVENT
DTSTAMP:20260425T121557Z
DTSTART;VALUE=DATE:20140510
SUMMARY:AIAA 2014 Notification Due
DESCRIPTION:Fourth International Conference on Artificial Intelligence\, 
 Soft Computing and Applications
URL:http://www.wikicfp.com/cfp/servlet/event.showcfp?eventid=36062&copyow
 nerid=61836
UID:cfp427845-N@wikicfp.com
END:VEVENT
BEGIN:VEVENT
DTSTAMP:20260425T121557Z
DTSTART;VALUE=DATE:20140512
SUMMARY:AIAA 2014 Final Version Due
DESCRIPTION:Fourth International Conference on Artificial Intelligence\, 
 Soft Computing and Applications
URL:http://www.wikicfp.com/cfp/servlet/event.showcfp?eventid=36062&copyow
 nerid=61836
UID:cfp427845-N@wikicfp.com
END:VEVENT
BEGIN:VEVENT
DTSTAMP:20260425T121557Z
DTSTART;VALUE=DATE:20150520
DTEND;VALUE=DATE:20150523
SUMMARY:ICIEA 2015
DESCRIPTION:2015 The 2nd International Conference on Industrial Engineeri
 ng and Applications
URL:http://www.wikicfp.com/cfp/servlet/event.showcfp?eventid=33956&copyow
 nerid=61836
UID:cfp427896-E@wikicfp.com
END:VEVENT
BEGIN:VEVENT
DTSTAMP:20260425T121557Z
DTSTART;VALUE=DATE:20150305
SUMMARY:ICIEA 2015 Deadline
DESCRIPTION:2015 The 2nd International Conference on Industrial Engineeri
 ng and Applications
URL:http://www.wikicfp.com/cfp/servlet/event.showcfp?eventid=33956&copyow
 nerid=61836
UID:cfp427896-D@wikicfp.com
END:VEVENT
BEGIN:VEVENT
DTSTAMP:20260425T121557Z
DTSTART;VALUE=DATE:20150325
SUMMARY:ICIEA 2015 Notification Due
DESCRIPTION:2015 The 2nd International Conference on Industrial Engineeri
 ng and Applications
URL:http://www.wikicfp.com/cfp/servlet/event.showcfp?eventid=33956&copyow
 nerid=61836
UID:cfp427896-N@wikicfp.com
END:VEVENT
BEGIN:VEVENT
DTSTAMP:20260425T121557Z
DTSTART;VALUE=DATE:20150415
SUMMARY:ICIEA 2015 Final Version Due
DESCRIPTION:2015 The 2nd International Conference on Industrial Engineeri
 ng and Applications
URL:http://www.wikicfp.com/cfp/servlet/event.showcfp?eventid=33956&copyow
 nerid=61836
UID:cfp427896-N@wikicfp.com
END:VEVENT
BEGIN:VEVENT
DTSTAMP:20260425T121557Z
DTSTART;VALUE=DATE:20150518
DTEND;VALUE=DATE:20150520
SUMMARY:ICIII 2015
DESCRIPTION:2015 4th International Conference on Industrial and Intellige
 nt Information
URL:http://www.wikicfp.com/cfp/servlet/event.showcfp?eventid=33982&copyow
 nerid=61836
UID:cfp427897-E@wikicfp.com
END:VEVENT
BEGIN:VEVENT
DTSTAMP:20260425T121557Z
DTSTART;VALUE=DATE:20150305
SUMMARY:ICIII 2015 Deadline
DESCRIPTION:2015 4th International Conference on Industrial and Intellige
 nt Information
URL:http://www.wikicfp.com/cfp/servlet/event.showcfp?eventid=33982&copyow
 nerid=61836
UID:cfp427897-D@wikicfp.com
END:VEVENT
BEGIN:VEVENT
DTSTAMP:20260425T121557Z
DTSTART;VALUE=DATE:20150330
SUMMARY:ICIII 2015 Notification Due
DESCRIPTION:2015 4th International Conference on Industrial and Intellige
 nt Information
URL:http://www.wikicfp.com/cfp/servlet/event.showcfp?eventid=33982&copyow
 nerid=61836
UID:cfp427897-N@wikicfp.com
END:VEVENT
BEGIN:VEVENT
DTSTAMP:20260425T121557Z
DTSTART;VALUE=DATE:20150415
SUMMARY:ICIII 2015 Final Version Due
DESCRIPTION:2015 4th International Conference on Industrial and Intellige
 nt Information
URL:http://www.wikicfp.com/cfp/servlet/event.showcfp?eventid=33982&copyow
 nerid=61836
UID:cfp427897-N@wikicfp.com
END:VEVENT
END:VCALENDAR
