BEGIN:VCALENDAR
PRODID:-//WikiCFP//SinanAlkassar 1.0//EN
VERSION:2.0
CALSCALE:GREGORIAN
BEGIN:VEVENT
DTSTAMP:20260420T010742Z
DTSTART;VALUE=DATE:20141207
DTEND;VALUE=DATE:20141211
SUMMARY:VCIP 2014
DESCRIPTION:IEEE Conference on Visual Communications and Image Processing
 
URL:http://www.wikicfp.com/cfp/servlet/event.showcfp?eventid=34546&copyow
 nerid=61774
UID:cfp427375-E@wikicfp.com
END:VEVENT
BEGIN:VEVENT
DTSTAMP:20260420T010742Z
DTSTART;VALUE=DATE:20140615
SUMMARY:VCIP 2014 Deadline
DESCRIPTION:IEEE Conference on Visual Communications and Image Processing
 
URL:http://www.wikicfp.com/cfp/servlet/event.showcfp?eventid=34546&copyow
 nerid=61774
UID:cfp427375-D@wikicfp.com
END:VEVENT
BEGIN:VEVENT
DTSTAMP:20260420T010742Z
DTSTART;VALUE=DATE:20140824
SUMMARY:VCIP 2014 Notification Due
DESCRIPTION:IEEE Conference on Visual Communications and Image Processing
 
URL:http://www.wikicfp.com/cfp/servlet/event.showcfp?eventid=34546&copyow
 nerid=61774
UID:cfp427375-N@wikicfp.com
END:VEVENT
BEGIN:VEVENT
DTSTAMP:20260420T010742Z
DTSTART;VALUE=DATE:20140912
SUMMARY:VCIP 2014 Final Version Due
DESCRIPTION:IEEE Conference on Visual Communications and Image Processing
 
URL:http://www.wikicfp.com/cfp/servlet/event.showcfp?eventid=34546&copyow
 nerid=61774
UID:cfp427375-N@wikicfp.com
END:VEVENT
END:VCALENDAR
