BEGIN:VCALENDAR
PRODID:-//WikiCFP//rpangali 1.0//EN
VERSION:2.0
CALSCALE:GREGORIAN
BEGIN:VEVENT
DTSTAMP:20260423T004248Z
DTSTART;VALUE=DATE:20140625
DTEND;VALUE=DATE:20140628
SUMMARY:ICEUTE 2014
DESCRIPTION:5th INTERNATIONAL CONFERENCE ON EUROPEAN EDUCATION
URL:http://www.wikicfp.com/cfp/servlet/event.showcfp?eventid=34290&copyow
 nerid=61753
UID:cfp427294-E@wikicfp.com
END:VEVENT
BEGIN:VEVENT
DTSTAMP:20260423T004248Z
DTSTART;VALUE=DATE:20140220
SUMMARY:ICEUTE 2014 Deadline
DESCRIPTION:5th INTERNATIONAL CONFERENCE ON EUROPEAN EDUCATION
URL:http://www.wikicfp.com/cfp/servlet/event.showcfp?eventid=34290&copyow
 nerid=61753
UID:cfp427294-D@wikicfp.com
END:VEVENT
BEGIN:VEVENT
DTSTAMP:20260423T004248Z
DTSTART;VALUE=DATE:20140320
SUMMARY:ICEUTE 2014 Notification Due
DESCRIPTION:5th INTERNATIONAL CONFERENCE ON EUROPEAN EDUCATION
URL:http://www.wikicfp.com/cfp/servlet/event.showcfp?eventid=34290&copyow
 nerid=61753
UID:cfp427294-N@wikicfp.com
END:VEVENT
BEGIN:VEVENT
DTSTAMP:20260423T004248Z
DTSTART;VALUE=DATE:20140407
SUMMARY:ICEUTE 2014 Final Version Due
DESCRIPTION:5th INTERNATIONAL CONFERENCE ON EUROPEAN EDUCATION
URL:http://www.wikicfp.com/cfp/servlet/event.showcfp?eventid=34290&copyow
 nerid=61753
UID:cfp427294-N@wikicfp.com
END:VEVENT
BEGIN:VEVENT
DTSTAMP:20260423T004248Z
DTSTART;VALUE=DATE:20140905
DTEND;VALUE=DATE:20140913
SUMMARY:ECCV 2014
DESCRIPTION:European Conference on Computer Vision
URL:http://www.wikicfp.com/cfp/servlet/event.showcfp?eventid=31609&copyow
 nerid=61753
UID:cfp427296-E@wikicfp.com
END:VEVENT
BEGIN:VEVENT
DTSTAMP:20260423T004248Z
DTSTART;VALUE=DATE:20140307
SUMMARY:ECCV 2014 Deadline
DESCRIPTION:European Conference on Computer Vision
URL:http://www.wikicfp.com/cfp/servlet/event.showcfp?eventid=31609&copyow
 nerid=61753
UID:cfp427296-D@wikicfp.com
END:VEVENT
BEGIN:VEVENT
DTSTAMP:20260423T004248Z
DTSTART;VALUE=DATE:20140616
SUMMARY:ECCV 2014 Notification Due
DESCRIPTION:European Conference on Computer Vision
URL:http://www.wikicfp.com/cfp/servlet/event.showcfp?eventid=31609&copyow
 nerid=61753
UID:cfp427296-N@wikicfp.com
END:VEVENT
BEGIN:VEVENT
DTSTAMP:20260423T004248Z
DTSTART;VALUE=DATE:20151011
DTEND;VALUE=DATE:20151014
SUMMARY:ICFN 2015
DESCRIPTION:2015 International Conference on Food and Nutrition
URL:http://www.wikicfp.com/cfp/servlet/event.showcfp?eventid=44917&copyow
 nerid=61753
UID:cfp532245-E@wikicfp.com
END:VEVENT
BEGIN:VEVENT
DTSTAMP:20260423T004248Z
DTSTART;VALUE=DATE:20150725
SUMMARY:ICFN 2015 Deadline
DESCRIPTION:2015 International Conference on Food and Nutrition
URL:http://www.wikicfp.com/cfp/servlet/event.showcfp?eventid=44917&copyow
 nerid=61753
UID:cfp532245-D@wikicfp.com
END:VEVENT
BEGIN:VEVENT
DTSTAMP:20260423T004248Z
DTSTART;VALUE=DATE:20150815
SUMMARY:ICFN 2015 Notification Due
DESCRIPTION:2015 International Conference on Food and Nutrition
URL:http://www.wikicfp.com/cfp/servlet/event.showcfp?eventid=44917&copyow
 nerid=61753
UID:cfp532245-N@wikicfp.com
END:VEVENT
BEGIN:VEVENT
DTSTAMP:20260423T004248Z
DTSTART;VALUE=DATE:20150905
SUMMARY:ICFN 2015 Final Version Due
DESCRIPTION:2015 International Conference on Food and Nutrition
URL:http://www.wikicfp.com/cfp/servlet/event.showcfp?eventid=44917&copyow
 nerid=61753
UID:cfp532245-N@wikicfp.com
END:VEVENT
END:VCALENDAR
