BEGIN:VCALENDAR
PRODID:-//WikiCFP//mosimamasethe 1.0//EN
VERSION:2.0
CALSCALE:GREGORIAN
BEGIN:VEVENT
DTSTAMP:20260424T070222Z
DTSTART;VALUE=DATE:20141218
DTEND;VALUE=DATE:20141222
SUMMARY:T4E 2014
DESCRIPTION:The 6th IEEE International Conference on Technology for Educa
 tion
URL:http://www.wikicfp.com/cfp/servlet/event.showcfp?eventid=36299&copyow
 nerid=61727
UID:cfp427053-E@wikicfp.com
END:VEVENT
BEGIN:VEVENT
DTSTAMP:20260424T070222Z
DTSTART;VALUE=DATE:20140707
SUMMARY:T4E 2014 Deadline
DESCRIPTION:The 6th IEEE International Conference on Technology for Educa
 tion
URL:http://www.wikicfp.com/cfp/servlet/event.showcfp?eventid=36299&copyow
 nerid=61727
UID:cfp427053-D@wikicfp.com
END:VEVENT
BEGIN:VEVENT
DTSTAMP:20260424T070222Z
DTSTART;VALUE=DATE:20140908
SUMMARY:T4E 2014 Notification Due
DESCRIPTION:The 6th IEEE International Conference on Technology for Educa
 tion
URL:http://www.wikicfp.com/cfp/servlet/event.showcfp?eventid=36299&copyow
 nerid=61727
UID:cfp427053-N@wikicfp.com
END:VEVENT
BEGIN:VEVENT
DTSTAMP:20260424T070222Z
DTSTART;VALUE=DATE:20140930
SUMMARY:T4E 2014 Final Version Due
DESCRIPTION:The 6th IEEE International Conference on Technology for Educa
 tion
URL:http://www.wikicfp.com/cfp/servlet/event.showcfp?eventid=36299&copyow
 nerid=61727
UID:cfp427053-N@wikicfp.com
END:VEVENT
BEGIN:VEVENT
DTSTAMP:20260424T070222Z
DTSTART;VALUE=DATE:20141008
DTEND;VALUE=DATE:20141010
SUMMARY:ICCEE 2014
DESCRIPTION:2014 7th International Conference on Computer and Electrical 
 Engineering
URL:http://www.wikicfp.com/cfp/servlet/event.showcfp?eventid=36297&copyow
 nerid=61727
UID:cfp427054-E@wikicfp.com
END:VEVENT
BEGIN:VEVENT
DTSTAMP:20260424T070222Z
DTSTART;VALUE=DATE:20140720
SUMMARY:ICCEE 2014 Deadline
DESCRIPTION:2014 7th International Conference on Computer and Electrical 
 Engineering
URL:http://www.wikicfp.com/cfp/servlet/event.showcfp?eventid=36297&copyow
 nerid=61727
UID:cfp427054-D@wikicfp.com
END:VEVENT
BEGIN:VEVENT
DTSTAMP:20260424T070222Z
DTSTART;VALUE=DATE:20140810
SUMMARY:ICCEE 2014 Notification Due
DESCRIPTION:2014 7th International Conference on Computer and Electrical 
 Engineering
URL:http://www.wikicfp.com/cfp/servlet/event.showcfp?eventid=36297&copyow
 nerid=61727
UID:cfp427054-N@wikicfp.com
END:VEVENT
BEGIN:VEVENT
DTSTAMP:20260424T070222Z
DTSTART;VALUE=DATE:20140830
SUMMARY:ICCEE 2014 Final Version Due
DESCRIPTION:2014 7th International Conference on Computer and Electrical 
 Engineering
URL:http://www.wikicfp.com/cfp/servlet/event.showcfp?eventid=36297&copyow
 nerid=61727
UID:cfp427054-N@wikicfp.com
END:VEVENT
BEGIN:VEVENT
DTSTAMP:20260424T070222Z
DTSTART;VALUE=DATE:20141008
DTEND;VALUE=DATE:20141010
SUMMARY:ICDLE 2014
DESCRIPTION:2014 5th International Conference on Distance Learning and Ed
 ucation
URL:http://www.wikicfp.com/cfp/servlet/event.showcfp?eventid=36295&copyow
 nerid=61727
UID:cfp427051-E@wikicfp.com
END:VEVENT
BEGIN:VEVENT
DTSTAMP:20260424T070222Z
DTSTART;VALUE=DATE:20140725
SUMMARY:ICDLE 2014 Deadline
DESCRIPTION:2014 5th International Conference on Distance Learning and Ed
 ucation
URL:http://www.wikicfp.com/cfp/servlet/event.showcfp?eventid=36295&copyow
 nerid=61727
UID:cfp427051-D@wikicfp.com
END:VEVENT
BEGIN:VEVENT
DTSTAMP:20260424T070222Z
DTSTART;VALUE=DATE:20140815
SUMMARY:ICDLE 2014 Notification Due
DESCRIPTION:2014 5th International Conference on Distance Learning and Ed
 ucation
URL:http://www.wikicfp.com/cfp/servlet/event.showcfp?eventid=36295&copyow
 nerid=61727
UID:cfp427051-N@wikicfp.com
END:VEVENT
BEGIN:VEVENT
DTSTAMP:20260424T070222Z
DTSTART;VALUE=DATE:20140830
SUMMARY:ICDLE 2014 Final Version Due
DESCRIPTION:2014 5th International Conference on Distance Learning and Ed
 ucation
URL:http://www.wikicfp.com/cfp/servlet/event.showcfp?eventid=36295&copyow
 nerid=61727
UID:cfp427051-N@wikicfp.com
END:VEVENT
BEGIN:VEVENT
DTSTAMP:20260424T070222Z
DTSTART;VALUE=DATE:20141008
DTEND;VALUE=DATE:20141010
SUMMARY:ICICM 2014
DESCRIPTION: 2014 4th International Conference on Information Communicati
 on and Management
URL:http://www.wikicfp.com/cfp/servlet/event.showcfp?eventid=36296&copyow
 nerid=61727
UID:cfp427052-E@wikicfp.com
END:VEVENT
BEGIN:VEVENT
DTSTAMP:20260424T070222Z
DTSTART;VALUE=DATE:20140725
SUMMARY:ICICM 2014 Deadline
DESCRIPTION: 2014 4th International Conference on Information Communicati
 on and Management
URL:http://www.wikicfp.com/cfp/servlet/event.showcfp?eventid=36296&copyow
 nerid=61727
UID:cfp427052-D@wikicfp.com
END:VEVENT
BEGIN:VEVENT
DTSTAMP:20260424T070222Z
DTSTART;VALUE=DATE:20140815
SUMMARY:ICICM 2014 Notification Due
DESCRIPTION: 2014 4th International Conference on Information Communicati
 on and Management
URL:http://www.wikicfp.com/cfp/servlet/event.showcfp?eventid=36296&copyow
 nerid=61727
UID:cfp427052-N@wikicfp.com
END:VEVENT
BEGIN:VEVENT
DTSTAMP:20260424T070222Z
DTSTART;VALUE=DATE:20140830
SUMMARY:ICICM 2014 Final Version Due
DESCRIPTION: 2014 4th International Conference on Information Communicati
 on and Management
URL:http://www.wikicfp.com/cfp/servlet/event.showcfp?eventid=36296&copyow
 nerid=61727
UID:cfp427052-N@wikicfp.com
END:VEVENT
END:VCALENDAR
