BEGIN:VCALENDAR
PRODID:-//WikiCFP//raouf_haouili 1.0//EN
VERSION:2.0
CALSCALE:GREGORIAN
BEGIN:VEVENT
DTSTAMP:20260425T125253Z
DTSTART;VALUE=DATE:20140608
DTEND;VALUE=DATE:20140611
SUMMARY:COSI 2014
DESCRIPTION:Colloque sur l'Optimisation et les SystÃ¨mes d'Information
URL:http://www.wikicfp.com/cfp/servlet/event.showcfp?eventid=34483&copyow
 nerid=61672
UID:cfp426575-E@wikicfp.com
END:VEVENT
BEGIN:VEVENT
DTSTAMP:20260425T125253Z
DTSTART;VALUE=DATE:20140126
SUMMARY:COSI 2014 Abstract Due
DESCRIPTION:Colloque sur l'Optimisation et les SystÃ¨mes d'Information
URL:http://www.wikicfp.com/cfp/servlet/event.showcfp?eventid=34483&copyow
 nerid=61672
UID:cfp426575-A@wikicfp.com
END:VEVENT
BEGIN:VEVENT
DTSTAMP:20260425T125253Z
DTSTART;VALUE=DATE:20140202
SUMMARY:COSI 2014 Deadline
DESCRIPTION:Colloque sur l'Optimisation et les SystÃ¨mes d'Information
URL:http://www.wikicfp.com/cfp/servlet/event.showcfp?eventid=34483&copyow
 nerid=61672
UID:cfp426575-D@wikicfp.com
END:VEVENT
BEGIN:VEVENT
DTSTAMP:20260425T125253Z
DTSTART;VALUE=DATE:20140406
SUMMARY:COSI 2014 Notification Due
DESCRIPTION:Colloque sur l'Optimisation et les SystÃ¨mes d'Information
URL:http://www.wikicfp.com/cfp/servlet/event.showcfp?eventid=34483&copyow
 nerid=61672
UID:cfp426575-N@wikicfp.com
END:VEVENT
BEGIN:VEVENT
DTSTAMP:20260425T125253Z
DTSTART;VALUE=DATE:20140427
SUMMARY:COSI 2014 Final Version Due
DESCRIPTION:Colloque sur l'Optimisation et les SystÃ¨mes d'Information
URL:http://www.wikicfp.com/cfp/servlet/event.showcfp?eventid=34483&copyow
 nerid=61672
UID:cfp426575-N@wikicfp.com
END:VEVENT
END:VCALENDAR
