BEGIN:VCALENDAR
PRODID:-//WikiCFP//yxs5 1.0//EN
VERSION:2.0
CALSCALE:GREGORIAN
BEGIN:VEVENT
DTSTAMP:20260421T122514Z
DTSTART;VALUE=DATE:20141207
DTEND;VALUE=DATE:20141211
SUMMARY:WSC 2014
DESCRIPTION:Winter Simulation Conference
URL:http://www.wikicfp.com/cfp/servlet/event.showcfp?eventid=36144&copyow
 nerid=61409
UID:cfp425270-E@wikicfp.com
END:VEVENT
BEGIN:VEVENT
DTSTAMP:20260421T122514Z
DTSTART;VALUE=DATE:20140415
SUMMARY:WSC 2014 Deadline
DESCRIPTION:Winter Simulation Conference
URL:http://www.wikicfp.com/cfp/servlet/event.showcfp?eventid=36144&copyow
 nerid=61409
UID:cfp425270-D@wikicfp.com
END:VEVENT
END:VCALENDAR
