BEGIN:VCALENDAR
PRODID:-//WikiCFP//bobyvastav 1.0//EN
VERSION:2.0
CALSCALE:GREGORIAN
BEGIN:VEVENT
DTSTAMP:20260419T212234Z
DTSTART;VALUE=DATE:20140215
SUMMARY:First Gen 2014 Deadline
DESCRIPTION:On the Boarders of the Academy: Challenges and Strategies for
  First Generation and Working Class Graduate Students and Faculty
URL:http://www.wikicfp.com/cfp/servlet/event.showcfp?eventid=31888&copyow
 nerid=61355
UID:cfp424813-D@wikicfp.com
END:VEVENT
BEGIN:VEVENT
DTSTAMP:20260419T212234Z
DTSTART;VALUE=DATE:20140521
DTEND;VALUE=DATE:20140523
SUMMARY: ICHSS 2014
DESCRIPTION:2014 International Conference on Humanity and Social Sciences
 
URL:http://www.wikicfp.com/cfp/servlet/event.showcfp?eventid=34246&copyow
 nerid=61355
UID:cfp424814-E@wikicfp.com
END:VEVENT
BEGIN:VEVENT
DTSTAMP:20260419T212234Z
DTSTART;VALUE=DATE:20140320
SUMMARY: ICHSS 2014 Deadline
DESCRIPTION:2014 International Conference on Humanity and Social Sciences
 
URL:http://www.wikicfp.com/cfp/servlet/event.showcfp?eventid=34246&copyow
 nerid=61355
UID:cfp424814-D@wikicfp.com
END:VEVENT
BEGIN:VEVENT
DTSTAMP:20260419T212234Z
DTSTART;VALUE=DATE:20140405
SUMMARY: ICHSS 2014 Notification Due
DESCRIPTION:2014 International Conference on Humanity and Social Sciences
 
URL:http://www.wikicfp.com/cfp/servlet/event.showcfp?eventid=34246&copyow
 nerid=61355
UID:cfp424814-N@wikicfp.com
END:VEVENT
BEGIN:VEVENT
DTSTAMP:20260419T212234Z
DTSTART;VALUE=DATE:20140415
SUMMARY: ICHSS 2014 Final Version Due
DESCRIPTION:2014 International Conference on Humanity and Social Sciences
 
URL:http://www.wikicfp.com/cfp/servlet/event.showcfp?eventid=34246&copyow
 nerid=61355
UID:cfp424814-N@wikicfp.com
END:VEVENT
BEGIN:VEVENT
DTSTAMP:20260419T212234Z
DTSTART;VALUE=DATE:20140407
SUMMARY:KMAH 2014 Deadline
DESCRIPTION:Kyiv-Mohyla Arts and Humanities
URL:http://www.wikicfp.com/cfp/servlet/event.showcfp?eventid=36078&copyow
 nerid=61355
UID:cfp424794-D@wikicfp.com
END:VEVENT
BEGIN:VEVENT
DTSTAMP:20260419T212234Z
DTSTART;VALUE=DATE:20140516
DTEND;VALUE=DATE:20140518
SUMMARY:ASER 2014
DESCRIPTION:3rd Edition of International Symposium on Advancing Socio-Eco
 nomic Research
URL:http://www.wikicfp.com/cfp/servlet/event.showcfp?eventid=21335&copyow
 nerid=61355
UID:cfp424812-E@wikicfp.com
END:VEVENT
BEGIN:VEVENT
DTSTAMP:20260419T212234Z
DTSTART;VALUE=DATE:20140331
SUMMARY:ASER 2014 Abstract Due
DESCRIPTION:3rd Edition of International Symposium on Advancing Socio-Eco
 nomic Research
URL:http://www.wikicfp.com/cfp/servlet/event.showcfp?eventid=21335&copyow
 nerid=61355
UID:cfp424812-A@wikicfp.com
END:VEVENT
BEGIN:VEVENT
DTSTAMP:20260419T212234Z
DTSTART;VALUE=DATE:20140413
SUMMARY:ASER 2014 Deadline
DESCRIPTION:3rd Edition of International Symposium on Advancing Socio-Eco
 nomic Research
URL:http://www.wikicfp.com/cfp/servlet/event.showcfp?eventid=21335&copyow
 nerid=61355
UID:cfp424812-D@wikicfp.com
END:VEVENT
BEGIN:VEVENT
DTSTAMP:20260419T212234Z
DTSTART;VALUE=DATE:20140413
SUMMARY:ASER 2014 Final Version Due
DESCRIPTION:3rd Edition of International Symposium on Advancing Socio-Eco
 nomic Research
URL:http://www.wikicfp.com/cfp/servlet/event.showcfp?eventid=21335&copyow
 nerid=61355
UID:cfp424812-N@wikicfp.com
END:VEVENT
BEGIN:VEVENT
DTSTAMP:20260419T212234Z
DTSTART;VALUE=DATE:20140621
DTEND;VALUE=DATE:20140623
SUMMARY:ISSGBM 2014
DESCRIPTION:2014 2nd International Conference in Humanities\, Social Scie
 nces and Global Business Management
URL:http://www.wikicfp.com/cfp/servlet/event.showcfp?eventid=36050&copyow
 nerid=61355
UID:cfp424800-E@wikicfp.com
END:VEVENT
BEGIN:VEVENT
DTSTAMP:20260419T212234Z
DTSTART;VALUE=DATE:20140430
SUMMARY:ISSGBM 2014 Abstract Due
DESCRIPTION:2014 2nd International Conference in Humanities\, Social Scie
 nces and Global Business Management
URL:http://www.wikicfp.com/cfp/servlet/event.showcfp?eventid=36050&copyow
 nerid=61355
UID:cfp424800-A@wikicfp.com
END:VEVENT
BEGIN:VEVENT
DTSTAMP:20260419T212234Z
DTSTART;VALUE=DATE:20140420
SUMMARY:ISSGBM 2014 Deadline
DESCRIPTION:2014 2nd International Conference in Humanities\, Social Scie
 nces and Global Business Management
URL:http://www.wikicfp.com/cfp/servlet/event.showcfp?eventid=36050&copyow
 nerid=61355
UID:cfp424800-D@wikicfp.com
END:VEVENT
BEGIN:VEVENT
DTSTAMP:20260419T212234Z
DTSTART;VALUE=DATE:20140425
SUMMARY:ISSGBM 2014 Notification Due
DESCRIPTION:2014 2nd International Conference in Humanities\, Social Scie
 nces and Global Business Management
URL:http://www.wikicfp.com/cfp/servlet/event.showcfp?eventid=36050&copyow
 nerid=61355
UID:cfp424800-N@wikicfp.com
END:VEVENT
BEGIN:VEVENT
DTSTAMP:20260419T212234Z
DTSTART;VALUE=DATE:20140430
SUMMARY:ISSGBM 2014 Final Version Due
DESCRIPTION:2014 2nd International Conference in Humanities\, Social Scie
 nces and Global Business Management
URL:http://www.wikicfp.com/cfp/servlet/event.showcfp?eventid=36050&copyow
 nerid=61355
UID:cfp424800-N@wikicfp.com
END:VEVENT
BEGIN:VEVENT
DTSTAMP:20260419T212234Z
DTSTART;VALUE=DATE:20140616
DTEND;VALUE=DATE:20140618
SUMMARY:ICTES 2014
DESCRIPTION:2014 International Conference on Teaching and Education Scien
 ces
URL:http://www.wikicfp.com/cfp/servlet/event.showcfp?eventid=34251&copyow
 nerid=61355
UID:cfp424816-E@wikicfp.com
END:VEVENT
BEGIN:VEVENT
DTSTAMP:20260419T212234Z
DTSTART;VALUE=DATE:20140425
SUMMARY:ICTES 2014 Deadline
DESCRIPTION:2014 International Conference on Teaching and Education Scien
 ces
URL:http://www.wikicfp.com/cfp/servlet/event.showcfp?eventid=34251&copyow
 nerid=61355
UID:cfp424816-D@wikicfp.com
END:VEVENT
BEGIN:VEVENT
DTSTAMP:20260419T212234Z
DTSTART;VALUE=DATE:20140510
SUMMARY:ICTES 2014 Notification Due
DESCRIPTION:2014 International Conference on Teaching and Education Scien
 ces
URL:http://www.wikicfp.com/cfp/servlet/event.showcfp?eventid=34251&copyow
 nerid=61355
UID:cfp424816-N@wikicfp.com
END:VEVENT
BEGIN:VEVENT
DTSTAMP:20260419T212234Z
DTSTART;VALUE=DATE:20140520
SUMMARY:ICTES 2014 Final Version Due
DESCRIPTION:2014 International Conference on Teaching and Education Scien
 ces
URL:http://www.wikicfp.com/cfp/servlet/event.showcfp?eventid=34251&copyow
 nerid=61355
UID:cfp424816-N@wikicfp.com
END:VEVENT
BEGIN:VEVENT
DTSTAMP:20260419T212234Z
DTSTART;VALUE=DATE:20140616
DTEND;VALUE=DATE:20140618
SUMMARY:ICSSB 2014
DESCRIPTION:2014 International Conference on Social Sciences and Business
 
URL:http://www.wikicfp.com/cfp/servlet/event.showcfp?eventid=34253&copyow
 nerid=61355
UID:cfp424815-E@wikicfp.com
END:VEVENT
BEGIN:VEVENT
DTSTAMP:20260419T212234Z
DTSTART;VALUE=DATE:20140425
SUMMARY:ICSSB 2014 Deadline
DESCRIPTION:2014 International Conference on Social Sciences and Business
 
URL:http://www.wikicfp.com/cfp/servlet/event.showcfp?eventid=34253&copyow
 nerid=61355
UID:cfp424815-D@wikicfp.com
END:VEVENT
BEGIN:VEVENT
DTSTAMP:20260419T212234Z
DTSTART;VALUE=DATE:20140510
SUMMARY:ICSSB 2014 Notification Due
DESCRIPTION:2014 International Conference on Social Sciences and Business
 
URL:http://www.wikicfp.com/cfp/servlet/event.showcfp?eventid=34253&copyow
 nerid=61355
UID:cfp424815-N@wikicfp.com
END:VEVENT
BEGIN:VEVENT
DTSTAMP:20260419T212234Z
DTSTART;VALUE=DATE:20140520
SUMMARY:ICSSB 2014 Final Version Due
DESCRIPTION:2014 International Conference on Social Sciences and Business
 
URL:http://www.wikicfp.com/cfp/servlet/event.showcfp?eventid=34253&copyow
 nerid=61355
UID:cfp424815-N@wikicfp.com
END:VEVENT
BEGIN:VEVENT
DTSTAMP:20260419T212234Z
DTSTART;VALUE=DATE:20140622
DTEND;VALUE=DATE:20140624
SUMMARY:ICPSB 2014
DESCRIPTION:2014 3rd International Conference on Psychological Sciences a
 nd Behaviors
URL:http://www.wikicfp.com/cfp/servlet/event.showcfp?eventid=34255&copyow
 nerid=61355
UID:cfp424817-E@wikicfp.com
END:VEVENT
BEGIN:VEVENT
DTSTAMP:20260419T212234Z
DTSTART;VALUE=DATE:20140425
SUMMARY:ICPSB 2014 Deadline
DESCRIPTION:2014 3rd International Conference on Psychological Sciences a
 nd Behaviors
URL:http://www.wikicfp.com/cfp/servlet/event.showcfp?eventid=34255&copyow
 nerid=61355
UID:cfp424817-D@wikicfp.com
END:VEVENT
BEGIN:VEVENT
DTSTAMP:20260419T212234Z
DTSTART;VALUE=DATE:20140510
SUMMARY:ICPSB 2014 Notification Due
DESCRIPTION:2014 3rd International Conference on Psychological Sciences a
 nd Behaviors
URL:http://www.wikicfp.com/cfp/servlet/event.showcfp?eventid=34255&copyow
 nerid=61355
UID:cfp424817-N@wikicfp.com
END:VEVENT
BEGIN:VEVENT
DTSTAMP:20260419T212234Z
DTSTART;VALUE=DATE:20140525
SUMMARY:ICPSB 2014 Final Version Due
DESCRIPTION:2014 3rd International Conference on Psychological Sciences a
 nd Behaviors
URL:http://www.wikicfp.com/cfp/servlet/event.showcfp?eventid=34255&copyow
 nerid=61355
UID:cfp424817-N@wikicfp.com
END:VEVENT
BEGIN:VEVENT
DTSTAMP:20260419T212234Z
DTSTART;VALUE=DATE:20140611
DTEND;VALUE=DATE:20140614
SUMMARY:NICISS 2014
DESCRIPTION:Ninth International Conference on Interdisciplinary Social Sc
 iences
URL:http://www.wikicfp.com/cfp/servlet/event.showcfp?eventid=30247&copyow
 nerid=61355
UID:cfp424808-E@wikicfp.com
END:VEVENT
BEGIN:VEVENT
DTSTAMP:20260419T212234Z
DTSTART;VALUE=DATE:20140511
SUMMARY:NICISS 2014 Deadline
DESCRIPTION:Ninth International Conference on Interdisciplinary Social Sc
 iences
URL:http://www.wikicfp.com/cfp/servlet/event.showcfp?eventid=30247&copyow
 nerid=61355
UID:cfp424808-D@wikicfp.com
END:VEVENT
BEGIN:VEVENT
DTSTAMP:20260419T212234Z
DTSTART;VALUE=DATE:20140719
DTEND;VALUE=DATE:20140721
SUMMARY:ICSSI 2014
DESCRIPTION:2014 International Conference on Social Sciences and Innovati
 ons
URL:http://www.wikicfp.com/cfp/servlet/event.showcfp?eventid=34681&copyow
 nerid=61355
UID:cfp424804-E@wikicfp.com
END:VEVENT
BEGIN:VEVENT
DTSTAMP:20260419T212234Z
DTSTART;VALUE=DATE:20140520
SUMMARY:ICSSI 2014 Deadline
DESCRIPTION:2014 International Conference on Social Sciences and Innovati
 ons
URL:http://www.wikicfp.com/cfp/servlet/event.showcfp?eventid=34681&copyow
 nerid=61355
UID:cfp424804-D@wikicfp.com
END:VEVENT
BEGIN:VEVENT
DTSTAMP:20260419T212234Z
DTSTART;VALUE=DATE:20140605
SUMMARY:ICSSI 2014 Notification Due
DESCRIPTION:2014 International Conference on Social Sciences and Innovati
 ons
URL:http://www.wikicfp.com/cfp/servlet/event.showcfp?eventid=34681&copyow
 nerid=61355
UID:cfp424804-N@wikicfp.com
END:VEVENT
BEGIN:VEVENT
DTSTAMP:20260419T212234Z
DTSTART;VALUE=DATE:20140620
SUMMARY:ICSSI 2014 Final Version Due
DESCRIPTION:2014 International Conference on Social Sciences and Innovati
 ons
URL:http://www.wikicfp.com/cfp/servlet/event.showcfp?eventid=34681&copyow
 nerid=61355
UID:cfp424804-N@wikicfp.com
END:VEVENT
BEGIN:VEVENT
DTSTAMP:20260419T212234Z
DTSTART;VALUE=DATE:20140806
DTEND;VALUE=DATE:20140809
SUMMARY:WCOSS 2014
DESCRIPTION:2014 International Conference on World Congress of Social Sci
 ences
URL:http://www.wikicfp.com/cfp/servlet/event.showcfp?eventid=35235&copyow
 nerid=61355
UID:cfp424806-E@wikicfp.com
END:VEVENT
BEGIN:VEVENT
DTSTAMP:20260419T212234Z
DTSTART;VALUE=DATE:20140525
SUMMARY:WCOSS 2014 Deadline
DESCRIPTION:2014 International Conference on World Congress of Social Sci
 ences
URL:http://www.wikicfp.com/cfp/servlet/event.showcfp?eventid=35235&copyow
 nerid=61355
UID:cfp424806-D@wikicfp.com
END:VEVENT
BEGIN:VEVENT
DTSTAMP:20260419T212234Z
DTSTART;VALUE=DATE:20140610
SUMMARY:WCOSS 2014 Notification Due
DESCRIPTION:2014 International Conference on World Congress of Social Sci
 ences
URL:http://www.wikicfp.com/cfp/servlet/event.showcfp?eventid=35235&copyow
 nerid=61355
UID:cfp424806-N@wikicfp.com
END:VEVENT
BEGIN:VEVENT
DTSTAMP:20260419T212234Z
DTSTART;VALUE=DATE:20140625
SUMMARY:WCOSS 2014 Final Version Due
DESCRIPTION:2014 International Conference on World Congress of Social Sci
 ences
URL:http://www.wikicfp.com/cfp/servlet/event.showcfp?eventid=35235&copyow
 nerid=61355
UID:cfp424806-N@wikicfp.com
END:VEVENT
BEGIN:VEVENT
DTSTAMP:20260419T212234Z
DTSTART;VALUE=DATE:20141006
DTEND;VALUE=DATE:20141011
SUMMARY:CIESUP 2014
DESCRIPTION:Knowledge Crossing Borders: Building Partnerships Through Sha
 red Knowledge
URL:http://www.wikicfp.com/cfp/servlet/event.showcfp?eventid=36089&copyow
 nerid=61355
UID:cfp424795-E@wikicfp.com
END:VEVENT
BEGIN:VEVENT
DTSTAMP:20260419T212234Z
DTSTART;VALUE=DATE:20140301
SUMMARY:CIESUP 2014 Abstract Due
DESCRIPTION:Knowledge Crossing Borders: Building Partnerships Through Sha
 red Knowledge
URL:http://www.wikicfp.com/cfp/servlet/event.showcfp?eventid=36089&copyow
 nerid=61355
UID:cfp424795-A@wikicfp.com
END:VEVENT
BEGIN:VEVENT
DTSTAMP:20260419T212234Z
DTSTART;VALUE=DATE:20140601
SUMMARY:CIESUP 2014 Deadline
DESCRIPTION:Knowledge Crossing Borders: Building Partnerships Through Sha
 red Knowledge
URL:http://www.wikicfp.com/cfp/servlet/event.showcfp?eventid=36089&copyow
 nerid=61355
UID:cfp424795-D@wikicfp.com
END:VEVENT
BEGIN:VEVENT
DTSTAMP:20260419T212234Z
DTSTART;VALUE=DATE:20140801
SUMMARY:CIESUP 2014 Notification Due
DESCRIPTION:Knowledge Crossing Borders: Building Partnerships Through Sha
 red Knowledge
URL:http://www.wikicfp.com/cfp/servlet/event.showcfp?eventid=36089&copyow
 nerid=61355
UID:cfp424795-N@wikicfp.com
END:VEVENT
BEGIN:VEVENT
DTSTAMP:20260419T212234Z
DTSTART;VALUE=DATE:20140901
SUMMARY:CIESUP 2014 Final Version Due
DESCRIPTION:Knowledge Crossing Borders: Building Partnerships Through Sha
 red Knowledge
URL:http://www.wikicfp.com/cfp/servlet/event.showcfp?eventid=36089&copyow
 nerid=61355
UID:cfp424795-N@wikicfp.com
END:VEVENT
BEGIN:VEVENT
DTSTAMP:20260419T212234Z
DTSTART;VALUE=DATE:20140726
DTEND;VALUE=DATE:20140728
SUMMARY:IACSS  2014
DESCRIPTION:IACSS 2014 - International Academic Conference on Social Scie
 nces 
URL:http://www.wikicfp.com/cfp/servlet/event.showcfp?eventid=28734&copyow
 nerid=61355
UID:cfp424807-E@wikicfp.com
END:VEVENT
BEGIN:VEVENT
DTSTAMP:20260419T212234Z
DTSTART;VALUE=DATE:20140430
SUMMARY:IACSS  2014 Abstract Due
DESCRIPTION:IACSS 2014 - International Academic Conference on Social Scie
 nces 
URL:http://www.wikicfp.com/cfp/servlet/event.showcfp?eventid=28734&copyow
 nerid=61355
UID:cfp424807-A@wikicfp.com
END:VEVENT
BEGIN:VEVENT
DTSTAMP:20260419T212234Z
DTSTART;VALUE=DATE:20140630
SUMMARY:IACSS  2014 Deadline
DESCRIPTION:IACSS 2014 - International Academic Conference on Social Scie
 nces 
URL:http://www.wikicfp.com/cfp/servlet/event.showcfp?eventid=28734&copyow
 nerid=61355
UID:cfp424807-D@wikicfp.com
END:VEVENT
BEGIN:VEVENT
DTSTAMP:20260419T212234Z
DTSTART;VALUE=DATE:20130510
SUMMARY:IACSS  2014 Notification Due
DESCRIPTION:IACSS 2014 - International Academic Conference on Social Scie
 nces 
URL:http://www.wikicfp.com/cfp/servlet/event.showcfp?eventid=28734&copyow
 nerid=61355
UID:cfp424807-N@wikicfp.com
END:VEVENT
BEGIN:VEVENT
DTSTAMP:20260419T212234Z
DTSTART;VALUE=DATE:20130630
SUMMARY:IACSS  2014 Final Version Due
DESCRIPTION:IACSS 2014 - International Academic Conference on Social Scie
 nces 
URL:http://www.wikicfp.com/cfp/servlet/event.showcfp?eventid=28734&copyow
 nerid=61355
UID:cfp424807-N@wikicfp.com
END:VEVENT
BEGIN:VEVENT
DTSTAMP:20260419T212234Z
DTSTART;VALUE=DATE:20140902
DTEND;VALUE=DATE:20140908
SUMMARY:SGEM Social&Arts 2014
DESCRIPTION:International Multidisciplinary Scientific Conferences on Soc
 ial Sciences and Arts
URL:http://www.wikicfp.com/cfp/servlet/event.showcfp?eventid=34085&copyow
 nerid=61355
UID:cfp424809-E@wikicfp.com
END:VEVENT
BEGIN:VEVENT
DTSTAMP:20260419T212234Z
DTSTART;VALUE=DATE:20140526
SUMMARY:SGEM Social&Arts 2014 Abstract Due
DESCRIPTION:International Multidisciplinary Scientific Conferences on Soc
 ial Sciences and Arts
URL:http://www.wikicfp.com/cfp/servlet/event.showcfp?eventid=34085&copyow
 nerid=61355
UID:cfp424809-A@wikicfp.com
END:VEVENT
BEGIN:VEVENT
DTSTAMP:20260419T212234Z
DTSTART;VALUE=DATE:20140710
SUMMARY:SGEM Social&Arts 2014 Deadline
DESCRIPTION:International Multidisciplinary Scientific Conferences on Soc
 ial Sciences and Arts
URL:http://www.wikicfp.com/cfp/servlet/event.showcfp?eventid=34085&copyow
 nerid=61355
UID:cfp424809-D@wikicfp.com
END:VEVENT
BEGIN:VEVENT
DTSTAMP:20260419T212234Z
DTSTART;VALUE=DATE:20140915
SUMMARY:Social Media 2014 Deadline
DESCRIPTION:1st CFP: SPECIAL ISSUE ON: Unveiling the Impact of Social Med
 ia: Importance of the Co-creation of Business Value during the Adoption 
 and Use Process- JOEUC
URL:http://www.wikicfp.com/cfp/servlet/event.showcfp?eventid=34180&copyow
 nerid=61355
UID:cfp424805-D@wikicfp.com
END:VEVENT
BEGIN:VEVENT
DTSTAMP:20260419T212234Z
DTSTART;VALUE=DATE:20141105
DTEND;VALUE=DATE:20141109
SUMMARY:SMR 2014
DESCRIPTION:So Many Roads: The World in the Grateful Dead
URL:http://www.wikicfp.com/cfp/servlet/event.showcfp?eventid=36090&copyow
 nerid=61355
UID:cfp424796-E@wikicfp.com
END:VEVENT
BEGIN:VEVENT
DTSTAMP:20260419T212234Z
DTSTART;VALUE=DATE:20140915
SUMMARY:SMR 2014 Deadline
DESCRIPTION:So Many Roads: The World in the Grateful Dead
URL:http://www.wikicfp.com/cfp/servlet/event.showcfp?eventid=36090&copyow
 nerid=61355
UID:cfp424796-D@wikicfp.com
END:VEVENT
BEGIN:VEVENT
DTSTAMP:20260419T212234Z
DTSTART;VALUE=DATE:20141016
DTEND;VALUE=DATE:20141018
SUMMARY:CEC 2014
DESCRIPTION:Fifth International Conference on the Constructed Environment
 
URL:http://www.wikicfp.com/cfp/servlet/event.showcfp?eventid=32952&copyow
 nerid=61355
UID:cfp424810-E@wikicfp.com
END:VEVENT
BEGIN:VEVENT
DTSTAMP:20260419T212234Z
DTSTART;VALUE=DATE:20141016
SUMMARY:CEC 2014 Deadline
DESCRIPTION:Fifth International Conference on the Constructed Environment
 
URL:http://www.wikicfp.com/cfp/servlet/event.showcfp?eventid=32952&copyow
 nerid=61355
UID:cfp424810-D@wikicfp.com
END:VEVENT
END:VCALENDAR
