BEGIN:VCALENDAR
PRODID:-//WikiCFP//sjmangel 1.0//EN
VERSION:2.0
CALSCALE:GREGORIAN
BEGIN:VEVENT
DTSTAMP:20260421T105627Z
DTSTART;VALUE=DATE:20080217
DTEND;VALUE=DATE:20080224
SUMMARY:CICLing 2008
DESCRIPTION:Conference on Intelligent Text Processing and Computational L
 inguistics
URL:http://www.wikicfp.com/cfp/servlet/event.showcfp?eventid=363&copyowne
 rid=61306
UID:cfp424232-E@wikicfp.com
END:VEVENT
BEGIN:VEVENT
DTSTAMP:20260421T105627Z
DTSTART;VALUE=DATE:20071015
SUMMARY:CICLing 2008 Abstract Due
DESCRIPTION:Conference on Intelligent Text Processing and Computational L
 inguistics
URL:http://www.wikicfp.com/cfp/servlet/event.showcfp?eventid=363&copyowne
 rid=61306
UID:cfp424232-A@wikicfp.com
END:VEVENT
BEGIN:VEVENT
DTSTAMP:20260421T105627Z
DTSTART;VALUE=DATE:20071025
SUMMARY:CICLing 2008 Deadline
DESCRIPTION:Conference on Intelligent Text Processing and Computational L
 inguistics
URL:http://www.wikicfp.com/cfp/servlet/event.showcfp?eventid=363&copyowne
 rid=61306
UID:cfp424232-D@wikicfp.com
END:VEVENT
BEGIN:VEVENT
DTSTAMP:20260421T105627Z
DTSTART;VALUE=DATE:20140220
DTEND;VALUE=DATE:20140223
SUMMARY:NextMed / MMVR 2014
DESCRIPTION:NextMed / MMVR21 (Medicine Meets Virtual Reality) 
URL:http://www.wikicfp.com/cfp/servlet/event.showcfp?eventid=31128&copyow
 nerid=61306
UID:cfp424241-E@wikicfp.com
END:VEVENT
BEGIN:VEVENT
DTSTAMP:20260421T105627Z
DTSTART;VALUE=DATE:20130801
SUMMARY:NextMed / MMVR 2014 Deadline
DESCRIPTION:NextMed / MMVR21 (Medicine Meets Virtual Reality) 
URL:http://www.wikicfp.com/cfp/servlet/event.showcfp?eventid=31128&copyow
 nerid=61306
UID:cfp424241-D@wikicfp.com
END:VEVENT
BEGIN:VEVENT
DTSTAMP:20260421T105627Z
DTSTART;VALUE=DATE:20140226
DTEND;VALUE=DATE:20140301
SUMMARY:MKWI 2014
DESCRIPTION:MKWI'14 - Track: Modeling and Management of Secure Workflows
URL:http://www.wikicfp.com/cfp/servlet/event.showcfp?eventid=30679&copyow
 nerid=61306
UID:cfp424244-E@wikicfp.com
END:VEVENT
BEGIN:VEVENT
DTSTAMP:20260421T105627Z
DTSTART;VALUE=DATE:20130915
SUMMARY:MKWI 2014 Deadline
DESCRIPTION:MKWI'14 - Track: Modeling and Management of Secure Workflows
URL:http://www.wikicfp.com/cfp/servlet/event.showcfp?eventid=30679&copyow
 nerid=61306
UID:cfp424244-D@wikicfp.com
END:VEVENT
BEGIN:VEVENT
DTSTAMP:20260421T105627Z
DTSTART;VALUE=DATE:20131115
SUMMARY:MKWI 2014 Notification Due
DESCRIPTION:MKWI'14 - Track: Modeling and Management of Secure Workflows
URL:http://www.wikicfp.com/cfp/servlet/event.showcfp?eventid=30679&copyow
 nerid=61306
UID:cfp424244-N@wikicfp.com
END:VEVENT
BEGIN:VEVENT
DTSTAMP:20260421T105627Z
DTSTART;VALUE=DATE:20131215
SUMMARY:MKWI 2014 Final Version Due
DESCRIPTION:MKWI'14 - Track: Modeling and Management of Secure Workflows
URL:http://www.wikicfp.com/cfp/servlet/event.showcfp?eventid=30679&copyow
 nerid=61306
UID:cfp424244-N@wikicfp.com
END:VEVENT
BEGIN:VEVENT
DTSTAMP:20260421T105627Z
DTSTART;VALUE=DATE:20140221
DTEND;VALUE=DATE:20140223
SUMMARY:CCSIT 2014
DESCRIPTION:The Fourth International Conference on Computer Science and I
 nformation Technology
URL:http://www.wikicfp.com/cfp/servlet/event.showcfp?eventid=31786&copyow
 nerid=61306
UID:cfp424240-E@wikicfp.com
END:VEVENT
BEGIN:VEVENT
DTSTAMP:20260421T105627Z
DTSTART;VALUE=DATE:20131125
SUMMARY:CCSIT 2014 Deadline
DESCRIPTION:The Fourth International Conference on Computer Science and I
 nformation Technology
URL:http://www.wikicfp.com/cfp/servlet/event.showcfp?eventid=31786&copyow
 nerid=61306
UID:cfp424240-D@wikicfp.com
END:VEVENT
BEGIN:VEVENT
DTSTAMP:20260421T105627Z
DTSTART;VALUE=DATE:20131225
SUMMARY:CCSIT 2014 Notification Due
DESCRIPTION:The Fourth International Conference on Computer Science and I
 nformation Technology
URL:http://www.wikicfp.com/cfp/servlet/event.showcfp?eventid=31786&copyow
 nerid=61306
UID:cfp424240-N@wikicfp.com
END:VEVENT
BEGIN:VEVENT
DTSTAMP:20260421T105627Z
DTSTART;VALUE=DATE:20140101
SUMMARY:CCSIT 2014 Final Version Due
DESCRIPTION:The Fourth International Conference on Computer Science and I
 nformation Technology
URL:http://www.wikicfp.com/cfp/servlet/event.showcfp?eventid=31786&copyow
 nerid=61306
UID:cfp424240-N@wikicfp.com
END:VEVENT
BEGIN:VEVENT
DTSTAMP:20260421T105627Z
DTSTART;VALUE=DATE:20140221
DTEND;VALUE=DATE:20140223
SUMMARY:AISC 2014
DESCRIPTION:Second International Conference on Artificial Intelligence\, 
 Soft Computing
URL:http://www.wikicfp.com/cfp/servlet/event.showcfp?eventid=31938&copyow
 nerid=61306
UID:cfp424225-E@wikicfp.com
END:VEVENT
BEGIN:VEVENT
DTSTAMP:20260421T105627Z
DTSTART;VALUE=DATE:20131125
SUMMARY:AISC 2014 Deadline
DESCRIPTION:Second International Conference on Artificial Intelligence\, 
 Soft Computing
URL:http://www.wikicfp.com/cfp/servlet/event.showcfp?eventid=31938&copyow
 nerid=61306
UID:cfp424225-D@wikicfp.com
END:VEVENT
BEGIN:VEVENT
DTSTAMP:20260421T105627Z
DTSTART;VALUE=DATE:20131225
SUMMARY:AISC 2014 Notification Due
DESCRIPTION:Second International Conference on Artificial Intelligence\, 
 Soft Computing
URL:http://www.wikicfp.com/cfp/servlet/event.showcfp?eventid=31938&copyow
 nerid=61306
UID:cfp424225-N@wikicfp.com
END:VEVENT
BEGIN:VEVENT
DTSTAMP:20260421T105627Z
DTSTART;VALUE=DATE:20140101
SUMMARY:AISC 2014 Final Version Due
DESCRIPTION:Second International Conference on Artificial Intelligence\, 
 Soft Computing
URL:http://www.wikicfp.com/cfp/servlet/event.showcfp?eventid=31938&copyow
 nerid=61306
UID:cfp424225-N@wikicfp.com
END:VEVENT
BEGIN:VEVENT
DTSTAMP:20260421T105627Z
DTSTART;VALUE=DATE:20140221
DTEND;VALUE=DATE:20140223
SUMMARY:SIPP 2014
DESCRIPTION:Second International Conference on Signal\, Image Processing 
 and Pattern Recognition
URL:http://www.wikicfp.com/cfp/servlet/event.showcfp?eventid=32133&copyow
 nerid=61306
UID:cfp424238-E@wikicfp.com
END:VEVENT
BEGIN:VEVENT
DTSTAMP:20260421T105627Z
DTSTART;VALUE=DATE:20131125
SUMMARY:SIPP 2014 Deadline
DESCRIPTION:Second International Conference on Signal\, Image Processing 
 and Pattern Recognition
URL:http://www.wikicfp.com/cfp/servlet/event.showcfp?eventid=32133&copyow
 nerid=61306
UID:cfp424238-D@wikicfp.com
END:VEVENT
BEGIN:VEVENT
DTSTAMP:20260421T105627Z
DTSTART;VALUE=DATE:20131225
SUMMARY:SIPP 2014 Notification Due
DESCRIPTION:Second International Conference on Signal\, Image Processing 
 and Pattern Recognition
URL:http://www.wikicfp.com/cfp/servlet/event.showcfp?eventid=32133&copyow
 nerid=61306
UID:cfp424238-N@wikicfp.com
END:VEVENT
BEGIN:VEVENT
DTSTAMP:20260421T105627Z
DTSTART;VALUE=DATE:20140101
SUMMARY:SIPP 2014 Final Version Due
DESCRIPTION:Second International Conference on Signal\, Image Processing 
 and Pattern Recognition
URL:http://www.wikicfp.com/cfp/servlet/event.showcfp?eventid=32133&copyow
 nerid=61306
UID:cfp424238-N@wikicfp.com
END:VEVENT
BEGIN:VEVENT
DTSTAMP:20260421T105627Z
DTSTART;VALUE=DATE:20140221
DTEND;VALUE=DATE:20140223
SUMMARY:SIPP 2014
DESCRIPTION:Second International Conference on Signal\, Image Processing 
 and Pattern Recognition
URL:http://www.wikicfp.com/cfp/servlet/event.showcfp?eventid=32845&copyow
 nerid=61306
UID:cfp424231-E@wikicfp.com
END:VEVENT
BEGIN:VEVENT
DTSTAMP:20260421T105627Z
DTSTART;VALUE=DATE:20131125
SUMMARY:SIPP 2014 Deadline
DESCRIPTION:Second International Conference on Signal\, Image Processing 
 and Pattern Recognition
URL:http://www.wikicfp.com/cfp/servlet/event.showcfp?eventid=32845&copyow
 nerid=61306
UID:cfp424231-D@wikicfp.com
END:VEVENT
BEGIN:VEVENT
DTSTAMP:20260421T105627Z
DTSTART;VALUE=DATE:20131225
SUMMARY:SIPP 2014 Notification Due
DESCRIPTION:Second International Conference on Signal\, Image Processing 
 and Pattern Recognition
URL:http://www.wikicfp.com/cfp/servlet/event.showcfp?eventid=32845&copyow
 nerid=61306
UID:cfp424231-N@wikicfp.com
END:VEVENT
BEGIN:VEVENT
DTSTAMP:20260421T105627Z
DTSTART;VALUE=DATE:20140101
SUMMARY:SIPP 2014 Final Version Due
DESCRIPTION:Second International Conference on Signal\, Image Processing 
 and Pattern Recognition
URL:http://www.wikicfp.com/cfp/servlet/event.showcfp?eventid=32845&copyow
 nerid=61306
UID:cfp424231-N@wikicfp.com
END:VEVENT
BEGIN:VEVENT
DTSTAMP:20260421T105627Z
DTSTART;VALUE=DATE:20140221
DTEND;VALUE=DATE:20140223
SUMMARY:PDCTA 2014
DESCRIPTION:Third International conference on Parallel\, Distributed Comp
 uting technologies and Applications 
URL:http://www.wikicfp.com/cfp/servlet/event.showcfp?eventid=31894&copyow
 nerid=61306
UID:cfp424245-E@wikicfp.com
END:VEVENT
BEGIN:VEVENT
DTSTAMP:20260421T105627Z
DTSTART;VALUE=DATE:20131214
SUMMARY:PDCTA 2014 Deadline
DESCRIPTION:Third International conference on Parallel\, Distributed Comp
 uting technologies and Applications 
URL:http://www.wikicfp.com/cfp/servlet/event.showcfp?eventid=31894&copyow
 nerid=61306
UID:cfp424245-D@wikicfp.com
END:VEVENT
BEGIN:VEVENT
DTSTAMP:20260421T105627Z
DTSTART;VALUE=DATE:20140203
SUMMARY:PDCTA 2014 Notification Due
DESCRIPTION:Third International conference on Parallel\, Distributed Comp
 uting technologies and Applications 
URL:http://www.wikicfp.com/cfp/servlet/event.showcfp?eventid=31894&copyow
 nerid=61306
UID:cfp424245-N@wikicfp.com
END:VEVENT
BEGIN:VEVENT
DTSTAMP:20260421T105627Z
DTSTART;VALUE=DATE:20140210
SUMMARY:PDCTA 2014 Final Version Due
DESCRIPTION:Third International conference on Parallel\, Distributed Comp
 uting technologies and Applications 
URL:http://www.wikicfp.com/cfp/servlet/event.showcfp?eventid=31894&copyow
 nerid=61306
UID:cfp424245-N@wikicfp.com
END:VEVENT
BEGIN:VEVENT
DTSTAMP:20260421T105627Z
DTSTART;VALUE=DATE:20140227
DTEND;VALUE=DATE:20140301
SUMMARY:ICISAI 2014
DESCRIPTION:2014 International Conference on Information Security and Art
 ificial Intelligence
URL:http://www.wikicfp.com/cfp/servlet/event.showcfp?eventid=32105&copyow
 nerid=61306
UID:cfp424227-E@wikicfp.com
END:VEVENT
BEGIN:VEVENT
DTSTAMP:20260421T105627Z
DTSTART;VALUE=DATE:20131215
SUMMARY:ICISAI 2014 Deadline
DESCRIPTION:2014 International Conference on Information Security and Art
 ificial Intelligence
URL:http://www.wikicfp.com/cfp/servlet/event.showcfp?eventid=32105&copyow
 nerid=61306
UID:cfp424227-D@wikicfp.com
END:VEVENT
BEGIN:VEVENT
DTSTAMP:20260421T105627Z
DTSTART;VALUE=DATE:20140105
SUMMARY:ICISAI 2014 Notification Due
DESCRIPTION:2014 International Conference on Information Security and Art
 ificial Intelligence
URL:http://www.wikicfp.com/cfp/servlet/event.showcfp?eventid=32105&copyow
 nerid=61306
UID:cfp424227-N@wikicfp.com
END:VEVENT
BEGIN:VEVENT
DTSTAMP:20260421T105627Z
DTSTART;VALUE=DATE:20140115
SUMMARY:ICISAI 2014 Final Version Due
DESCRIPTION:2014 International Conference on Information Security and Art
 ificial Intelligence
URL:http://www.wikicfp.com/cfp/servlet/event.showcfp?eventid=32105&copyow
 nerid=61306
UID:cfp424227-N@wikicfp.com
END:VEVENT
BEGIN:VEVENT
DTSTAMP:20260421T105627Z
DTSTART;VALUE=DATE:20150216
DTEND;VALUE=DATE:20150220
SUMMARY:ICNC 2015
DESCRIPTION:2015 International Conference on Computing\, Networking and C
 ommunication
URL:http://www.wikicfp.com/cfp/servlet/event.showcfp?eventid=35997&copyow
 nerid=61306
UID:cfp424243-E@wikicfp.com
END:VEVENT
BEGIN:VEVENT
DTSTAMP:20260421T105627Z
DTSTART;VALUE=DATE:20140705
SUMMARY:ICNC 2015 Deadline
DESCRIPTION:2015 International Conference on Computing\, Networking and C
 ommunication
URL:http://www.wikicfp.com/cfp/servlet/event.showcfp?eventid=35997&copyow
 nerid=61306
UID:cfp424243-D@wikicfp.com
END:VEVENT
BEGIN:VEVENT
DTSTAMP:20260421T105627Z
DTSTART;VALUE=DATE:20140920
SUMMARY:ICNC 2015 Notification Due
DESCRIPTION:2015 International Conference on Computing\, Networking and C
 ommunication
URL:http://www.wikicfp.com/cfp/servlet/event.showcfp?eventid=35997&copyow
 nerid=61306
UID:cfp424243-N@wikicfp.com
END:VEVENT
BEGIN:VEVENT
DTSTAMP:20260421T105627Z
DTSTART;VALUE=DATE:20141020
SUMMARY:ICNC 2015 Final Version Due
DESCRIPTION:2015 International Conference on Computing\, Networking and C
 ommunication
URL:http://www.wikicfp.com/cfp/servlet/event.showcfp?eventid=35997&copyow
 nerid=61306
UID:cfp424243-N@wikicfp.com
END:VEVENT
BEGIN:VEVENT
DTSTAMP:20260421T105627Z
DTSTART;VALUE=DATE:20150202
DTEND;VALUE=DATE:20150204
SUMMARY:ICOIA 2015
DESCRIPTION:2015 2nd International Conference on Intelligent Agriculture
URL:http://www.wikicfp.com/cfp/servlet/event.showcfp?eventid=32168&copyow
 nerid=61306
UID:cfp424228-E@wikicfp.com
END:VEVENT
BEGIN:VEVENT
DTSTAMP:20260421T105627Z
DTSTART;VALUE=DATE:20141115
SUMMARY:ICOIA 2015 Deadline
DESCRIPTION:2015 2nd International Conference on Intelligent Agriculture
URL:http://www.wikicfp.com/cfp/servlet/event.showcfp?eventid=32168&copyow
 nerid=61306
UID:cfp424228-D@wikicfp.com
END:VEVENT
BEGIN:VEVENT
DTSTAMP:20260421T105627Z
DTSTART;VALUE=DATE:20141205
SUMMARY:ICOIA 2015 Notification Due
DESCRIPTION:2015 2nd International Conference on Intelligent Agriculture
URL:http://www.wikicfp.com/cfp/servlet/event.showcfp?eventid=32168&copyow
 nerid=61306
UID:cfp424228-N@wikicfp.com
END:VEVENT
BEGIN:VEVENT
DTSTAMP:20260421T105627Z
DTSTART;VALUE=DATE:20141220
SUMMARY:ICOIA 2015 Final Version Due
DESCRIPTION:2015 2nd International Conference on Intelligent Agriculture
URL:http://www.wikicfp.com/cfp/servlet/event.showcfp?eventid=32168&copyow
 nerid=61306
UID:cfp424228-N@wikicfp.com
END:VEVENT
BEGIN:VEVENT
DTSTAMP:20260421T105627Z
DTSTART;VALUE=DATE:20150202
DTEND;VALUE=DATE:20150204
SUMMARY:ICIIN 2015
DESCRIPTION:2015 4th International Conference on Intelligent Information 
 Networks
URL:http://www.wikicfp.com/cfp/servlet/event.showcfp?eventid=32169&copyow
 nerid=61306
UID:cfp424229-E@wikicfp.com
END:VEVENT
BEGIN:VEVENT
DTSTAMP:20260421T105627Z
DTSTART;VALUE=DATE:20141115
SUMMARY:ICIIN 2015 Deadline
DESCRIPTION:2015 4th International Conference on Intelligent Information 
 Networks
URL:http://www.wikicfp.com/cfp/servlet/event.showcfp?eventid=32169&copyow
 nerid=61306
UID:cfp424229-D@wikicfp.com
END:VEVENT
BEGIN:VEVENT
DTSTAMP:20260421T105627Z
DTSTART;VALUE=DATE:20141205
SUMMARY:ICIIN 2015 Notification Due
DESCRIPTION:2015 4th International Conference on Intelligent Information 
 Networks
URL:http://www.wikicfp.com/cfp/servlet/event.showcfp?eventid=32169&copyow
 nerid=61306
UID:cfp424229-N@wikicfp.com
END:VEVENT
BEGIN:VEVENT
DTSTAMP:20260421T105627Z
DTSTART;VALUE=DATE:20141220
SUMMARY:ICIIN 2015 Final Version Due
DESCRIPTION:2015 4th International Conference on Intelligent Information 
 Networks
URL:http://www.wikicfp.com/cfp/servlet/event.showcfp?eventid=32169&copyow
 nerid=61306
UID:cfp424229-N@wikicfp.com
END:VEVENT
BEGIN:VEVENT
DTSTAMP:20260421T105627Z
DTSTART;VALUE=DATE:20150212
DTEND;VALUE=DATE:20150214
SUMMARY:ICAEE 2015
DESCRIPTION:2015 the 2nd International Conference on Advances in Electron
 ics Engineering
URL:http://www.wikicfp.com/cfp/servlet/event.showcfp?eventid=32173&copyow
 nerid=61306
UID:cfp424239-E@wikicfp.com
END:VEVENT
BEGIN:VEVENT
DTSTAMP:20260421T105627Z
DTSTART;VALUE=DATE:20141125
SUMMARY:ICAEE 2015 Deadline
DESCRIPTION:2015 the 2nd International Conference on Advances in Electron
 ics Engineering
URL:http://www.wikicfp.com/cfp/servlet/event.showcfp?eventid=32173&copyow
 nerid=61306
UID:cfp424239-D@wikicfp.com
END:VEVENT
BEGIN:VEVENT
DTSTAMP:20260421T105627Z
DTSTART;VALUE=DATE:20141220
SUMMARY:ICAEE 2015 Notification Due
DESCRIPTION:2015 the 2nd International Conference on Advances in Electron
 ics Engineering
URL:http://www.wikicfp.com/cfp/servlet/event.showcfp?eventid=32173&copyow
 nerid=61306
UID:cfp424239-N@wikicfp.com
END:VEVENT
BEGIN:VEVENT
DTSTAMP:20260421T105627Z
DTSTART;VALUE=DATE:20150105
SUMMARY:ICAEE 2015 Final Version Due
DESCRIPTION:2015 the 2nd International Conference on Advances in Electron
 ics Engineering
URL:http://www.wikicfp.com/cfp/servlet/event.showcfp?eventid=32173&copyow
 nerid=61306
UID:cfp424239-N@wikicfp.com
END:VEVENT
BEGIN:VEVENT
DTSTAMP:20260421T105627Z
DTSTART;VALUE=DATE:20150212
DTEND;VALUE=DATE:20150214
SUMMARY:ICCMS 2015
DESCRIPTION:2015 6th International Conference on Computer Modeling and Si
 mulation
URL:http://www.wikicfp.com/cfp/servlet/event.showcfp?eventid=32204&copyow
 nerid=61306
UID:cfp424242-E@wikicfp.com
END:VEVENT
BEGIN:VEVENT
DTSTAMP:20260421T105627Z
DTSTART;VALUE=DATE:20141130
SUMMARY:ICCMS 2015 Deadline
DESCRIPTION:2015 6th International Conference on Computer Modeling and Si
 mulation
URL:http://www.wikicfp.com/cfp/servlet/event.showcfp?eventid=32204&copyow
 nerid=61306
UID:cfp424242-D@wikicfp.com
END:VEVENT
BEGIN:VEVENT
DTSTAMP:20260421T105627Z
DTSTART;VALUE=DATE:20141220
SUMMARY:ICCMS 2015 Notification Due
DESCRIPTION:2015 6th International Conference on Computer Modeling and Si
 mulation
URL:http://www.wikicfp.com/cfp/servlet/event.showcfp?eventid=32204&copyow
 nerid=61306
UID:cfp424242-N@wikicfp.com
END:VEVENT
BEGIN:VEVENT
DTSTAMP:20260421T105627Z
DTSTART;VALUE=DATE:20150105
SUMMARY:ICCMS 2015 Final Version Due
DESCRIPTION:2015 6th International Conference on Computer Modeling and Si
 mulation
URL:http://www.wikicfp.com/cfp/servlet/event.showcfp?eventid=32204&copyow
 nerid=61306
UID:cfp424242-N@wikicfp.com
END:VEVENT
BEGIN:VEVENT
DTSTAMP:20260421T105627Z
DTSTART;VALUE=DATE:20150212
DTEND;VALUE=DATE:20150214
SUMMARY:ICICA 2015
DESCRIPTION:2015 4th International Conference on Information Computer App
 lication
URL:http://www.wikicfp.com/cfp/servlet/event.showcfp?eventid=32207&copyow
 nerid=61306
UID:cfp424230-E@wikicfp.com
END:VEVENT
BEGIN:VEVENT
DTSTAMP:20260421T105627Z
DTSTART;VALUE=DATE:20141130
SUMMARY:ICICA 2015 Deadline
DESCRIPTION:2015 4th International Conference on Information Computer App
 lication
URL:http://www.wikicfp.com/cfp/servlet/event.showcfp?eventid=32207&copyow
 nerid=61306
UID:cfp424230-D@wikicfp.com
END:VEVENT
BEGIN:VEVENT
DTSTAMP:20260421T105627Z
DTSTART;VALUE=DATE:20141220
SUMMARY:ICICA 2015 Notification Due
DESCRIPTION:2015 4th International Conference on Information Computer App
 lication
URL:http://www.wikicfp.com/cfp/servlet/event.showcfp?eventid=32207&copyow
 nerid=61306
UID:cfp424230-N@wikicfp.com
END:VEVENT
BEGIN:VEVENT
DTSTAMP:20260421T105627Z
DTSTART;VALUE=DATE:20150105
SUMMARY:ICICA 2015 Final Version Due
DESCRIPTION:2015 4th International Conference on Information Computer App
 lication
URL:http://www.wikicfp.com/cfp/servlet/event.showcfp?eventid=32207&copyow
 nerid=61306
UID:cfp424230-N@wikicfp.com
END:VEVENT
BEGIN:VEVENT
DTSTAMP:20260421T105627Z
DTSTART;VALUE=DATE:20150206
DTEND;VALUE=DATE:20150208
SUMMARY:ICIAS 2015
DESCRIPTION:2015 The 3rd International Conference on Intelligent and Auto
 mation Systems
URL:http://www.wikicfp.com/cfp/servlet/event.showcfp?eventid=32103&copyow
 nerid=61306
UID:cfp424226-E@wikicfp.com
END:VEVENT
BEGIN:VEVENT
DTSTAMP:20260421T105627Z
DTSTART;VALUE=DATE:20141201
SUMMARY:ICIAS 2015 Deadline
DESCRIPTION:2015 The 3rd International Conference on Intelligent and Auto
 mation Systems
URL:http://www.wikicfp.com/cfp/servlet/event.showcfp?eventid=32103&copyow
 nerid=61306
UID:cfp424226-D@wikicfp.com
END:VEVENT
BEGIN:VEVENT
DTSTAMP:20260421T105627Z
DTSTART;VALUE=DATE:20141215
SUMMARY:ICIAS 2015 Notification Due
DESCRIPTION:2015 The 3rd International Conference on Intelligent and Auto
 mation Systems
URL:http://www.wikicfp.com/cfp/servlet/event.showcfp?eventid=32103&copyow
 nerid=61306
UID:cfp424226-N@wikicfp.com
END:VEVENT
BEGIN:VEVENT
DTSTAMP:20260421T105627Z
DTSTART;VALUE=DATE:20141231
SUMMARY:ICIAS 2015 Final Version Due
DESCRIPTION:2015 The 3rd International Conference on Intelligent and Auto
 mation Systems
URL:http://www.wikicfp.com/cfp/servlet/event.showcfp?eventid=32103&copyow
 nerid=61306
UID:cfp424226-N@wikicfp.com
END:VEVENT
END:VCALENDAR
