BEGIN:VCALENDAR
PRODID:-//WikiCFP//uroojfatima 1.0//EN
VERSION:2.0
CALSCALE:GREGORIAN
BEGIN:VEVENT
DTSTAMP:20260420T134952Z
DTSTART;VALUE=DATE:20140514
DTEND;VALUE=DATE:20140517
SUMMARY:JCSSE 2014
DESCRIPTION:The 11th International Joint Conference on Computer Sciences 
 and Software Engineering (JCSSE 2014)
URL:http://www.wikicfp.com/cfp/servlet/event.showcfp?eventid=33236&copyow
 nerid=61134
UID:cfp423288-E@wikicfp.com
END:VEVENT
BEGIN:VEVENT
DTSTAMP:20260420T134952Z
DTSTART;VALUE=DATE:20140224
SUMMARY:JCSSE 2014 Deadline
DESCRIPTION:The 11th International Joint Conference on Computer Sciences 
 and Software Engineering (JCSSE 2014)
URL:http://www.wikicfp.com/cfp/servlet/event.showcfp?eventid=33236&copyow
 nerid=61134
UID:cfp423288-D@wikicfp.com
END:VEVENT
BEGIN:VEVENT
DTSTAMP:20260420T134952Z
DTSTART;VALUE=DATE:20140331
SUMMARY:JCSSE 2014 Notification Due
DESCRIPTION:The 11th International Joint Conference on Computer Sciences 
 and Software Engineering (JCSSE 2014)
URL:http://www.wikicfp.com/cfp/servlet/event.showcfp?eventid=33236&copyow
 nerid=61134
UID:cfp423288-N@wikicfp.com
END:VEVENT
BEGIN:VEVENT
DTSTAMP:20260420T134952Z
DTSTART;VALUE=DATE:20140630
DTEND;VALUE=DATE:20140704
SUMMARY:SEPA 2014
DESCRIPTION:6th International Workshop on Software Engineering Processes 
 and Applications 
URL:http://www.wikicfp.com/cfp/servlet/event.showcfp?eventid=33724&copyow
 nerid=61134
UID:cfp423289-E@wikicfp.com
END:VEVENT
BEGIN:VEVENT
DTSTAMP:20260420T134952Z
DTSTART;VALUE=DATE:20140228
SUMMARY:SEPA 2014 Deadline
DESCRIPTION:6th International Workshop on Software Engineering Processes 
 and Applications 
URL:http://www.wikicfp.com/cfp/servlet/event.showcfp?eventid=33724&copyow
 nerid=61134
UID:cfp423289-D@wikicfp.com
END:VEVENT
BEGIN:VEVENT
DTSTAMP:20260420T134952Z
DTSTART;VALUE=DATE:20140410
SUMMARY:SEPA 2014 Notification Due
DESCRIPTION:6th International Workshop on Software Engineering Processes 
 and Applications 
URL:http://www.wikicfp.com/cfp/servlet/event.showcfp?eventid=33724&copyow
 nerid=61134
UID:cfp423289-N@wikicfp.com
END:VEVENT
BEGIN:VEVENT
DTSTAMP:20260420T134952Z
DTSTART;VALUE=DATE:20140506
SUMMARY:SEPA 2014 Final Version Due
DESCRIPTION:6th International Workshop on Software Engineering Processes 
 and Applications 
URL:http://www.wikicfp.com/cfp/servlet/event.showcfp?eventid=33724&copyow
 nerid=61134
UID:cfp423289-N@wikicfp.com
END:VEVENT
BEGIN:VEVENT
DTSTAMP:20260420T134952Z
DTSTART;VALUE=DATE:20140907
DTEND;VALUE=DATE:20140911
SUMMARY:SOAD-MT 2014
DESCRIPTION:1st International Workshop on Service-Oriented Applications D
 evelopment: Methodologies and Tools
URL:http://www.wikicfp.com/cfp/servlet/event.showcfp?eventid=35116&copyow
 nerid=61134
UID:cfp423150-E@wikicfp.com
END:VEVENT
BEGIN:VEVENT
DTSTAMP:20260420T134952Z
DTSTART;VALUE=DATE:20140423
SUMMARY:SOAD-MT 2014 Deadline
DESCRIPTION:1st International Workshop on Service-Oriented Applications D
 evelopment: Methodologies and Tools
URL:http://www.wikicfp.com/cfp/servlet/event.showcfp?eventid=35116&copyow
 nerid=61134
UID:cfp423150-D@wikicfp.com
END:VEVENT
BEGIN:VEVENT
DTSTAMP:20260420T134952Z
DTSTART;VALUE=DATE:20140519
SUMMARY:SOAD-MT 2014 Notification Due
DESCRIPTION:1st International Workshop on Service-Oriented Applications D
 evelopment: Methodologies and Tools
URL:http://www.wikicfp.com/cfp/servlet/event.showcfp?eventid=35116&copyow
 nerid=61134
UID:cfp423150-N@wikicfp.com
END:VEVENT
BEGIN:VEVENT
DTSTAMP:20260420T134952Z
DTSTART;VALUE=DATE:20140617
SUMMARY:SOAD-MT 2014 Final Version Due
DESCRIPTION:1st International Workshop on Service-Oriented Applications D
 evelopment: Methodologies and Tools
URL:http://www.wikicfp.com/cfp/servlet/event.showcfp?eventid=35116&copyow
 nerid=61134
UID:cfp423150-N@wikicfp.com
END:VEVENT
BEGIN:VEVENT
DTSTAMP:20260420T134952Z
DTSTART;VALUE=DATE:20140627
DTEND;VALUE=DATE:20140630
SUMMARY:ICSESS  2014
DESCRIPTION:2014 5th IEEE International Conference on Software Engineerin
 g and Service Science (ICSESS 2014)
URL:http://www.wikicfp.com/cfp/servlet/event.showcfp?eventid=35547&copyow
 nerid=61134
UID:cfp423290-E@wikicfp.com
END:VEVENT
BEGIN:VEVENT
DTSTAMP:20260420T134952Z
DTSTART;VALUE=DATE:20140516
SUMMARY:ICSESS  2014 Deadline
DESCRIPTION:2014 5th IEEE International Conference on Software Engineerin
 g and Service Science (ICSESS 2014)
URL:http://www.wikicfp.com/cfp/servlet/event.showcfp?eventid=35547&copyow
 nerid=61134
UID:cfp423290-D@wikicfp.com
END:VEVENT
END:VCALENDAR
