BEGIN:VCALENDAR
PRODID:-//WikiCFP//gtmtaka438 1.0//EN
VERSION:2.0
CALSCALE:GREGORIAN
BEGIN:VEVENT
DTSTAMP:20260419T172200Z
DTSTART;VALUE=DATE:20140706
DTEND;VALUE=DATE:20140708
SUMMARY:ICSIA 2014
DESCRIPTION:2014 4th International Conference on Signal\, Image Processin
 g and Applications (ICSIA 2014)
URL:http://www.wikicfp.com/cfp/servlet/event.showcfp?eventid=34526&copyow
 nerid=60903
UID:cfp421849-E@wikicfp.com
END:VEVENT
BEGIN:VEVENT
DTSTAMP:20260419T172200Z
DTSTART;VALUE=DATE:20140425
SUMMARY:ICSIA 2014 Deadline
DESCRIPTION:2014 4th International Conference on Signal\, Image Processin
 g and Applications (ICSIA 2014)
URL:http://www.wikicfp.com/cfp/servlet/event.showcfp?eventid=34526&copyow
 nerid=60903
UID:cfp421849-D@wikicfp.com
END:VEVENT
BEGIN:VEVENT
DTSTAMP:20260419T172200Z
DTSTART;VALUE=DATE:20140520
SUMMARY:ICSIA 2014 Notification Due
DESCRIPTION:2014 4th International Conference on Signal\, Image Processin
 g and Applications (ICSIA 2014)
URL:http://www.wikicfp.com/cfp/servlet/event.showcfp?eventid=34526&copyow
 nerid=60903
UID:cfp421849-N@wikicfp.com
END:VEVENT
BEGIN:VEVENT
DTSTAMP:20260419T172200Z
DTSTART;VALUE=DATE:20140530
SUMMARY:ICSIA 2014 Final Version Due
DESCRIPTION:2014 4th International Conference on Signal\, Image Processin
 g and Applications (ICSIA 2014)
URL:http://www.wikicfp.com/cfp/servlet/event.showcfp?eventid=34526&copyow
 nerid=60903
UID:cfp421849-N@wikicfp.com
END:VEVENT
END:VCALENDAR
