BEGIN:VCALENDAR
PRODID:-//WikiCFP//dm356 1.0//EN
VERSION:2.0
CALSCALE:GREGORIAN
BEGIN:VEVENT
DTSTAMP:20260419T215100Z
DTSTART;VALUE=DATE:20140514
DTEND;VALUE=DATE:20140516
SUMMARY:ICARSC 2014
DESCRIPTION:IEEE International Conference on Autonomous Robot Systems and
  Competitions
URL:http://www.wikicfp.com/cfp/servlet/event.showcfp?eventid=35459&copyow
 nerid=60800
UID:cfp421306-E@wikicfp.com
END:VEVENT
BEGIN:VEVENT
DTSTAMP:20260419T215100Z
DTSTART;VALUE=DATE:20140224
SUMMARY:ICARSC 2014 Deadline
DESCRIPTION:IEEE International Conference on Autonomous Robot Systems and
  Competitions
URL:http://www.wikicfp.com/cfp/servlet/event.showcfp?eventid=35459&copyow
 nerid=60800
UID:cfp421306-D@wikicfp.com
END:VEVENT
BEGIN:VEVENT
DTSTAMP:20260419T215100Z
DTSTART;VALUE=DATE:20140331
SUMMARY:ICARSC 2014 Notification Due
DESCRIPTION:IEEE International Conference on Autonomous Robot Systems and
  Competitions
URL:http://www.wikicfp.com/cfp/servlet/event.showcfp?eventid=35459&copyow
 nerid=60800
UID:cfp421306-N@wikicfp.com
END:VEVENT
BEGIN:VEVENT
DTSTAMP:20260419T215100Z
DTSTART;VALUE=DATE:20140411
SUMMARY:ICARSC 2014 Final Version Due
DESCRIPTION:IEEE International Conference on Autonomous Robot Systems and
  Competitions
URL:http://www.wikicfp.com/cfp/servlet/event.showcfp?eventid=35459&copyow
 nerid=60800
UID:cfp421306-N@wikicfp.com
END:VEVENT
BEGIN:VEVENT
DTSTAMP:20260419T215100Z
DTSTART;VALUE=DATE:20140703
DTEND;VALUE=DATE:20140706
SUMMARY:ICMC 2014
DESCRIPTION:International Conference on Mechatronics and Control
URL:http://www.wikicfp.com/cfp/servlet/event.showcfp?eventid=32506&copyow
 nerid=60800
UID:cfp421309-E@wikicfp.com
END:VEVENT
BEGIN:VEVENT
DTSTAMP:20260419T215100Z
DTSTART;VALUE=DATE:20140301
SUMMARY:ICMC 2014 Deadline
DESCRIPTION:International Conference on Mechatronics and Control
URL:http://www.wikicfp.com/cfp/servlet/event.showcfp?eventid=32506&copyow
 nerid=60800
UID:cfp421309-D@wikicfp.com
END:VEVENT
BEGIN:VEVENT
DTSTAMP:20260419T215100Z
DTSTART;VALUE=DATE:20140415
SUMMARY:ICMC 2014 Notification Due
DESCRIPTION:International Conference on Mechatronics and Control
URL:http://www.wikicfp.com/cfp/servlet/event.showcfp?eventid=32506&copyow
 nerid=60800
UID:cfp421309-N@wikicfp.com
END:VEVENT
BEGIN:VEVENT
DTSTAMP:20260419T215100Z
DTSTART;VALUE=DATE:20140515
SUMMARY:ICMC 2014 Final Version Due
DESCRIPTION:International Conference on Mechatronics and Control
URL:http://www.wikicfp.com/cfp/servlet/event.showcfp?eventid=32506&copyow
 nerid=60800
UID:cfp421309-N@wikicfp.com
END:VEVENT
BEGIN:VEVENT
DTSTAMP:20260419T215100Z
DTSTART;VALUE=DATE:20140803
DTEND;VALUE=DATE:20140806
SUMMARY:WAFR 2014
DESCRIPTION:The Eleventh International Workshop on the Algorithmic Founda
 tions of Robotics 
URL:http://www.wikicfp.com/cfp/servlet/event.showcfp?eventid=34720&copyow
 nerid=60800
UID:cfp421310-E@wikicfp.com
END:VEVENT
BEGIN:VEVENT
DTSTAMP:20260419T215100Z
DTSTART;VALUE=DATE:20140310
SUMMARY:WAFR 2014 Deadline
DESCRIPTION:The Eleventh International Workshop on the Algorithmic Founda
 tions of Robotics 
URL:http://www.wikicfp.com/cfp/servlet/event.showcfp?eventid=34720&copyow
 nerid=60800
UID:cfp421310-D@wikicfp.com
END:VEVENT
BEGIN:VEVENT
DTSTAMP:20260419T215100Z
DTSTART;VALUE=DATE:20140512
SUMMARY:WAFR 2014 Notification Due
DESCRIPTION:The Eleventh International Workshop on the Algorithmic Founda
 tions of Robotics 
URL:http://www.wikicfp.com/cfp/servlet/event.showcfp?eventid=34720&copyow
 nerid=60800
UID:cfp421310-N@wikicfp.com
END:VEVENT
BEGIN:VEVENT
DTSTAMP:20260419T215100Z
DTSTART;VALUE=DATE:20140901
SUMMARY:WAFR 2014 Final Version Due
DESCRIPTION:The Eleventh International Workshop on the Algorithmic Founda
 tions of Robotics 
URL:http://www.wikicfp.com/cfp/servlet/event.showcfp?eventid=34720&copyow
 nerid=60800
UID:cfp421310-N@wikicfp.com
END:VEVENT
BEGIN:VEVENT
DTSTAMP:20260419T215100Z
DTSTART;VALUE=DATE:20140901
DTEND;VALUE=DATE:20140904
SUMMARY:ICINCO 2014
DESCRIPTION:11th International Conference on Informatics in Control\, Aut
 omation and Robotics
URL:http://www.wikicfp.com/cfp/servlet/event.showcfp?eventid=32701&copyow
 nerid=60800
UID:cfp421307-E@wikicfp.com
END:VEVENT
BEGIN:VEVENT
DTSTAMP:20260419T215100Z
DTSTART;VALUE=DATE:20140415
SUMMARY:ICINCO 2014 Deadline
DESCRIPTION:11th International Conference on Informatics in Control\, Aut
 omation and Robotics
URL:http://www.wikicfp.com/cfp/servlet/event.showcfp?eventid=32701&copyow
 nerid=60800
UID:cfp421307-D@wikicfp.com
END:VEVENT
BEGIN:VEVENT
DTSTAMP:20260419T215100Z
DTSTART;VALUE=DATE:20140616
SUMMARY:ICINCO 2014 Notification Due
DESCRIPTION:11th International Conference on Informatics in Control\, Aut
 omation and Robotics
URL:http://www.wikicfp.com/cfp/servlet/event.showcfp?eventid=32701&copyow
 nerid=60800
UID:cfp421307-N@wikicfp.com
END:VEVENT
BEGIN:VEVENT
DTSTAMP:20260419T215100Z
DTSTART;VALUE=DATE:20140808
DTEND;VALUE=DATE:20140811
SUMMARY:ICCRC 2014
DESCRIPTION:2014 2nd International Conference on Control\, Robotics and C
 ybernetics
URL:http://www.wikicfp.com/cfp/servlet/event.showcfp?eventid=35606&copyow
 nerid=60800
UID:cfp421308-E@wikicfp.com
END:VEVENT
BEGIN:VEVENT
DTSTAMP:20260419T215100Z
DTSTART;VALUE=DATE:20140601
SUMMARY:ICCRC 2014 Deadline
DESCRIPTION:2014 2nd International Conference on Control\, Robotics and C
 ybernetics
URL:http://www.wikicfp.com/cfp/servlet/event.showcfp?eventid=35606&copyow
 nerid=60800
UID:cfp421308-D@wikicfp.com
END:VEVENT
BEGIN:VEVENT
DTSTAMP:20260419T215100Z
DTSTART;VALUE=DATE:20140620
SUMMARY:ICCRC 2014 Notification Due
DESCRIPTION:2014 2nd International Conference on Control\, Robotics and C
 ybernetics
URL:http://www.wikicfp.com/cfp/servlet/event.showcfp?eventid=35606&copyow
 nerid=60800
UID:cfp421308-N@wikicfp.com
END:VEVENT
BEGIN:VEVENT
DTSTAMP:20260419T215100Z
DTSTART;VALUE=DATE:20140705
SUMMARY:ICCRC 2014 Final Version Due
DESCRIPTION:2014 2nd International Conference on Control\, Robotics and C
 ybernetics
URL:http://www.wikicfp.com/cfp/servlet/event.showcfp?eventid=35606&copyow
 nerid=60800
UID:cfp421308-N@wikicfp.com
END:VEVENT
END:VCALENDAR
