BEGIN:VCALENDAR
PRODID:-//WikiCFP//tmeng7774 1.0//EN
VERSION:2.0
CALSCALE:GREGORIAN
BEGIN:VEVENT
DTSTAMP:20260422T001056Z
DTSTART;VALUE=DATE:20140616
DTEND;VALUE=DATE:20140619
SUMMARY:IEEE-SMM 2014
DESCRIPTION:The Third IEEE International Workshop on Semantic Multimedia
URL:http://www.wikicfp.com/cfp/servlet/event.showcfp?eventid=35117&copyow
 nerid=60018
UID:cfp416250-E@wikicfp.com
END:VEVENT
BEGIN:VEVENT
DTSTAMP:20260422T001056Z
DTSTART;VALUE=DATE:20140317
SUMMARY:IEEE-SMM 2014 Deadline
DESCRIPTION:The Third IEEE International Workshop on Semantic Multimedia
URL:http://www.wikicfp.com/cfp/servlet/event.showcfp?eventid=35117&copyow
 nerid=60018
UID:cfp416250-D@wikicfp.com
END:VEVENT
BEGIN:VEVENT
DTSTAMP:20260422T001056Z
DTSTART;VALUE=DATE:20140406
SUMMARY:IEEE-SMM 2014 Notification Due
DESCRIPTION:The Third IEEE International Workshop on Semantic Multimedia
URL:http://www.wikicfp.com/cfp/servlet/event.showcfp?eventid=35117&copyow
 nerid=60018
UID:cfp416250-N@wikicfp.com
END:VEVENT
BEGIN:VEVENT
DTSTAMP:20260422T001056Z
DTSTART;VALUE=DATE:20140420
SUMMARY:IEEE-SMM 2014 Final Version Due
DESCRIPTION:The Third IEEE International Workshop on Semantic Multimedia
URL:http://www.wikicfp.com/cfp/servlet/event.showcfp?eventid=35117&copyow
 nerid=60018
UID:cfp416250-N@wikicfp.com
END:VEVENT
END:VCALENDAR
