BEGIN:VCALENDAR
PRODID:-//WikiCFP//schiffni 1.0//EN
VERSION:2.0
CALSCALE:GREGORIAN
BEGIN:VEVENT
DTSTAMP:20260425T203712Z
DTSTART;VALUE=DATE:20090831
SUMMARY:IJCSI_September_Issue 2009 Deadline
DESCRIPTION:CALL FOR PAPERS International Journal of Computer Science Iss
 ues (IJCSI) - September 2009 Issue - Volume 4
URL:http://www.wikicfp.com/cfp/servlet/event.showcfp?eventid=6321&copyown
 erid=5979
UID:cfp45990-D@wikicfp.com
END:VEVENT
BEGIN:VEVENT
DTSTAMP:20260425T203712Z
DTSTART;VALUE=DATE:20090919
SUMMARY:IJCSI_September_Issue 2009 Notification Due
DESCRIPTION:CALL FOR PAPERS International Journal of Computer Science Iss
 ues (IJCSI) - September 2009 Issue - Volume 4
URL:http://www.wikicfp.com/cfp/servlet/event.showcfp?eventid=6321&copyown
 erid=5979
UID:cfp45990-N@wikicfp.com
END:VEVENT
BEGIN:VEVENT
DTSTAMP:20260425T203712Z
DTSTART;VALUE=DATE:20100410
DTEND;VALUE=DATE:20100416
SUMMARY:CHI 2010
DESCRIPTION:Computer Human Interaction Conference
URL:http://www.wikicfp.com/cfp/servlet/event.showcfp?eventid=5463&copyown
 erid=5979
UID:cfp45991-E@wikicfp.com
END:VEVENT
BEGIN:VEVENT
DTSTAMP:20260425T203712Z
DTSTART;VALUE=DATE:20090917
SUMMARY:CHI 2010 Deadline
DESCRIPTION:Computer Human Interaction Conference
URL:http://www.wikicfp.com/cfp/servlet/event.showcfp?eventid=5463&copyown
 erid=5979
UID:cfp45991-D@wikicfp.com
END:VEVENT
BEGIN:VEVENT
DTSTAMP:20260425T203712Z
DTSTART;VALUE=DATE:20091213
SUMMARY:CHI 2010 Notification Due
DESCRIPTION:Computer Human Interaction Conference
URL:http://www.wikicfp.com/cfp/servlet/event.showcfp?eventid=5463&copyown
 erid=5979
UID:cfp45991-N@wikicfp.com
END:VEVENT
BEGIN:VEVENT
DTSTAMP:20260425T203712Z
DTSTART;VALUE=DATE:20100405
DTEND;VALUE=DATE:20100410
SUMMARY:SPIE Biometrics 2010
DESCRIPTION:Biometric Technology for Human Identification VII
URL:http://www.wikicfp.com/cfp/servlet/event.showcfp?eventid=6385&copyown
 erid=5979
UID:cfp45988-E@wikicfp.com
END:VEVENT
BEGIN:VEVENT
DTSTAMP:20260425T203712Z
DTSTART;VALUE=DATE:20090921
SUMMARY:SPIE Biometrics 2010 Deadline
DESCRIPTION:Biometric Technology for Human Identification VII
URL:http://www.wikicfp.com/cfp/servlet/event.showcfp?eventid=6385&copyown
 erid=5979
UID:cfp45988-D@wikicfp.com
END:VEVENT
BEGIN:VEVENT
DTSTAMP:20260425T203712Z
DTSTART;VALUE=DATE:20100125
SUMMARY:SPIE Biometrics 2010 Final Version Due
DESCRIPTION:Biometric Technology for Human Identification VII
URL:http://www.wikicfp.com/cfp/servlet/event.showcfp?eventid=6385&copyown
 erid=5979
UID:cfp45988-N@wikicfp.com
END:VEVENT
BEGIN:VEVENT
DTSTAMP:20260425T203712Z
DTSTART;VALUE=DATE:20100410
DTEND;VALUE=DATE:20100416
SUMMARY:CHI 2009
DESCRIPTION:Doctoral Consortium: ACM Conference on Human Factors in Compu
 ting Systems
URL:http://www.wikicfp.com/cfp/servlet/event.showcfp?eventid=6172&copyown
 erid=5979
UID:cfp45992-E@wikicfp.com
END:VEVENT
BEGIN:VEVENT
DTSTAMP:20260425T203712Z
DTSTART;VALUE=DATE:20091009
SUMMARY:CHI 2009 Deadline
DESCRIPTION:Doctoral Consortium: ACM Conference on Human Factors in Compu
 ting Systems
URL:http://www.wikicfp.com/cfp/servlet/event.showcfp?eventid=6172&copyown
 erid=5979
UID:cfp45992-D@wikicfp.com
END:VEVENT
BEGIN:VEVENT
DTSTAMP:20260425T203712Z
DTSTART;VALUE=DATE:20091213
SUMMARY:CHI 2009 Notification Due
DESCRIPTION:Doctoral Consortium: ACM Conference on Human Factors in Compu
 ting Systems
URL:http://www.wikicfp.com/cfp/servlet/event.showcfp?eventid=6172&copyown
 erid=5979
UID:cfp45992-N@wikicfp.com
END:VEVENT
BEGIN:VEVENT
DTSTAMP:20260425T203712Z
DTSTART;VALUE=DATE:20100101
SUMMARY:CHI 2009 Final Version Due
DESCRIPTION:Doctoral Consortium: ACM Conference on Human Factors in Compu
 ting Systems
URL:http://www.wikicfp.com/cfp/servlet/event.showcfp?eventid=6172&copyown
 erid=5979
UID:cfp45992-N@wikicfp.com
END:VEVENT
BEGIN:VEVENT
DTSTAMP:20260425T203712Z
DTSTART;VALUE=DATE:20091031
SUMMARY:SI- JNCA 2009 Deadline
DESCRIPTION:Special Issue of Journal of Network and Computer Applications
  (Elsevier) - RFID Technology\, Systems and Applications
URL:http://www.wikicfp.com/cfp/servlet/event.showcfp?eventid=5616&copyown
 erid=5979
UID:cfp45989-D@wikicfp.com
END:VEVENT
BEGIN:VEVENT
DTSTAMP:20260425T203712Z
DTSTART;VALUE=DATE:20100131
SUMMARY:SI- JNCA 2009 Notification Due
DESCRIPTION:Special Issue of Journal of Network and Computer Applications
  (Elsevier) - RFID Technology\, Systems and Applications
URL:http://www.wikicfp.com/cfp/servlet/event.showcfp?eventid=5616&copyown
 erid=5979
UID:cfp45989-N@wikicfp.com
END:VEVENT
BEGIN:VEVENT
DTSTAMP:20260425T203712Z
DTSTART;VALUE=DATE:20100330
SUMMARY:SI- JNCA 2009 Final Version Due
DESCRIPTION:Special Issue of Journal of Network and Computer Applications
  (Elsevier) - RFID Technology\, Systems and Applications
URL:http://www.wikicfp.com/cfp/servlet/event.showcfp?eventid=5616&copyown
 erid=5979
UID:cfp45989-N@wikicfp.com
END:VEVENT
BEGIN:VEVENT
DTSTAMP:20260425T203712Z
DTSTART;VALUE=DATE:20091110
DTEND;VALUE=DATE:20100221
SUMMARY:IASEC 2009
DESCRIPTION:Special issue of IETE Technical Review on âInformation Assu
 rance and Security Engineeringâ (ISI Indexed Journal)
URL:http://www.wikicfp.com/cfp/servlet/event.showcfp?eventid=5456&copyown
 erid=5979
UID:cfp45993-E@wikicfp.com
END:VEVENT
BEGIN:VEVENT
DTSTAMP:20260425T203712Z
DTSTART;VALUE=DATE:20091110
SUMMARY:IASEC 2009 Deadline
DESCRIPTION:Special issue of IETE Technical Review on âInformation Assu
 rance and Security Engineeringâ (ISI Indexed Journal)
URL:http://www.wikicfp.com/cfp/servlet/event.showcfp?eventid=5456&copyown
 erid=5979
UID:cfp45993-D@wikicfp.com
END:VEVENT
BEGIN:VEVENT
DTSTAMP:20260425T203712Z
DTSTART;VALUE=DATE:20091225
SUMMARY:IASEC 2009 Notification Due
DESCRIPTION:Special issue of IETE Technical Review on âInformation Assu
 rance and Security Engineeringâ (ISI Indexed Journal)
URL:http://www.wikicfp.com/cfp/servlet/event.showcfp?eventid=5456&copyown
 erid=5979
UID:cfp45993-N@wikicfp.com
END:VEVENT
BEGIN:VEVENT
DTSTAMP:20260425T203712Z
DTSTART;VALUE=DATE:20100220
SUMMARY:IASEC 2009 Final Version Due
DESCRIPTION:Special issue of IETE Technical Review on âInformation Assu
 rance and Security Engineeringâ (ISI Indexed Journal)
URL:http://www.wikicfp.com/cfp/servlet/event.showcfp?eventid=5456&copyown
 erid=5979
UID:cfp45993-N@wikicfp.com
END:VEVENT
END:VCALENDAR
