BEGIN:VCALENDAR
PRODID:-//WikiCFP//YosraNjah 1.0//EN
VERSION:2.0
CALSCALE:GREGORIAN
BEGIN:VEVENT
DTSTAMP:20260421T072632Z
DTSTART;VALUE=DATE:20140125
SUMMARY:IS-Sec-Big-Data 2014 Deadline
DESCRIPTION:Special Issue on Security\, Privacy and Trust in network-base
 d Big Data
URL:http://www.wikicfp.com/cfp/servlet/event.showcfp?eventid=34784&copyow
 nerid=59599
UID:cfp413773-D@wikicfp.com
END:VEVENT
BEGIN:VEVENT
DTSTAMP:20260421T072632Z
DTSTART;VALUE=DATE:20140315
SUMMARY:IS-Sec-Big-Data 2014 Notification Due
DESCRIPTION:Special Issue on Security\, Privacy and Trust in network-base
 d Big Data
URL:http://www.wikicfp.com/cfp/servlet/event.showcfp?eventid=34784&copyow
 nerid=59599
UID:cfp413773-N@wikicfp.com
END:VEVENT
BEGIN:VEVENT
DTSTAMP:20260421T072632Z
DTSTART;VALUE=DATE:20140501
SUMMARY:IS-Sec-Big-Data 2014 Final Version Due
DESCRIPTION:Special Issue on Security\, Privacy and Trust in network-base
 d Big Data
URL:http://www.wikicfp.com/cfp/servlet/event.showcfp?eventid=34784&copyow
 nerid=59599
UID:cfp413773-N@wikicfp.com
END:VEVENT
BEGIN:VEVENT
DTSTAMP:20260421T072632Z
DTSTART;VALUE=DATE:20140515
DTEND;VALUE=DATE:20140517
SUMMARY:INFILTRATE 2014
DESCRIPTION:INFILTRATE Exclusively Offense Security Conference 
URL:http://www.wikicfp.com/cfp/servlet/event.showcfp?eventid=35021&copyow
 nerid=59599
UID:cfp413772-E@wikicfp.com
END:VEVENT
BEGIN:VEVENT
DTSTAMP:20260421T072632Z
DTSTART;VALUE=DATE:20140303
SUMMARY:INFILTRATE 2014 Deadline
DESCRIPTION:INFILTRATE Exclusively Offense Security Conference 
URL:http://www.wikicfp.com/cfp/servlet/event.showcfp?eventid=35021&copyow
 nerid=59599
UID:cfp413772-D@wikicfp.com
END:VEVENT
BEGIN:VEVENT
DTSTAMP:20260421T072632Z
DTSTART;VALUE=DATE:20140721
DTEND;VALUE=DATE:20140726
SUMMARY:WiSec 2014
DESCRIPTION:The 7th ACM Conference on Security and Privacy
URL:http://www.wikicfp.com/cfp/servlet/event.showcfp?eventid=33060&copyow
 nerid=59599
UID:cfp413771-E@wikicfp.com
END:VEVENT
BEGIN:VEVENT
DTSTAMP:20260421T072632Z
DTSTART;VALUE=DATE:20140303
SUMMARY:WiSec 2014 Abstract Due
DESCRIPTION:The 7th ACM Conference on Security and Privacy
URL:http://www.wikicfp.com/cfp/servlet/event.showcfp?eventid=33060&copyow
 nerid=59599
UID:cfp413771-A@wikicfp.com
END:VEVENT
BEGIN:VEVENT
DTSTAMP:20260421T072632Z
DTSTART;VALUE=DATE:20140310
SUMMARY:WiSec 2014 Deadline
DESCRIPTION:The 7th ACM Conference on Security and Privacy
URL:http://www.wikicfp.com/cfp/servlet/event.showcfp?eventid=33060&copyow
 nerid=59599
UID:cfp413771-D@wikicfp.com
END:VEVENT
BEGIN:VEVENT
DTSTAMP:20260421T072632Z
DTSTART;VALUE=DATE:20140507
SUMMARY:WiSec 2014 Notification Due
DESCRIPTION:The 7th ACM Conference on Security and Privacy
URL:http://www.wikicfp.com/cfp/servlet/event.showcfp?eventid=33060&copyow
 nerid=59599
UID:cfp413771-N@wikicfp.com
END:VEVENT
BEGIN:VEVENT
DTSTAMP:20260421T072632Z
DTSTART;VALUE=DATE:20140528
SUMMARY:WiSec 2014 Final Version Due
DESCRIPTION:The 7th ACM Conference on Security and Privacy
URL:http://www.wikicfp.com/cfp/servlet/event.showcfp?eventid=33060&copyow
 nerid=59599
UID:cfp413771-N@wikicfp.com
END:VEVENT
BEGIN:VEVENT
DTSTAMP:20260421T072632Z
DTSTART;VALUE=DATE:20140701
DTEND;VALUE=DATE:20140703
SUMMARY:FIE 2014
DESCRIPTION:2014 International Conference on Future Information Engineeri
 ng
URL:http://www.wikicfp.com/cfp/servlet/event.showcfp?eventid=35042&copyow
 nerid=59599
UID:cfp413768-E@wikicfp.com
END:VEVENT
BEGIN:VEVENT
DTSTAMP:20260421T072632Z
DTSTART;VALUE=DATE:20140330
SUMMARY:FIE 2014 Abstract Due
DESCRIPTION:2014 International Conference on Future Information Engineeri
 ng
URL:http://www.wikicfp.com/cfp/servlet/event.showcfp?eventid=35042&copyow
 nerid=59599
UID:cfp413768-A@wikicfp.com
END:VEVENT
BEGIN:VEVENT
DTSTAMP:20260421T072632Z
DTSTART;VALUE=DATE:20140315
SUMMARY:FIE 2014 Deadline
DESCRIPTION:2014 International Conference on Future Information Engineeri
 ng
URL:http://www.wikicfp.com/cfp/servlet/event.showcfp?eventid=35042&copyow
 nerid=59599
UID:cfp413768-D@wikicfp.com
END:VEVENT
BEGIN:VEVENT
DTSTAMP:20260421T072632Z
DTSTART;VALUE=DATE:20140320
SUMMARY:FIE 2014 Notification Due
DESCRIPTION:2014 International Conference on Future Information Engineeri
 ng
URL:http://www.wikicfp.com/cfp/servlet/event.showcfp?eventid=35042&copyow
 nerid=59599
UID:cfp413768-N@wikicfp.com
END:VEVENT
BEGIN:VEVENT
DTSTAMP:20260421T072632Z
DTSTART;VALUE=DATE:20140330
SUMMARY:FIE 2014 Final Version Due
DESCRIPTION:2014 International Conference on Future Information Engineeri
 ng
URL:http://www.wikicfp.com/cfp/servlet/event.showcfp?eventid=35042&copyow
 nerid=59599
UID:cfp413768-N@wikicfp.com
END:VEVENT
BEGIN:VEVENT
DTSTAMP:20260421T072632Z
DTSTART;VALUE=DATE:20140817
DTEND;VALUE=DATE:20140821
SUMMARY:ComSense 2014
DESCRIPTION:The 2nd International Workshop on Communications and Sensor N
 etworks 
URL:http://www.wikicfp.com/cfp/servlet/event.showcfp?eventid=35028&copyow
 nerid=59599
UID:cfp413767-E@wikicfp.com
END:VEVENT
BEGIN:VEVENT
DTSTAMP:20260421T072632Z
DTSTART;VALUE=DATE:20140329
SUMMARY:ComSense 2014 Deadline
DESCRIPTION:The 2nd International Workshop on Communications and Sensor N
 etworks 
URL:http://www.wikicfp.com/cfp/servlet/event.showcfp?eventid=35028&copyow
 nerid=59599
UID:cfp413767-D@wikicfp.com
END:VEVENT
BEGIN:VEVENT
DTSTAMP:20260421T072632Z
DTSTART;VALUE=DATE:20140524
SUMMARY:ComSense 2014 Notification Due
DESCRIPTION:The 2nd International Workshop on Communications and Sensor N
 etworks 
URL:http://www.wikicfp.com/cfp/servlet/event.showcfp?eventid=35028&copyow
 nerid=59599
UID:cfp413767-N@wikicfp.com
END:VEVENT
BEGIN:VEVENT
DTSTAMP:20260421T072632Z
DTSTART;VALUE=DATE:20140619
SUMMARY:ComSense 2014 Final Version Due
DESCRIPTION:The 2nd International Workshop on Communications and Sensor N
 etworks 
URL:http://www.wikicfp.com/cfp/servlet/event.showcfp?eventid=35028&copyow
 nerid=59599
UID:cfp413767-N@wikicfp.com
END:VEVENT
BEGIN:VEVENT
DTSTAMP:20260421T072632Z
DTSTART;VALUE=DATE:20141013
DTEND;VALUE=DATE:20141016
SUMMARY:CRITIS 2014
DESCRIPTION:9th International Conference on CriticalÂ Information Infrast
 ructures Security 
URL:http://www.wikicfp.com/cfp/servlet/event.showcfp?eventid=34903&copyow
 nerid=59599
UID:cfp413770-E@wikicfp.com
END:VEVENT
BEGIN:VEVENT
DTSTAMP:20260421T072632Z
DTSTART;VALUE=DATE:20140402
SUMMARY:CRITIS 2014 Deadline
DESCRIPTION:9th International Conference on CriticalÂ Information Infrast
 ructures Security 
URL:http://www.wikicfp.com/cfp/servlet/event.showcfp?eventid=34903&copyow
 nerid=59599
UID:cfp413770-D@wikicfp.com
END:VEVENT
BEGIN:VEVENT
DTSTAMP:20260421T072632Z
DTSTART;VALUE=DATE:20140601
SUMMARY:CRITIS 2014 Notification Due
DESCRIPTION:9th International Conference on CriticalÂ Information Infrast
 ructures Security 
URL:http://www.wikicfp.com/cfp/servlet/event.showcfp?eventid=34903&copyow
 nerid=59599
UID:cfp413770-N@wikicfp.com
END:VEVENT
BEGIN:VEVENT
DTSTAMP:20260421T072632Z
DTSTART;VALUE=DATE:20140625
SUMMARY:CRITIS 2014 Final Version Due
DESCRIPTION:9th International Conference on CriticalÂ Information Infrast
 ructures Security 
URL:http://www.wikicfp.com/cfp/servlet/event.showcfp?eventid=34903&copyow
 nerid=59599
UID:cfp413770-N@wikicfp.com
END:VEVENT
BEGIN:VEVENT
DTSTAMP:20260421T072632Z
DTSTART;VALUE=DATE:20140723
DTEND;VALUE=DATE:20140725
SUMMARY:PST 2014
DESCRIPTION:12th International Conference on Privacy\, Security and Trust
 
URL:http://www.wikicfp.com/cfp/servlet/event.showcfp?eventid=33434&copyow
 nerid=59599
UID:cfp413769-E@wikicfp.com
END:VEVENT
BEGIN:VEVENT
DTSTAMP:20260421T072632Z
DTSTART;VALUE=DATE:20140407
SUMMARY:PST 2014 Deadline
DESCRIPTION:12th International Conference on Privacy\, Security and Trust
 
URL:http://www.wikicfp.com/cfp/servlet/event.showcfp?eventid=33434&copyow
 nerid=59599
UID:cfp413769-D@wikicfp.com
END:VEVENT
BEGIN:VEVENT
DTSTAMP:20260421T072632Z
DTSTART;VALUE=DATE:20140512
SUMMARY:PST 2014 Notification Due
DESCRIPTION:12th International Conference on Privacy\, Security and Trust
 
URL:http://www.wikicfp.com/cfp/servlet/event.showcfp?eventid=33434&copyow
 nerid=59599
UID:cfp413769-N@wikicfp.com
END:VEVENT
BEGIN:VEVENT
DTSTAMP:20260421T072632Z
DTSTART;VALUE=DATE:20140525
SUMMARY:PST 2014 Final Version Due
DESCRIPTION:12th International Conference on Privacy\, Security and Trust
 
URL:http://www.wikicfp.com/cfp/servlet/event.showcfp?eventid=33434&copyow
 nerid=59599
UID:cfp413769-N@wikicfp.com
END:VEVENT
BEGIN:VEVENT
DTSTAMP:20260421T072632Z
DTSTART;VALUE=DATE:20140924
DTEND;VALUE=DATE:20140927
SUMMARY:TrustCom 2014
DESCRIPTION:The 13th IEEE International Conference on Trust\, Security an
 d Privacy in Computing and Communications (IEEE TrustCom-14)
URL:http://www.wikicfp.com/cfp/servlet/event.showcfp?eventid=32084&copyow
 nerid=59599
UID:cfp413766-E@wikicfp.com
END:VEVENT
BEGIN:VEVENT
DTSTAMP:20260421T072632Z
DTSTART;VALUE=DATE:20140530
SUMMARY:TrustCom 2014 Deadline
DESCRIPTION:The 13th IEEE International Conference on Trust\, Security an
 d Privacy in Computing and Communications (IEEE TrustCom-14)
URL:http://www.wikicfp.com/cfp/servlet/event.showcfp?eventid=32084&copyow
 nerid=59599
UID:cfp413766-D@wikicfp.com
END:VEVENT
BEGIN:VEVENT
DTSTAMP:20260421T072632Z
DTSTART;VALUE=DATE:20140703
SUMMARY:TrustCom 2014 Notification Due
DESCRIPTION:The 13th IEEE International Conference on Trust\, Security an
 d Privacy in Computing and Communications (IEEE TrustCom-14)
URL:http://www.wikicfp.com/cfp/servlet/event.showcfp?eventid=32084&copyow
 nerid=59599
UID:cfp413766-N@wikicfp.com
END:VEVENT
BEGIN:VEVENT
DTSTAMP:20260421T072632Z
DTSTART;VALUE=DATE:20140725
SUMMARY:TrustCom 2014 Final Version Due
DESCRIPTION:The 13th IEEE International Conference on Trust\, Security an
 d Privacy in Computing and Communications (IEEE TrustCom-14)
URL:http://www.wikicfp.com/cfp/servlet/event.showcfp?eventid=32084&copyow
 nerid=59599
UID:cfp413766-N@wikicfp.com
END:VEVENT
BEGIN:VEVENT
DTSTAMP:20260421T072632Z
DTSTART;VALUE=DATE:20150423
DTEND;VALUE=DATE:20150425
SUMMARY:TMA 2015
DESCRIPTION:7th International Workshop on Traffic Monitoring and Analysis
 
URL:http://www.wikicfp.com/cfp/servlet/event.showcfp?eventid=40788&copyow
 nerid=59599
UID:cfp555524-E@wikicfp.com
END:VEVENT
BEGIN:VEVENT
DTSTAMP:20260421T072632Z
DTSTART;VALUE=DATE:20141205
SUMMARY:TMA 2015 Deadline
DESCRIPTION:7th International Workshop on Traffic Monitoring and Analysis
 
URL:http://www.wikicfp.com/cfp/servlet/event.showcfp?eventid=40788&copyow
 nerid=59599
UID:cfp555524-D@wikicfp.com
END:VEVENT
BEGIN:VEVENT
DTSTAMP:20260421T072632Z
DTSTART;VALUE=DATE:20150123
SUMMARY:TMA 2015 Notification Due
DESCRIPTION:7th International Workshop on Traffic Monitoring and Analysis
 
URL:http://www.wikicfp.com/cfp/servlet/event.showcfp?eventid=40788&copyow
 nerid=59599
UID:cfp555524-N@wikicfp.com
END:VEVENT
BEGIN:VEVENT
DTSTAMP:20260421T072632Z
DTSTART;VALUE=DATE:20150206
SUMMARY:TMA 2015 Final Version Due
DESCRIPTION:7th International Workshop on Traffic Monitoring and Analysis
 
URL:http://www.wikicfp.com/cfp/servlet/event.showcfp?eventid=40788&copyow
 nerid=59599
UID:cfp555524-N@wikicfp.com
END:VEVENT
BEGIN:VEVENT
DTSTAMP:20260421T072632Z
DTSTART;VALUE=DATE:20150729
DTEND;VALUE=DATE:20150731
SUMMARY:ICINS 2015
DESCRIPTION:2015 2nd International Conference on Information and Network 
 Security
URL:http://www.wikicfp.com/cfp/servlet/event.showcfp?eventid=42484&copyow
 nerid=59599
UID:cfp505295-E@wikicfp.com
END:VEVENT
BEGIN:VEVENT
DTSTAMP:20260421T072632Z
DTSTART;VALUE=DATE:20150515
SUMMARY:ICINS 2015 Deadline
DESCRIPTION:2015 2nd International Conference on Information and Network 
 Security
URL:http://www.wikicfp.com/cfp/servlet/event.showcfp?eventid=42484&copyow
 nerid=59599
UID:cfp505295-D@wikicfp.com
END:VEVENT
BEGIN:VEVENT
DTSTAMP:20260421T072632Z
DTSTART;VALUE=DATE:20150605
SUMMARY:ICINS 2015 Notification Due
DESCRIPTION:2015 2nd International Conference on Information and Network 
 Security
URL:http://www.wikicfp.com/cfp/servlet/event.showcfp?eventid=42484&copyow
 nerid=59599
UID:cfp505295-N@wikicfp.com
END:VEVENT
BEGIN:VEVENT
DTSTAMP:20260421T072632Z
DTSTART;VALUE=DATE:20150620
SUMMARY:ICINS 2015 Final Version Due
DESCRIPTION:2015 2nd International Conference on Information and Network 
 Security
URL:http://www.wikicfp.com/cfp/servlet/event.showcfp?eventid=42484&copyow
 nerid=59599
UID:cfp505295-N@wikicfp.com
END:VEVENT
BEGIN:VEVENT
DTSTAMP:20260421T072632Z
DTSTART;VALUE=DATE:20150630
DTEND;VALUE=DATE:20160131
SUMMARY:SI - SDN\, NFV\, NMS 2015
DESCRIPTION:Journal Special Issue on Software Defined Network\, Software 
 Defined Infrastructure\, Network Functions Virtualization\, Autonomous S
 ystem & Network Management
URL:http://www.wikicfp.com/cfp/servlet/event.showcfp?eventid=40285&copyow
 nerid=59599
UID:cfp505287-E@wikicfp.com
END:VEVENT
BEGIN:VEVENT
DTSTAMP:20260421T072632Z
DTSTART;VALUE=DATE:20150630
SUMMARY:SI - SDN\, NFV\, NMS 2015 Deadline
DESCRIPTION:Journal Special Issue on Software Defined Network\, Software 
 Defined Infrastructure\, Network Functions Virtualization\, Autonomous S
 ystem & Network Management
URL:http://www.wikicfp.com/cfp/servlet/event.showcfp?eventid=40285&copyow
 nerid=59599
UID:cfp505287-D@wikicfp.com
END:VEVENT
BEGIN:VEVENT
DTSTAMP:20260421T072632Z
DTSTART;VALUE=DATE:20150815
SUMMARY:SI - SDN\, NFV\, NMS 2015 Notification Due
DESCRIPTION:Journal Special Issue on Software Defined Network\, Software 
 Defined Infrastructure\, Network Functions Virtualization\, Autonomous S
 ystem & Network Management
URL:http://www.wikicfp.com/cfp/servlet/event.showcfp?eventid=40285&copyow
 nerid=59599
UID:cfp505287-N@wikicfp.com
END:VEVENT
BEGIN:VEVENT
DTSTAMP:20260421T072632Z
DTSTART;VALUE=DATE:20151215
SUMMARY:SI - SDN\, NFV\, NMS 2015 Final Version Due
DESCRIPTION:Journal Special Issue on Software Defined Network\, Software 
 Defined Infrastructure\, Network Functions Virtualization\, Autonomous S
 ystem & Network Management
URL:http://www.wikicfp.com/cfp/servlet/event.showcfp?eventid=40285&copyow
 nerid=59599
UID:cfp505287-N@wikicfp.com
END:VEVENT
BEGIN:VEVENT
DTSTAMP:20260421T072632Z
DTSTART;VALUE=DATE:20151115
DTEND;VALUE=DATE:20151116
SUMMARY:KDDA 2015
DESCRIPTION:Knowledge Discovery and Data Analysis
URL:http://www.wikicfp.com/cfp/servlet/event.showcfp?eventid=43553&copyow
 nerid=59599
UID:cfp505296-E@wikicfp.com
END:VEVENT
BEGIN:VEVENT
DTSTAMP:20260421T072632Z
DTSTART;VALUE=DATE:20150715
SUMMARY:KDDA 2015 Abstract Due
DESCRIPTION:Knowledge Discovery and Data Analysis
URL:http://www.wikicfp.com/cfp/servlet/event.showcfp?eventid=43553&copyow
 nerid=59599
UID:cfp505296-A@wikicfp.com
END:VEVENT
BEGIN:VEVENT
DTSTAMP:20260421T072632Z
DTSTART;VALUE=DATE:20150731
SUMMARY:KDDA 2015 Deadline
DESCRIPTION:Knowledge Discovery and Data Analysis
URL:http://www.wikicfp.com/cfp/servlet/event.showcfp?eventid=43553&copyow
 nerid=59599
UID:cfp505296-D@wikicfp.com
END:VEVENT
BEGIN:VEVENT
DTSTAMP:20260421T072632Z
DTSTART;VALUE=DATE:20151020
SUMMARY:KDDA 2015 Notification Due
DESCRIPTION:Knowledge Discovery and Data Analysis
URL:http://www.wikicfp.com/cfp/servlet/event.showcfp?eventid=43553&copyow
 nerid=59599
UID:cfp505296-N@wikicfp.com
END:VEVENT
BEGIN:VEVENT
DTSTAMP:20260421T072632Z
DTSTART;VALUE=DATE:20151102
SUMMARY:KDDA 2015 Final Version Due
DESCRIPTION:Knowledge Discovery and Data Analysis
URL:http://www.wikicfp.com/cfp/servlet/event.showcfp?eventid=43553&copyow
 nerid=59599
UID:cfp505296-N@wikicfp.com
END:VEVENT
BEGIN:VEVENT
DTSTAMP:20260421T072632Z
DTSTART;VALUE=DATE:20160323
DTEND;VALUE=DATE:20160326
SUMMARY:AINA 2016
DESCRIPTION:The 30th International Conference on Advanced Information Net
 working and Applications
URL:http://www.wikicfp.com/cfp/servlet/event.showcfp?eventid=44915&copyow
 nerid=59599
UID:cfp545152-E@wikicfp.com
END:VEVENT
BEGIN:VEVENT
DTSTAMP:20260421T072632Z
DTSTART;VALUE=DATE:20151003
SUMMARY:AINA 2016 Deadline
DESCRIPTION:The 30th International Conference on Advanced Information Net
 working and Applications
URL:http://www.wikicfp.com/cfp/servlet/event.showcfp?eventid=44915&copyow
 nerid=59599
UID:cfp545152-D@wikicfp.com
END:VEVENT
BEGIN:VEVENT
DTSTAMP:20260421T072632Z
DTSTART;VALUE=DATE:20151220
SUMMARY:AINA 2016 Notification Due
DESCRIPTION:The 30th International Conference on Advanced Information Net
 working and Applications
URL:http://www.wikicfp.com/cfp/servlet/event.showcfp?eventid=44915&copyow
 nerid=59599
UID:cfp545152-N@wikicfp.com
END:VEVENT
BEGIN:VEVENT
DTSTAMP:20260421T072632Z
DTSTART;VALUE=DATE:20160120
SUMMARY:AINA 2016 Final Version Due
DESCRIPTION:The 30th International Conference on Advanced Information Net
 working and Applications
URL:http://www.wikicfp.com/cfp/servlet/event.showcfp?eventid=44915&copyow
 nerid=59599
UID:cfp545152-N@wikicfp.com
END:VEVENT
BEGIN:VEVENT
DTSTAMP:20260421T072632Z
DTSTART;VALUE=DATE:20160331
DTEND;VALUE=DATE:20160402
SUMMARY:PAM 2016
DESCRIPTION:Passive and Active Network Measurement
URL:http://www.wikicfp.com/cfp/servlet/event.showcfp?eventid=47909&copyow
 nerid=59599
UID:cfp545153-E@wikicfp.com
END:VEVENT
BEGIN:VEVENT
DTSTAMP:20260421T072632Z
DTSTART;VALUE=DATE:20151009
SUMMARY:PAM 2016 Abstract Due
DESCRIPTION:Passive and Active Network Measurement
URL:http://www.wikicfp.com/cfp/servlet/event.showcfp?eventid=47909&copyow
 nerid=59599
UID:cfp545153-A@wikicfp.com
END:VEVENT
BEGIN:VEVENT
DTSTAMP:20260421T072632Z
DTSTART;VALUE=DATE:20151016
SUMMARY:PAM 2016 Deadline
DESCRIPTION:Passive and Active Network Measurement
URL:http://www.wikicfp.com/cfp/servlet/event.showcfp?eventid=47909&copyow
 nerid=59599
UID:cfp545153-D@wikicfp.com
END:VEVENT
BEGIN:VEVENT
DTSTAMP:20260421T072632Z
DTSTART;VALUE=DATE:20151218
SUMMARY:PAM 2016 Notification Due
DESCRIPTION:Passive and Active Network Measurement
URL:http://www.wikicfp.com/cfp/servlet/event.showcfp?eventid=47909&copyow
 nerid=59599
UID:cfp545153-N@wikicfp.com
END:VEVENT
END:VCALENDAR
