BEGIN:VCALENDAR
PRODID:-//WikiCFP//xchge 1.0//EN
VERSION:2.0
CALSCALE:GREGORIAN
BEGIN:VEVENT
DTSTAMP:20260421T182051Z
DTSTART;VALUE=DATE:20100324
DTEND;VALUE=DATE:20100327
SUMMARY:ICECCS 2010 2010
DESCRIPTION:The Fifteenth IEEE International Conference on Engineering of
  Complex Computer Systems
URL:http://www.wikicfp.com/cfp/servlet/event.showcfp?eventid=6345&copyown
 erid=5907
UID:cfp45392-E@wikicfp.com
END:VEVENT
BEGIN:VEVENT
DTSTAMP:20260421T182051Z
DTSTART;VALUE=DATE:20091023
SUMMARY:ICECCS 2010 2010 Abstract Due
DESCRIPTION:The Fifteenth IEEE International Conference on Engineering of
  Complex Computer Systems
URL:http://www.wikicfp.com/cfp/servlet/event.showcfp?eventid=6345&copyown
 erid=5907
UID:cfp45392-A@wikicfp.com
END:VEVENT
BEGIN:VEVENT
DTSTAMP:20260421T182051Z
DTSTART;VALUE=DATE:20091030
SUMMARY:ICECCS 2010 2010 Deadline
DESCRIPTION:The Fifteenth IEEE International Conference on Engineering of
  Complex Computer Systems
URL:http://www.wikicfp.com/cfp/servlet/event.showcfp?eventid=6345&copyown
 erid=5907
UID:cfp45392-D@wikicfp.com
END:VEVENT
BEGIN:VEVENT
DTSTAMP:20260421T182051Z
DTSTART;VALUE=DATE:20091218
SUMMARY:ICECCS 2010 2010 Notification Due
DESCRIPTION:The Fifteenth IEEE International Conference on Engineering of
  Complex Computer Systems
URL:http://www.wikicfp.com/cfp/servlet/event.showcfp?eventid=6345&copyown
 erid=5907
UID:cfp45392-N@wikicfp.com
END:VEVENT
BEGIN:VEVENT
DTSTAMP:20260421T182051Z
DTSTART;VALUE=DATE:20100122
SUMMARY:ICECCS 2010 2010 Final Version Due
DESCRIPTION:The Fifteenth IEEE International Conference on Engineering of
  Complex Computer Systems
URL:http://www.wikicfp.com/cfp/servlet/event.showcfp?eventid=6345&copyown
 erid=5907
UID:cfp45392-N@wikicfp.com
END:VEVENT
END:VCALENDAR
