BEGIN:VCALENDAR
PRODID:-//WikiCFP//Daniyar 1.0//EN
VERSION:2.0
CALSCALE:GREGORIAN
BEGIN:VEVENT
DTSTAMP:20260422T075408Z
DTSTART;VALUE=DATE:20140623
DTEND;VALUE=DATE:20140626
SUMMARY:ITICSE 2014
DESCRIPTION:19th Annual Conference on Innovation and Technology in Comput
 er Science Education
URL:http://www.wikicfp.com/cfp/servlet/event.showcfp?eventid=32050&copyow
 nerid=59056
UID:cfp409986-E@wikicfp.com
END:VEVENT
BEGIN:VEVENT
DTSTAMP:20260422T075408Z
DTSTART;VALUE=DATE:20140112
SUMMARY:ITICSE 2014 Deadline
DESCRIPTION:19th Annual Conference on Innovation and Technology in Comput
 er Science Education
URL:http://www.wikicfp.com/cfp/servlet/event.showcfp?eventid=32050&copyow
 nerid=59056
UID:cfp409986-D@wikicfp.com
END:VEVENT
END:VCALENDAR
