BEGIN:VCALENDAR
PRODID:-//WikiCFP//bertiewang 1.0//EN
VERSION:2.0
CALSCALE:GREGORIAN
BEGIN:VEVENT
DTSTAMP:20260424T232924Z
DTSTART;VALUE=DATE:20140817
DTEND;VALUE=DATE:20140823
SUMMARY:SIGCOMM 2014
DESCRIPTION:Conference on Applications\, Technologies\, Architectures\, a
 nd Protocols for Computer Communication
URL:http://www.wikicfp.com/cfp/servlet/event.showcfp?eventid=32197&copyow
 nerid=58711
UID:cfp407660-E@wikicfp.com
END:VEVENT
BEGIN:VEVENT
DTSTAMP:20260424T232924Z
DTSTART;VALUE=DATE:20140124
SUMMARY:SIGCOMM 2014 Abstract Due
DESCRIPTION:Conference on Applications\, Technologies\, Architectures\, a
 nd Protocols for Computer Communication
URL:http://www.wikicfp.com/cfp/servlet/event.showcfp?eventid=32197&copyow
 nerid=58711
UID:cfp407660-A@wikicfp.com
END:VEVENT
BEGIN:VEVENT
DTSTAMP:20260424T232924Z
DTSTART;VALUE=DATE:20140131
SUMMARY:SIGCOMM 2014 Deadline
DESCRIPTION:Conference on Applications\, Technologies\, Architectures\, a
 nd Protocols for Computer Communication
URL:http://www.wikicfp.com/cfp/servlet/event.showcfp?eventid=32197&copyow
 nerid=58711
UID:cfp407660-D@wikicfp.com
END:VEVENT
BEGIN:VEVENT
DTSTAMP:20260424T232924Z
DTSTART;VALUE=DATE:20140526
DTEND;VALUE=DATE:20140528
SUMMARY:IWQoS 2014
DESCRIPTION:International Symposium on Quality of Service 2014
URL:http://www.wikicfp.com/cfp/servlet/event.showcfp?eventid=33557&copyow
 nerid=58711
UID:cfp407661-E@wikicfp.com
END:VEVENT
BEGIN:VEVENT
DTSTAMP:20260424T232924Z
DTSTART;VALUE=DATE:20140218
SUMMARY:IWQoS 2014 Abstract Due
DESCRIPTION:International Symposium on Quality of Service 2014
URL:http://www.wikicfp.com/cfp/servlet/event.showcfp?eventid=33557&copyow
 nerid=58711
UID:cfp407661-A@wikicfp.com
END:VEVENT
BEGIN:VEVENT
DTSTAMP:20260424T232924Z
DTSTART;VALUE=DATE:20140224
SUMMARY:IWQoS 2014 Deadline
DESCRIPTION:International Symposium on Quality of Service 2014
URL:http://www.wikicfp.com/cfp/servlet/event.showcfp?eventid=33557&copyow
 nerid=58711
UID:cfp407661-D@wikicfp.com
END:VEVENT
BEGIN:VEVENT
DTSTAMP:20260424T232924Z
DTSTART;VALUE=DATE:20141208
DTEND;VALUE=DATE:20141213
SUMMARY:GLOBECOM 2014
DESCRIPTION:IEEE Global Communications Conference
URL:http://www.wikicfp.com/cfp/servlet/event.showcfp?eventid=18828&copyow
 nerid=58711
UID:cfp407659-E@wikicfp.com
END:VEVENT
BEGIN:VEVENT
DTSTAMP:20260424T232924Z
DTSTART;VALUE=DATE:20140401
SUMMARY:GLOBECOM 2014 Deadline
DESCRIPTION:IEEE Global Communications Conference
URL:http://www.wikicfp.com/cfp/servlet/event.showcfp?eventid=18828&copyow
 nerid=58711
UID:cfp407659-D@wikicfp.com
END:VEVENT
BEGIN:VEVENT
DTSTAMP:20260424T232924Z
DTSTART;VALUE=DATE:20140701
SUMMARY:GLOBECOM 2014 Notification Due
DESCRIPTION:IEEE Global Communications Conference
URL:http://www.wikicfp.com/cfp/servlet/event.showcfp?eventid=18828&copyow
 nerid=58711
UID:cfp407659-N@wikicfp.com
END:VEVENT
BEGIN:VEVENT
DTSTAMP:20260424T232924Z
DTSTART;VALUE=DATE:20250922
DTEND;VALUE=DATE:20250926
SUMMARY:EWSN 2025
DESCRIPTION:The 22nd International Conference on Embedded Wireless System
 s and Networks (2025)
URL:http://www.wikicfp.com/cfp/servlet/event.showcfp?eventid=184738&copyo
 wnerid=58711
UID:cfp1004615-E@wikicfp.com
END:VEVENT
BEGIN:VEVENT
DTSTAMP:20260424T232924Z
DTSTART;VALUE=DATE:20250424
SUMMARY:EWSN 2025 Deadline
DESCRIPTION:The 22nd International Conference on Embedded Wireless System
 s and Networks (2025)
URL:http://www.wikicfp.com/cfp/servlet/event.showcfp?eventid=184738&copyo
 wnerid=58711
UID:cfp1004615-D@wikicfp.com
END:VEVENT
BEGIN:VEVENT
DTSTAMP:20260424T232924Z
DTSTART;VALUE=DATE:20250623
SUMMARY:EWSN 2025 Notification Due
DESCRIPTION:The 22nd International Conference on Embedded Wireless System
 s and Networks (2025)
URL:http://www.wikicfp.com/cfp/servlet/event.showcfp?eventid=184738&copyo
 wnerid=58711
UID:cfp1004615-N@wikicfp.com
END:VEVENT
BEGIN:VEVENT
DTSTAMP:20260424T232924Z
DTSTART;VALUE=DATE:20250718
SUMMARY:EWSN 2025 Final Version Due
DESCRIPTION:The 22nd International Conference on Embedded Wireless System
 s and Networks (2025)
URL:http://www.wikicfp.com/cfp/servlet/event.showcfp?eventid=184738&copyo
 wnerid=58711
UID:cfp1004615-N@wikicfp.com
END:VEVENT
END:VCALENDAR
