BEGIN:VCALENDAR
PRODID:-//WikiCFP//mbuccoli 1.0//EN
VERSION:2.0
CALSCALE:GREGORIAN
BEGIN:VEVENT
DTSTAMP:20260421T075622Z
DTSTART;VALUE=DATE:20140901
DTEND;VALUE=DATE:20140906
SUMMARY:EUSIPCO 2014
DESCRIPTION:European Signal Processing Conference
URL:http://www.wikicfp.com/cfp/servlet/event.showcfp?eventid=33202&copyow
 nerid=58149
UID:cfp404182-E@wikicfp.com
END:VEVENT
BEGIN:VEVENT
DTSTAMP:20260421T075622Z
DTSTART;VALUE=DATE:20140306
SUMMARY:EUSIPCO 2014 Deadline
DESCRIPTION:European Signal Processing Conference
URL:http://www.wikicfp.com/cfp/servlet/event.showcfp?eventid=33202&copyow
 nerid=58149
UID:cfp404182-D@wikicfp.com
END:VEVENT
BEGIN:VEVENT
DTSTAMP:20260421T075622Z
DTSTART;VALUE=DATE:20140526
SUMMARY:EUSIPCO 2014 Notification Due
DESCRIPTION:European Signal Processing Conference
URL:http://www.wikicfp.com/cfp/servlet/event.showcfp?eventid=33202&copyow
 nerid=58149
UID:cfp404182-N@wikicfp.com
END:VEVENT
BEGIN:VEVENT
DTSTAMP:20260421T075622Z
DTSTART;VALUE=DATE:20140623
SUMMARY:EUSIPCO 2014 Final Version Due
DESCRIPTION:European Signal Processing Conference
URL:http://www.wikicfp.com/cfp/servlet/event.showcfp?eventid=33202&copyow
 nerid=58149
UID:cfp404182-N@wikicfp.com
END:VEVENT
BEGIN:VEVENT
DTSTAMP:20260421T075622Z
DTSTART;VALUE=DATE:20141027
DTEND;VALUE=DATE:20141101
SUMMARY:ISMIR 2014
DESCRIPTION:15th International Society for Music Information Retrieval Co
 nference
URL:http://www.wikicfp.com/cfp/servlet/event.showcfp?eventid=34018&copyow
 nerid=58149
UID:cfp404181-E@wikicfp.com
END:VEVENT
BEGIN:VEVENT
DTSTAMP:20260421T075622Z
DTSTART;VALUE=DATE:20140502
SUMMARY:ISMIR 2014 Deadline
DESCRIPTION:15th International Society for Music Information Retrieval Co
 nference
URL:http://www.wikicfp.com/cfp/servlet/event.showcfp?eventid=34018&copyow
 nerid=58149
UID:cfp404181-D@wikicfp.com
END:VEVENT
BEGIN:VEVENT
DTSTAMP:20260421T075622Z
DTSTART;VALUE=DATE:20140627
SUMMARY:ISMIR 2014 Notification Due
DESCRIPTION:15th International Society for Music Information Retrieval Co
 nference
URL:http://www.wikicfp.com/cfp/servlet/event.showcfp?eventid=34018&copyow
 nerid=58149
UID:cfp404181-N@wikicfp.com
END:VEVENT
END:VCALENDAR
