BEGIN:VCALENDAR
PRODID:-//WikiCFP//williamstdd 1.0//EN
VERSION:2.0
CALSCALE:GREGORIAN
BEGIN:VEVENT
DTSTAMP:20260419T224155Z
DTSTART;VALUE=DATE:20091014
DTEND;VALUE=DATE:20091017
SUMMARY:ITMC 2009
DESCRIPTION:IT Management Conference
URL:http://www.wikicfp.com/cfp/servlet/event.showcfp?eventid=4955&copyown
 erid=5765
UID:cfp44554-E@wikicfp.com
END:VEVENT
END:VCALENDAR
