BEGIN:VCALENDAR
PRODID:-//WikiCFP//wang_li_neu 1.0//EN
VERSION:2.0
CALSCALE:GREGORIAN
BEGIN:VEVENT
DTSTAMP:20260421T082819Z
DTSTART;VALUE=DATE:20140401
DTEND;VALUE=DATE:20140405
SUMMARY:ICMR 2014
DESCRIPTION:International Conference on Multimedia Retrieval
URL:http://www.wikicfp.com/cfp/servlet/event.showcfp?eventid=31264&copyow
 nerid=57276
UID:cfp397005-E@wikicfp.com
END:VEVENT
BEGIN:VEVENT
DTSTAMP:20260421T082819Z
DTSTART;VALUE=DATE:20131209
SUMMARY:ICMR 2014 Deadline
DESCRIPTION:International Conference on Multimedia Retrieval
URL:http://www.wikicfp.com/cfp/servlet/event.showcfp?eventid=31264&copyow
 nerid=57276
UID:cfp397005-D@wikicfp.com
END:VEVENT
BEGIN:VEVENT
DTSTAMP:20260421T082819Z
DTSTART;VALUE=DATE:20140120
SUMMARY:ICMR 2014 Notification Due
DESCRIPTION:International Conference on Multimedia Retrieval
URL:http://www.wikicfp.com/cfp/servlet/event.showcfp?eventid=31264&copyow
 nerid=57276
UID:cfp397005-N@wikicfp.com
END:VEVENT
BEGIN:VEVENT
DTSTAMP:20260421T082819Z
DTSTART;VALUE=DATE:20140215
SUMMARY:ICMR 2014 Final Version Due
DESCRIPTION:International Conference on Multimedia Retrieval
URL:http://www.wikicfp.com/cfp/servlet/event.showcfp?eventid=31264&copyow
 nerid=57276
UID:cfp397005-N@wikicfp.com
END:VEVENT
BEGIN:VEVENT
DTSTAMP:20260421T082819Z
DTSTART;VALUE=DATE:20140714
DTEND;VALUE=DATE:20140719
SUMMARY:ICME 2014
DESCRIPTION:IEEE International Conference on Multimedia and Expo
URL:http://www.wikicfp.com/cfp/servlet/event.showcfp?eventid=29213&copyow
 nerid=57276
UID:cfp397011-E@wikicfp.com
END:VEVENT
BEGIN:VEVENT
DTSTAMP:20260421T082819Z
DTSTART;VALUE=DATE:20131210
SUMMARY:ICME 2014 Abstract Due
DESCRIPTION:IEEE International Conference on Multimedia and Expo
URL:http://www.wikicfp.com/cfp/servlet/event.showcfp?eventid=29213&copyow
 nerid=57276
UID:cfp397011-A@wikicfp.com
END:VEVENT
BEGIN:VEVENT
DTSTAMP:20260421T082819Z
DTSTART;VALUE=DATE:20131216
SUMMARY:ICME 2014 Deadline
DESCRIPTION:IEEE International Conference on Multimedia and Expo
URL:http://www.wikicfp.com/cfp/servlet/event.showcfp?eventid=29213&copyow
 nerid=57276
UID:cfp397011-D@wikicfp.com
END:VEVENT
BEGIN:VEVENT
DTSTAMP:20260421T082819Z
DTSTART;VALUE=DATE:20140213
SUMMARY:ICME 2014 Notification Due
DESCRIPTION:IEEE International Conference on Multimedia and Expo
URL:http://www.wikicfp.com/cfp/servlet/event.showcfp?eventid=29213&copyow
 nerid=57276
UID:cfp397011-N@wikicfp.com
END:VEVENT
BEGIN:VEVENT
DTSTAMP:20260421T082819Z
DTSTART;VALUE=DATE:20140329
SUMMARY:ICME 2014 Final Version Due
DESCRIPTION:IEEE International Conference on Multimedia and Expo
URL:http://www.wikicfp.com/cfp/servlet/event.showcfp?eventid=29213&copyow
 nerid=57276
UID:cfp397011-N@wikicfp.com
END:VEVENT
BEGIN:VEVENT
DTSTAMP:20260421T082819Z
DTSTART;VALUE=DATE:20140716
DTEND;VALUE=DATE:20140721
SUMMARY:ICDM 2014
DESCRIPTION:Industrial Conference on Data Mining 
URL:http://www.wikicfp.com/cfp/servlet/event.showcfp?eventid=19550&copyow
 nerid=57276
UID:cfp397006-E@wikicfp.com
END:VEVENT
BEGIN:VEVENT
DTSTAMP:20260421T082819Z
DTSTART;VALUE=DATE:20140115
SUMMARY:ICDM 2014 Deadline
DESCRIPTION:Industrial Conference on Data Mining 
URL:http://www.wikicfp.com/cfp/servlet/event.showcfp?eventid=19550&copyow
 nerid=57276
UID:cfp397006-D@wikicfp.com
END:VEVENT
BEGIN:VEVENT
DTSTAMP:20260421T082819Z
DTSTART;VALUE=DATE:20140215
SUMMARY:ICDM 2014 Notification Due
DESCRIPTION:Industrial Conference on Data Mining 
URL:http://www.wikicfp.com/cfp/servlet/event.showcfp?eventid=19550&copyow
 nerid=57276
UID:cfp397006-N@wikicfp.com
END:VEVENT
BEGIN:VEVENT
DTSTAMP:20260421T082819Z
DTSTART;VALUE=DATE:20140320
SUMMARY:ICDM 2014 Final Version Due
DESCRIPTION:Industrial Conference on Data Mining 
URL:http://www.wikicfp.com/cfp/servlet/event.showcfp?eventid=19550&copyow
 nerid=57276
UID:cfp397006-N@wikicfp.com
END:VEVENT
BEGIN:VEVENT
DTSTAMP:20260421T082819Z
DTSTART;VALUE=DATE:20140706
DTEND;VALUE=DATE:20140712
SUMMARY:SIGIR 2014
DESCRIPTION:The 37th Annual ACM SIGIR Conference
URL:http://www.wikicfp.com/cfp/servlet/event.showcfp?eventid=31804&copyow
 nerid=57276
UID:cfp397010-E@wikicfp.com
END:VEVENT
BEGIN:VEVENT
DTSTAMP:20260421T082819Z
DTSTART;VALUE=DATE:20140120
SUMMARY:SIGIR 2014 Abstract Due
DESCRIPTION:The 37th Annual ACM SIGIR Conference
URL:http://www.wikicfp.com/cfp/servlet/event.showcfp?eventid=31804&copyow
 nerid=57276
UID:cfp397010-A@wikicfp.com
END:VEVENT
BEGIN:VEVENT
DTSTAMP:20260421T082819Z
DTSTART;VALUE=DATE:20140127
SUMMARY:SIGIR 2014 Deadline
DESCRIPTION:The 37th Annual ACM SIGIR Conference
URL:http://www.wikicfp.com/cfp/servlet/event.showcfp?eventid=31804&copyow
 nerid=57276
UID:cfp397010-D@wikicfp.com
END:VEVENT
BEGIN:VEVENT
DTSTAMP:20260421T082819Z
DTSTART;VALUE=DATE:20140418
SUMMARY:SIGIR 2014 Notification Due
DESCRIPTION:The 37th Annual ACM SIGIR Conference
URL:http://www.wikicfp.com/cfp/servlet/event.showcfp?eventid=31804&copyow
 nerid=57276
UID:cfp397010-N@wikicfp.com
END:VEVENT
BEGIN:VEVENT
DTSTAMP:20260421T082819Z
DTSTART;VALUE=DATE:20140511
SUMMARY:SIGIR 2014 Final Version Due
DESCRIPTION:The 37th Annual ACM SIGIR Conference
URL:http://www.wikicfp.com/cfp/servlet/event.showcfp?eventid=31804&copyow
 nerid=57276
UID:cfp397010-N@wikicfp.com
END:VEVENT
BEGIN:VEVENT
DTSTAMP:20260421T082819Z
DTSTART;VALUE=DATE:20140613
DTEND;VALUE=DATE:20140616
SUMMARY:COLT 2014
DESCRIPTION:Conference on Learning Theory
URL:http://www.wikicfp.com/cfp/servlet/event.showcfp?eventid=32951&copyow
 nerid=57276
UID:cfp397007-E@wikicfp.com
END:VEVENT
BEGIN:VEVENT
DTSTAMP:20260421T082819Z
DTSTART;VALUE=DATE:20140207
SUMMARY:COLT 2014 Deadline
DESCRIPTION:Conference on Learning Theory
URL:http://www.wikicfp.com/cfp/servlet/event.showcfp?eventid=32951&copyow
 nerid=57276
UID:cfp397007-D@wikicfp.com
END:VEVENT
BEGIN:VEVENT
DTSTAMP:20260421T082819Z
DTSTART;VALUE=DATE:20140419
SUMMARY:COLT 2014 Notification Due
DESCRIPTION:Conference on Learning Theory
URL:http://www.wikicfp.com/cfp/servlet/event.showcfp?eventid=32951&copyow
 nerid=57276
UID:cfp397007-N@wikicfp.com
END:VEVENT
BEGIN:VEVENT
DTSTAMP:20260421T082819Z
DTSTART;VALUE=DATE:20140824
DTEND;VALUE=DATE:20140828
SUMMARY:KDD 2014
DESCRIPTION:20th ACM SIGKDD Conference on Knowledge Discovery and Data Mi
 ning
URL:http://www.wikicfp.com/cfp/servlet/event.showcfp?eventid=32283&copyow
 nerid=57276
UID:cfp397009-E@wikicfp.com
END:VEVENT
BEGIN:VEVENT
DTSTAMP:20260421T082819Z
DTSTART;VALUE=DATE:20140213
SUMMARY:KDD 2014 Abstract Due
DESCRIPTION:20th ACM SIGKDD Conference on Knowledge Discovery and Data Mi
 ning
URL:http://www.wikicfp.com/cfp/servlet/event.showcfp?eventid=32283&copyow
 nerid=57276
UID:cfp397009-A@wikicfp.com
END:VEVENT
BEGIN:VEVENT
DTSTAMP:20260421T082819Z
DTSTART;VALUE=DATE:20140221
SUMMARY:KDD 2014 Deadline
DESCRIPTION:20th ACM SIGKDD Conference on Knowledge Discovery and Data Mi
 ning
URL:http://www.wikicfp.com/cfp/servlet/event.showcfp?eventid=32283&copyow
 nerid=57276
UID:cfp397009-D@wikicfp.com
END:VEVENT
BEGIN:VEVENT
DTSTAMP:20260421T082819Z
DTSTART;VALUE=DATE:20140512
SUMMARY:KDD 2014 Notification Due
DESCRIPTION:20th ACM SIGKDD Conference on Knowledge Discovery and Data Mi
 ning
URL:http://www.wikicfp.com/cfp/servlet/event.showcfp?eventid=32283&copyow
 nerid=57276
UID:cfp397009-N@wikicfp.com
END:VEVENT
BEGIN:VEVENT
DTSTAMP:20260421T082819Z
DTSTART;VALUE=DATE:20140817
DTEND;VALUE=DATE:20140823
SUMMARY:ECAI 2014
DESCRIPTION:21st European Conference on Artificial Intelligence
URL:http://www.wikicfp.com/cfp/servlet/event.showcfp?eventid=31243&copyow
 nerid=57276
UID:cfp397008-E@wikicfp.com
END:VEVENT
BEGIN:VEVENT
DTSTAMP:20260421T082819Z
DTSTART;VALUE=DATE:20140301
SUMMARY:ECAI 2014 Deadline
DESCRIPTION:21st European Conference on Artificial Intelligence
URL:http://www.wikicfp.com/cfp/servlet/event.showcfp?eventid=31243&copyow
 nerid=57276
UID:cfp397008-D@wikicfp.com
END:VEVENT
BEGIN:VEVENT
DTSTAMP:20260421T082819Z
DTSTART;VALUE=DATE:20140509
SUMMARY:ECAI 2014 Notification Due
DESCRIPTION:21st European Conference on Artificial Intelligence
URL:http://www.wikicfp.com/cfp/servlet/event.showcfp?eventid=31243&copyow
 nerid=57276
UID:cfp397008-N@wikicfp.com
END:VEVENT
BEGIN:VEVENT
DTSTAMP:20260421T082819Z
DTSTART;VALUE=DATE:20140530
SUMMARY:ECAI 2014 Final Version Due
DESCRIPTION:21st European Conference on Artificial Intelligence
URL:http://www.wikicfp.com/cfp/servlet/event.showcfp?eventid=31243&copyow
 nerid=57276
UID:cfp397008-N@wikicfp.com
END:VEVENT
END:VCALENDAR
