BEGIN:VCALENDAR
PRODID:-//WikiCFP//CheGeGe 1.0//EN
VERSION:2.0
CALSCALE:GREGORIAN
BEGIN:VEVENT
DTSTAMP:20260419T163247Z
DTSTART;VALUE=DATE:20140426
DTEND;VALUE=DATE:20140502
SUMMARY:CHI 2014
DESCRIPTION:Human Factors in Computing Systems
URL:http://www.wikicfp.com/cfp/servlet/event.showcfp?eventid=30895&copyow
 nerid=56785
UID:cfp420586-E@wikicfp.com
END:VEVENT
BEGIN:VEVENT
DTSTAMP:20260419T163247Z
DTSTART;VALUE=DATE:20130918
SUMMARY:CHI 2014 Deadline
DESCRIPTION:Human Factors in Computing Systems
URL:http://www.wikicfp.com/cfp/servlet/event.showcfp?eventid=30895&copyow
 nerid=56785
UID:cfp420586-D@wikicfp.com
END:VEVENT
BEGIN:VEVENT
DTSTAMP:20260419T163247Z
DTSTART;VALUE=DATE:20131210
SUMMARY:CHI 2014 Notification Due
DESCRIPTION:Human Factors in Computing Systems
URL:http://www.wikicfp.com/cfp/servlet/event.showcfp?eventid=30895&copyow
 nerid=56785
UID:cfp420586-N@wikicfp.com
END:VEVENT
BEGIN:VEVENT
DTSTAMP:20260419T163247Z
DTSTART;VALUE=DATE:20140107
SUMMARY:CHI 2014 Final Version Due
DESCRIPTION:Human Factors in Computing Systems
URL:http://www.wikicfp.com/cfp/servlet/event.showcfp?eventid=30895&copyow
 nerid=56785
UID:cfp420586-N@wikicfp.com
END:VEVENT
BEGIN:VEVENT
DTSTAMP:20260419T163247Z
DTSTART;VALUE=DATE:20140527
DTEND;VALUE=DATE:20140531
SUMMARY:AVI 2014
DESCRIPTION:The 12th International Conference on Advanced Visual Interfac
 es
URL:http://www.wikicfp.com/cfp/servlet/event.showcfp?eventid=33172&copyow
 nerid=56785
UID:cfp420588-E@wikicfp.com
END:VEVENT
BEGIN:VEVENT
DTSTAMP:20260419T163247Z
DTSTART;VALUE=DATE:20140107
SUMMARY:AVI 2014 Abstract Due
DESCRIPTION:The 12th International Conference on Advanced Visual Interfac
 es
URL:http://www.wikicfp.com/cfp/servlet/event.showcfp?eventid=33172&copyow
 nerid=56785
UID:cfp420588-A@wikicfp.com
END:VEVENT
BEGIN:VEVENT
DTSTAMP:20260419T163247Z
DTSTART;VALUE=DATE:20140113
SUMMARY:AVI 2014 Deadline
DESCRIPTION:The 12th International Conference on Advanced Visual Interfac
 es
URL:http://www.wikicfp.com/cfp/servlet/event.showcfp?eventid=33172&copyow
 nerid=56785
UID:cfp420588-D@wikicfp.com
END:VEVENT
BEGIN:VEVENT
DTSTAMP:20260419T163247Z
DTSTART;VALUE=DATE:20140716
DTEND;VALUE=DATE:20140719
SUMMARY:iV2014-ARVA 2014
DESCRIPTION:3rd  International Symposium on Augmented Reality Visualizati
 on and Art 
URL:http://www.wikicfp.com/cfp/servlet/event.showcfp?eventid=33665&copyow
 nerid=56785
UID:cfp401076-E@wikicfp.com
END:VEVENT
BEGIN:VEVENT
DTSTAMP:20260419T163247Z
DTSTART;VALUE=DATE:20140301
SUMMARY:iV2014-ARVA 2014 Deadline
DESCRIPTION:3rd  International Symposium on Augmented Reality Visualizati
 on and Art 
URL:http://www.wikicfp.com/cfp/servlet/event.showcfp?eventid=33665&copyow
 nerid=56785
UID:cfp401076-D@wikicfp.com
END:VEVENT
BEGIN:VEVENT
DTSTAMP:20260419T163247Z
DTSTART;VALUE=DATE:20140425
SUMMARY:iV2014-ARVA 2014 Notification Due
DESCRIPTION:3rd  International Symposium on Augmented Reality Visualizati
 on and Art 
URL:http://www.wikicfp.com/cfp/servlet/event.showcfp?eventid=33665&copyow
 nerid=56785
UID:cfp401076-N@wikicfp.com
END:VEVENT
BEGIN:VEVENT
DTSTAMP:20260419T163247Z
DTSTART;VALUE=DATE:20140510
SUMMARY:iV2014-ARVA 2014 Final Version Due
DESCRIPTION:3rd  International Symposium on Augmented Reality Visualizati
 on and Art 
URL:http://www.wikicfp.com/cfp/servlet/event.showcfp?eventid=33665&copyow
 nerid=56785
UID:cfp401076-N@wikicfp.com
END:VEVENT
BEGIN:VEVENT
DTSTAMP:20260419T163247Z
DTSTART;VALUE=DATE:20141005
DTEND;VALUE=DATE:20141009
SUMMARY:UIST 2014
DESCRIPTION:27TH ACM USER INTERFACE SOFTWARE AND TECHNOLOGY SYMPOSIUM
URL:http://www.wikicfp.com/cfp/servlet/event.showcfp?eventid=34534&copyow
 nerid=56785
UID:cfp420584-E@wikicfp.com
END:VEVENT
BEGIN:VEVENT
DTSTAMP:20260419T163247Z
DTSTART;VALUE=DATE:20140416
SUMMARY:UIST 2014 Deadline
DESCRIPTION:27TH ACM USER INTERFACE SOFTWARE AND TECHNOLOGY SYMPOSIUM
URL:http://www.wikicfp.com/cfp/servlet/event.showcfp?eventid=34534&copyow
 nerid=56785
UID:cfp420584-D@wikicfp.com
END:VEVENT
BEGIN:VEVENT
DTSTAMP:20260419T163247Z
DTSTART;VALUE=DATE:20141026
DTEND;VALUE=DATE:20141031
SUMMARY:NordiCHI 2014
DESCRIPTION:8th Nordic Conference on Human-Computer Interaction
URL:http://www.wikicfp.com/cfp/servlet/event.showcfp?eventid=29167&copyow
 nerid=56785
UID:cfp420587-E@wikicfp.com
END:VEVENT
BEGIN:VEVENT
DTSTAMP:20260419T163247Z
DTSTART;VALUE=DATE:20140424
SUMMARY:NordiCHI 2014 Deadline
DESCRIPTION:8th Nordic Conference on Human-Computer Interaction
URL:http://www.wikicfp.com/cfp/servlet/event.showcfp?eventid=29167&copyow
 nerid=56785
UID:cfp420587-D@wikicfp.com
END:VEVENT
END:VCALENDAR
