BEGIN:VCALENDAR
PRODID:-//WikiCFP//goranvelinov 1.0//EN
VERSION:2.0
CALSCALE:GREGORIAN
BEGIN:VEVENT
DTSTAMP:20260423T154925Z
DTSTART;VALUE=DATE:20140907
DTEND;VALUE=DATE:20140911
SUMMARY:ADBIS 2014
DESCRIPTION:Advances in Databases and Information Systems
URL:http://www.wikicfp.com/cfp/servlet/event.showcfp?eventid=33088&copyow
 nerid=56053
UID:cfp388659-E@wikicfp.com
END:VEVENT
BEGIN:VEVENT
DTSTAMP:20260423T154925Z
DTSTART;VALUE=DATE:20140414
SUMMARY:ADBIS 2014 Deadline
DESCRIPTION:Advances in Databases and Information Systems
URL:http://www.wikicfp.com/cfp/servlet/event.showcfp?eventid=33088&copyow
 nerid=56053
UID:cfp388659-D@wikicfp.com
END:VEVENT
BEGIN:VEVENT
DTSTAMP:20260423T154925Z
DTSTART;VALUE=DATE:20140525
SUMMARY:ADBIS 2014 Notification Due
DESCRIPTION:Advances in Databases and Information Systems
URL:http://www.wikicfp.com/cfp/servlet/event.showcfp?eventid=33088&copyow
 nerid=56053
UID:cfp388659-N@wikicfp.com
END:VEVENT
BEGIN:VEVENT
DTSTAMP:20260423T154925Z
DTSTART;VALUE=DATE:20140615
SUMMARY:ADBIS 2014 Final Version Due
DESCRIPTION:Advances in Databases and Information Systems
URL:http://www.wikicfp.com/cfp/servlet/event.showcfp?eventid=33088&copyow
 nerid=56053
UID:cfp388659-N@wikicfp.com
END:VEVENT
END:VCALENDAR
