BEGIN:VCALENDAR
PRODID:-//WikiCFP//sagarsunkle2010 1.0//EN
VERSION:2.0
CALSCALE:GREGORIAN
BEGIN:VEVENT
DTSTAMP:20260420T065323Z
DTSTART;VALUE=DATE:20100308
DTEND;VALUE=DATE:20100311
SUMMARY:Design Conference 2010
DESCRIPTION:Fourth International Conference on Design Principles and Prac
 tices
URL:http://www.wikicfp.com/cfp/servlet/event.showcfp?eventid=5999&copyown
 erid=5586
UID:cfp43026-E@wikicfp.com
END:VEVENT
BEGIN:VEVENT
DTSTAMP:20260420T065323Z
DTSTART;VALUE=DATE:20090824
DTEND;VALUE=DATE:20090826
SUMMARY:IWPSE-EVOL 2009
DESCRIPTION:Joint ERCIM Workshop on Software Evolution and International 
 Workshop on Principles of Software Evolution
URL:http://www.wikicfp.com/cfp/servlet/event.showcfp?eventid=6046&copyown
 erid=5586
UID:cfp43022-E@wikicfp.com
END:VEVENT
BEGIN:VEVENT
DTSTAMP:20260420T065323Z
DTSTART;VALUE=DATE:20090528
SUMMARY:IWPSE-EVOL 2009 Deadline
DESCRIPTION:Joint ERCIM Workshop on Software Evolution and International 
 Workshop on Principles of Software Evolution
URL:http://www.wikicfp.com/cfp/servlet/event.showcfp?eventid=6046&copyown
 erid=5586
UID:cfp43022-D@wikicfp.com
END:VEVENT
BEGIN:VEVENT
DTSTAMP:20260420T065323Z
DTSTART;VALUE=DATE:20090619
SUMMARY:IWPSE-EVOL 2009 Notification Due
DESCRIPTION:Joint ERCIM Workshop on Software Evolution and International 
 Workshop on Principles of Software Evolution
URL:http://www.wikicfp.com/cfp/servlet/event.showcfp?eventid=6046&copyown
 erid=5586
UID:cfp43022-N@wikicfp.com
END:VEVENT
BEGIN:VEVENT
DTSTAMP:20260420T065323Z
DTSTART;VALUE=DATE:20090626
SUMMARY:IWPSE-EVOL 2009 Final Version Due
DESCRIPTION:Joint ERCIM Workshop on Software Evolution and International 
 Workshop on Principles of Software Evolution
URL:http://www.wikicfp.com/cfp/servlet/event.showcfp?eventid=6046&copyown
 erid=5586
UID:cfp43022-N@wikicfp.com
END:VEVENT
BEGIN:VEVENT
DTSTAMP:20260420T065323Z
DTSTART;VALUE=DATE:20091105
DTEND;VALUE=DATE:20091106
SUMMARY:LRL 2009
DESCRIPTION:Less-Resourced Languages Workshop
URL:http://www.wikicfp.com/cfp/servlet/event.showcfp?eventid=6097&copyown
 erid=5586
UID:cfp43013-E@wikicfp.com
END:VEVENT
BEGIN:VEVENT
DTSTAMP:20260420T065323Z
DTSTART;VALUE=DATE:20090815
SUMMARY:LRL 2009 Deadline
DESCRIPTION:Less-Resourced Languages Workshop
URL:http://www.wikicfp.com/cfp/servlet/event.showcfp?eventid=6097&copyown
 erid=5586
UID:cfp43013-D@wikicfp.com
END:VEVENT
BEGIN:VEVENT
DTSTAMP:20260420T065323Z
DTSTART;VALUE=DATE:20100118
DTEND;VALUE=DATE:20100122
SUMMARY:APCCM 2010
DESCRIPTION:Seventh Asia-Pacific Conference on Conceptual Modelling
URL:http://www.wikicfp.com/cfp/servlet/event.showcfp?eventid=6115&copyown
 erid=5586
UID:cfp43016-E@wikicfp.com
END:VEVENT
BEGIN:VEVENT
DTSTAMP:20260420T065323Z
DTSTART;VALUE=DATE:20090810
SUMMARY:APCCM 2010 Abstract Due
DESCRIPTION:Seventh Asia-Pacific Conference on Conceptual Modelling
URL:http://www.wikicfp.com/cfp/servlet/event.showcfp?eventid=6115&copyown
 erid=5586
UID:cfp43016-A@wikicfp.com
END:VEVENT
BEGIN:VEVENT
DTSTAMP:20260420T065323Z
DTSTART;VALUE=DATE:20090817
SUMMARY:APCCM 2010 Deadline
DESCRIPTION:Seventh Asia-Pacific Conference on Conceptual Modelling
URL:http://www.wikicfp.com/cfp/servlet/event.showcfp?eventid=6115&copyown
 erid=5586
UID:cfp43016-D@wikicfp.com
END:VEVENT
BEGIN:VEVENT
DTSTAMP:20260420T065323Z
DTSTART;VALUE=DATE:20091005
SUMMARY:APCCM 2010 Notification Due
DESCRIPTION:Seventh Asia-Pacific Conference on Conceptual Modelling
URL:http://www.wikicfp.com/cfp/servlet/event.showcfp?eventid=6115&copyown
 erid=5586
UID:cfp43016-N@wikicfp.com
END:VEVENT
BEGIN:VEVENT
DTSTAMP:20260420T065323Z
DTSTART;VALUE=DATE:20091106
SUMMARY:APCCM 2010 Final Version Due
DESCRIPTION:Seventh Asia-Pacific Conference on Conceptual Modelling
URL:http://www.wikicfp.com/cfp/servlet/event.showcfp?eventid=6115&copyown
 erid=5586
UID:cfp43016-N@wikicfp.com
END:VEVENT
BEGIN:VEVENT
DTSTAMP:20260420T065323Z
DTSTART;VALUE=DATE:20100118
DTEND;VALUE=DATE:20100120
SUMMARY:PADL 2010
DESCRIPTION:Twelfth International Symposium on Practical Aspects of Decla
 rative Languages
URL:http://www.wikicfp.com/cfp/servlet/event.showcfp?eventid=6038&copyown
 erid=5586
UID:cfp43021-E@wikicfp.com
END:VEVENT
BEGIN:VEVENT
DTSTAMP:20260420T065323Z
DTSTART;VALUE=DATE:20090831
SUMMARY:PADL 2010 Abstract Due
DESCRIPTION:Twelfth International Symposium on Practical Aspects of Decla
 rative Languages
URL:http://www.wikicfp.com/cfp/servlet/event.showcfp?eventid=6038&copyown
 erid=5586
UID:cfp43021-A@wikicfp.com
END:VEVENT
BEGIN:VEVENT
DTSTAMP:20260420T065323Z
DTSTART;VALUE=DATE:20090904
SUMMARY:PADL 2010 Deadline
DESCRIPTION:Twelfth International Symposium on Practical Aspects of Decla
 rative Languages
URL:http://www.wikicfp.com/cfp/servlet/event.showcfp?eventid=6038&copyown
 erid=5586
UID:cfp43021-D@wikicfp.com
END:VEVENT
BEGIN:VEVENT
DTSTAMP:20260420T065323Z
DTSTART;VALUE=DATE:20091005
SUMMARY:PADL 2010 Notification Due
DESCRIPTION:Twelfth International Symposium on Practical Aspects of Decla
 rative Languages
URL:http://www.wikicfp.com/cfp/servlet/event.showcfp?eventid=6038&copyown
 erid=5586
UID:cfp43021-N@wikicfp.com
END:VEVENT
BEGIN:VEVENT
DTSTAMP:20260420T065323Z
DTSTART;VALUE=DATE:20091026
SUMMARY:PADL 2010 Final Version Due
DESCRIPTION:Twelfth International Symposium on Practical Aspects of Decla
 rative Languages
URL:http://www.wikicfp.com/cfp/servlet/event.showcfp?eventid=6038&copyown
 erid=5586
UID:cfp43021-N@wikicfp.com
END:VEVENT
BEGIN:VEVENT
DTSTAMP:20260420T065323Z
DTSTART;VALUE=DATE:20100322
DTEND;VALUE=DATE:20100327
SUMMARY:SAC SOAP 2010
DESCRIPTION:ACM SAC SOAP Track
URL:http://www.wikicfp.com/cfp/servlet/event.showcfp?eventid=6023&copyown
 erid=5586
UID:cfp43023-E@wikicfp.com
END:VEVENT
BEGIN:VEVENT
DTSTAMP:20260420T065323Z
DTSTART;VALUE=DATE:20090908
SUMMARY:SAC SOAP 2010 Deadline
DESCRIPTION:ACM SAC SOAP Track
URL:http://www.wikicfp.com/cfp/servlet/event.showcfp?eventid=6023&copyown
 erid=5586
UID:cfp43023-D@wikicfp.com
END:VEVENT
BEGIN:VEVENT
DTSTAMP:20260420T065323Z
DTSTART;VALUE=DATE:20091019
SUMMARY:SAC SOAP 2010 Notification Due
DESCRIPTION:ACM SAC SOAP Track
URL:http://www.wikicfp.com/cfp/servlet/event.showcfp?eventid=6023&copyown
 erid=5586
UID:cfp43023-N@wikicfp.com
END:VEVENT
BEGIN:VEVENT
DTSTAMP:20260420T065323Z
DTSTART;VALUE=DATE:20091102
SUMMARY:SAC SOAP 2010 Final Version Due
DESCRIPTION:ACM SAC SOAP Track
URL:http://www.wikicfp.com/cfp/servlet/event.showcfp?eventid=6023&copyown
 erid=5586
UID:cfp43023-N@wikicfp.com
END:VEVENT
BEGIN:VEVENT
DTSTAMP:20260420T065323Z
DTSTART;VALUE=DATE:20100424
DTEND;VALUE=DATE:20100429
SUMMARY:CGO 2010
DESCRIPTION:8th Annual IEEE/ACM International Symposium on Code Generatio
 n and Optimization (CGO)
URL:http://www.wikicfp.com/cfp/servlet/event.showcfp?eventid=6034&copyown
 erid=5586
UID:cfp43024-E@wikicfp.com
END:VEVENT
BEGIN:VEVENT
DTSTAMP:20260420T065323Z
DTSTART;VALUE=DATE:20090903
SUMMARY:CGO 2010 Abstract Due
DESCRIPTION:8th Annual IEEE/ACM International Symposium on Code Generatio
 n and Optimization (CGO)
URL:http://www.wikicfp.com/cfp/servlet/event.showcfp?eventid=6034&copyown
 erid=5586
UID:cfp43024-A@wikicfp.com
END:VEVENT
BEGIN:VEVENT
DTSTAMP:20260420T065323Z
DTSTART;VALUE=DATE:20090910
SUMMARY:CGO 2010 Deadline
DESCRIPTION:8th Annual IEEE/ACM International Symposium on Code Generatio
 n and Optimization (CGO)
URL:http://www.wikicfp.com/cfp/servlet/event.showcfp?eventid=6034&copyown
 erid=5586
UID:cfp43024-D@wikicfp.com
END:VEVENT
BEGIN:VEVENT
DTSTAMP:20260420T065323Z
DTSTART;VALUE=DATE:20091111
SUMMARY:CGO 2010 Notification Due
DESCRIPTION:8th Annual IEEE/ACM International Symposium on Code Generatio
 n and Optimization (CGO)
URL:http://www.wikicfp.com/cfp/servlet/event.showcfp?eventid=6034&copyown
 erid=5586
UID:cfp43024-N@wikicfp.com
END:VEVENT
BEGIN:VEVENT
DTSTAMP:20260420T065323Z
DTSTART;VALUE=DATE:20100118
DTEND;VALUE=DATE:20100120
SUMMARY:PEPM 2010
DESCRIPTION:ACM SIGPLAN 2010 Workshop on Partial Evaluation and Program M
 anipulation
URL:http://www.wikicfp.com/cfp/servlet/event.showcfp?eventid=6037&copyown
 erid=5586
UID:cfp43020-E@wikicfp.com
END:VEVENT
BEGIN:VEVENT
DTSTAMP:20260420T065323Z
DTSTART;VALUE=DATE:20091006
SUMMARY:PEPM 2010 Deadline
DESCRIPTION:ACM SIGPLAN 2010 Workshop on Partial Evaluation and Program M
 anipulation
URL:http://www.wikicfp.com/cfp/servlet/event.showcfp?eventid=6037&copyown
 erid=5586
UID:cfp43020-D@wikicfp.com
END:VEVENT
BEGIN:VEVENT
DTSTAMP:20260420T065323Z
DTSTART;VALUE=DATE:20091029
SUMMARY:PEPM 2010 Notification Due
DESCRIPTION:ACM SIGPLAN 2010 Workshop on Partial Evaluation and Program M
 anipulation
URL:http://www.wikicfp.com/cfp/servlet/event.showcfp?eventid=6037&copyown
 erid=5586
UID:cfp43020-N@wikicfp.com
END:VEVENT
BEGIN:VEVENT
DTSTAMP:20260420T065323Z
DTSTART;VALUE=DATE:20091109
SUMMARY:PEPM 2010 Final Version Due
DESCRIPTION:ACM SIGPLAN 2010 Workshop on Partial Evaluation and Program M
 anipulation
URL:http://www.wikicfp.com/cfp/servlet/event.showcfp?eventid=6037&copyown
 erid=5586
UID:cfp43020-N@wikicfp.com
END:VEVENT
BEGIN:VEVENT
DTSTAMP:20260420T065323Z
DTSTART;VALUE=DATE:20100315
DTEND;VALUE=DATE:20100320
SUMMARY:AOSD 2010
DESCRIPTION:9th International Conference on Aspect-Oriented Software Deve
 lopment
URL:http://www.wikicfp.com/cfp/servlet/event.showcfp?eventid=6028&copyown
 erid=5586
UID:cfp43025-E@wikicfp.com
END:VEVENT
BEGIN:VEVENT
DTSTAMP:20260420T065323Z
DTSTART;VALUE=DATE:20091009
SUMMARY:AOSD 2010 Deadline
DESCRIPTION:9th International Conference on Aspect-Oriented Software Deve
 lopment
URL:http://www.wikicfp.com/cfp/servlet/event.showcfp?eventid=6028&copyown
 erid=5586
UID:cfp43025-D@wikicfp.com
END:VEVENT
BEGIN:VEVENT
DTSTAMP:20260420T065323Z
DTSTART;VALUE=DATE:20091209
SUMMARY:AOSD 2010 Notification Due
DESCRIPTION:9th International Conference on Aspect-Oriented Software Deve
 lopment
URL:http://www.wikicfp.com/cfp/servlet/event.showcfp?eventid=6028&copyown
 erid=5586
UID:cfp43025-N@wikicfp.com
END:VEVENT
BEGIN:VEVENT
DTSTAMP:20260420T065323Z
DTSTART;VALUE=DATE:20100114
SUMMARY:AOSD 2010 Final Version Due
DESCRIPTION:9th International Conference on Aspect-Oriented Software Deve
 lopment
URL:http://www.wikicfp.com/cfp/servlet/event.showcfp?eventid=6028&copyown
 erid=5586
UID:cfp43025-N@wikicfp.com
END:VEVENT
BEGIN:VEVENT
DTSTAMP:20260420T065323Z
DTSTART;VALUE=DATE:20100412
DTEND;VALUE=DATE:20100417
SUMMARY:LCTES 2010
DESCRIPTION:Conference on Languages\, Compilers and Tools for Embedded Sy
 stems
URL:http://www.wikicfp.com/cfp/servlet/event.showcfp?eventid=6105&copyown
 erid=5586
UID:cfp43014-E@wikicfp.com
END:VEVENT
BEGIN:VEVENT
DTSTAMP:20260420T065323Z
DTSTART;VALUE=DATE:20091003
SUMMARY:LCTES 2010 Abstract Due
DESCRIPTION:Conference on Languages\, Compilers and Tools for Embedded Sy
 stems
URL:http://www.wikicfp.com/cfp/servlet/event.showcfp?eventid=6105&copyown
 erid=5586
UID:cfp43014-A@wikicfp.com
END:VEVENT
BEGIN:VEVENT
DTSTAMP:20260420T065323Z
DTSTART;VALUE=DATE:20091010
SUMMARY:LCTES 2010 Deadline
DESCRIPTION:Conference on Languages\, Compilers and Tools for Embedded Sy
 stems
URL:http://www.wikicfp.com/cfp/servlet/event.showcfp?eventid=6105&copyown
 erid=5586
UID:cfp43014-D@wikicfp.com
END:VEVENT
BEGIN:VEVENT
DTSTAMP:20260420T065323Z
DTSTART;VALUE=DATE:20091130
SUMMARY:LCTES 2010 Notification Due
DESCRIPTION:Conference on Languages\, Compilers and Tools for Embedded Sy
 stems
URL:http://www.wikicfp.com/cfp/servlet/event.showcfp?eventid=6105&copyown
 erid=5586
UID:cfp43014-N@wikicfp.com
END:VEVENT
BEGIN:VEVENT
DTSTAMP:20260420T065323Z
DTSTART;VALUE=DATE:20100109
SUMMARY:LCTES 2010 Final Version Due
DESCRIPTION:Conference on Languages\, Compilers and Tools for Embedded Sy
 stems
URL:http://www.wikicfp.com/cfp/servlet/event.showcfp?eventid=6105&copyown
 erid=5586
UID:cfp43014-N@wikicfp.com
END:VEVENT
BEGIN:VEVENT
DTSTAMP:20260420T065323Z
DTSTART;VALUE=DATE:20100519
DTEND;VALUE=DATE:20100522
SUMMARY:LREC 2010
DESCRIPTION:7th Conference on Language Resources and Evaluation
URL:http://www.wikicfp.com/cfp/servlet/event.showcfp?eventid=6085&copyown
 erid=5586
UID:cfp43017-E@wikicfp.com
END:VEVENT
BEGIN:VEVENT
DTSTAMP:20260420T065323Z
DTSTART;VALUE=DATE:20091031
SUMMARY:LREC 2010 Deadline
DESCRIPTION:7th Conference on Language Resources and Evaluation
URL:http://www.wikicfp.com/cfp/servlet/event.showcfp?eventid=6085&copyown
 erid=5586
UID:cfp43017-D@wikicfp.com
END:VEVENT
BEGIN:VEVENT
DTSTAMP:20260420T065323Z
DTSTART;VALUE=DATE:20100127
DTEND;VALUE=DATE:20100130
SUMMARY:VAMOS 2009
DESCRIPTION:Fourth International Workshop on Variability Modelling of Sof
 tware-Intensive Systems
URL:http://www.wikicfp.com/cfp/servlet/event.showcfp?eventid=6108&copyown
 erid=5586
UID:cfp43015-E@wikicfp.com
END:VEVENT
BEGIN:VEVENT
DTSTAMP:20260420T065323Z
DTSTART;VALUE=DATE:20091110
SUMMARY:VAMOS 2009 Deadline
DESCRIPTION:Fourth International Workshop on Variability Modelling of Sof
 tware-Intensive Systems
URL:http://www.wikicfp.com/cfp/servlet/event.showcfp?eventid=6108&copyown
 erid=5586
UID:cfp43015-D@wikicfp.com
END:VEVENT
BEGIN:VEVENT
DTSTAMP:20260420T065323Z
DTSTART;VALUE=DATE:20091210
SUMMARY:VAMOS 2009 Notification Due
DESCRIPTION:Fourth International Workshop on Variability Modelling of Sof
 tware-Intensive Systems
URL:http://www.wikicfp.com/cfp/servlet/event.showcfp?eventid=6108&copyown
 erid=5586
UID:cfp43015-N@wikicfp.com
END:VEVENT
BEGIN:VEVENT
DTSTAMP:20260420T065323Z
DTSTART;VALUE=DATE:20100621
DTEND;VALUE=DATE:20100626
SUMMARY:ECOOP 2010
DESCRIPTION:24th European Conference on Object-Oriented Programming
URL:http://www.wikicfp.com/cfp/servlet/event.showcfp?eventid=6061&copyown
 erid=5586
UID:cfp43019-E@wikicfp.com
END:VEVENT
BEGIN:VEVENT
DTSTAMP:20260420T065323Z
DTSTART;VALUE=DATE:20091214
SUMMARY:ECOOP 2010 Deadline
DESCRIPTION:24th European Conference on Object-Oriented Programming
URL:http://www.wikicfp.com/cfp/servlet/event.showcfp?eventid=6061&copyown
 erid=5586
UID:cfp43019-D@wikicfp.com
END:VEVENT
BEGIN:VEVENT
DTSTAMP:20260420T065323Z
DTSTART;VALUE=DATE:20100301
SUMMARY:ECOOP 2010 Notification Due
DESCRIPTION:24th European Conference on Object-Oriented Programming
URL:http://www.wikicfp.com/cfp/servlet/event.showcfp?eventid=6061&copyown
 erid=5586
UID:cfp43019-N@wikicfp.com
END:VEVENT
BEGIN:VEVENT
DTSTAMP:20260420T065323Z
DTSTART;VALUE=DATE:20100412
SUMMARY:ECOOP 2010 Final Version Due
DESCRIPTION:24th European Conference on Object-Oriented Programming
URL:http://www.wikicfp.com/cfp/servlet/event.showcfp?eventid=6061&copyown
 erid=5586
UID:cfp43019-N@wikicfp.com
END:VEVENT
BEGIN:VEVENT
DTSTAMP:20260420T065323Z
DTSTART;VALUE=DATE:20100912
DTEND;VALUE=DATE:20100919
SUMMARY:ICSM 2010
DESCRIPTION:IEEE International Conference on Software Maintenance
URL:http://www.wikicfp.com/cfp/servlet/event.showcfp?eventid=6060&copyown
 erid=5586
UID:cfp43018-E@wikicfp.com
END:VEVENT
BEGIN:VEVENT
DTSTAMP:20260420T065323Z
DTSTART;VALUE=DATE:20100412
SUMMARY:ICSM 2010 Abstract Due
DESCRIPTION:IEEE International Conference on Software Maintenance
URL:http://www.wikicfp.com/cfp/servlet/event.showcfp?eventid=6060&copyown
 erid=5586
UID:cfp43018-A@wikicfp.com
END:VEVENT
BEGIN:VEVENT
DTSTAMP:20260420T065323Z
DTSTART;VALUE=DATE:20100416
SUMMARY:ICSM 2010 Deadline
DESCRIPTION:IEEE International Conference on Software Maintenance
URL:http://www.wikicfp.com/cfp/servlet/event.showcfp?eventid=6060&copyown
 erid=5586
UID:cfp43018-D@wikicfp.com
END:VEVENT
BEGIN:VEVENT
DTSTAMP:20260420T065323Z
DTSTART;VALUE=DATE:20100715
SUMMARY:ICSM 2010 Notification Due
DESCRIPTION:IEEE International Conference on Software Maintenance
URL:http://www.wikicfp.com/cfp/servlet/event.showcfp?eventid=6060&copyown
 erid=5586
UID:cfp43018-N@wikicfp.com
END:VEVENT
END:VCALENDAR
