BEGIN:VCALENDAR
PRODID:-//WikiCFP//clasnake 1.0//EN
VERSION:2.0
CALSCALE:GREGORIAN
BEGIN:VEVENT
DTSTAMP:20260424T101330Z
DTSTART;VALUE=DATE:20150520
DTEND;VALUE=DATE:20150523
SUMMARY:MobiSys 2015
DESCRIPTION:The 13th International Conference on Mobile Systems\, Applica
 tions\, and Services 
URL:http://www.wikicfp.com/cfp/servlet/event.showcfp?eventid=40197&copyow
 nerid=55754
UID:cfp488812-E@wikicfp.com
END:VEVENT
BEGIN:VEVENT
DTSTAMP:20260424T101330Z
DTSTART;VALUE=DATE:20141128
SUMMARY:MobiSys 2015 Abstract Due
DESCRIPTION:The 13th International Conference on Mobile Systems\, Applica
 tions\, and Services 
URL:http://www.wikicfp.com/cfp/servlet/event.showcfp?eventid=40197&copyow
 nerid=55754
UID:cfp488812-A@wikicfp.com
END:VEVENT
BEGIN:VEVENT
DTSTAMP:20260424T101330Z
DTSTART;VALUE=DATE:20141205
SUMMARY:MobiSys 2015 Deadline
DESCRIPTION:The 13th International Conference on Mobile Systems\, Applica
 tions\, and Services 
URL:http://www.wikicfp.com/cfp/servlet/event.showcfp?eventid=40197&copyow
 nerid=55754
UID:cfp488812-D@wikicfp.com
END:VEVENT
BEGIN:VEVENT
DTSTAMP:20260424T101330Z
DTSTART;VALUE=DATE:20150216
SUMMARY:MobiSys 2015 Notification Due
DESCRIPTION:The 13th International Conference on Mobile Systems\, Applica
 tions\, and Services 
URL:http://www.wikicfp.com/cfp/servlet/event.showcfp?eventid=40197&copyow
 nerid=55754
UID:cfp488812-N@wikicfp.com
END:VEVENT
BEGIN:VEVENT
DTSTAMP:20260424T101330Z
DTSTART;VALUE=DATE:20150325
SUMMARY:MobiSys 2015 Final Version Due
DESCRIPTION:The 13th International Conference on Mobile Systems\, Applica
 tions\, and Services 
URL:http://www.wikicfp.com/cfp/servlet/event.showcfp?eventid=40197&copyow
 nerid=55754
UID:cfp488812-N@wikicfp.com
END:VEVENT
BEGIN:VEVENT
DTSTAMP:20260424T101330Z
DTSTART;VALUE=DATE:20150330
DTEND;VALUE=DATE:20150403
SUMMARY:MCTaaS 2015
DESCRIPTION:The First International Workshop on Mobile Cloud TaaS 
URL:http://www.wikicfp.com/cfp/servlet/event.showcfp?eventid=41715&copyow
 nerid=55754
UID:cfp488750-E@wikicfp.com
END:VEVENT
BEGIN:VEVENT
DTSTAMP:20260424T101330Z
DTSTART;VALUE=DATE:20141215
SUMMARY:MCTaaS 2015 Deadline
DESCRIPTION:The First International Workshop on Mobile Cloud TaaS 
URL:http://www.wikicfp.com/cfp/servlet/event.showcfp?eventid=41715&copyow
 nerid=55754
UID:cfp488750-D@wikicfp.com
END:VEVENT
BEGIN:VEVENT
DTSTAMP:20260424T101330Z
DTSTART;VALUE=DATE:20150115
SUMMARY:MCTaaS 2015 Notification Due
DESCRIPTION:The First International Workshop on Mobile Cloud TaaS 
URL:http://www.wikicfp.com/cfp/servlet/event.showcfp?eventid=41715&copyow
 nerid=55754
UID:cfp488750-N@wikicfp.com
END:VEVENT
BEGIN:VEVENT
DTSTAMP:20260424T101330Z
DTSTART;VALUE=DATE:20150131
SUMMARY:MCTaaS 2015 Final Version Due
DESCRIPTION:The First International Workshop on Mobile Cloud TaaS 
URL:http://www.wikicfp.com/cfp/servlet/event.showcfp?eventid=41715&copyow
 nerid=55754
UID:cfp488750-N@wikicfp.com
END:VEVENT
BEGIN:VEVENT
DTSTAMP:20260424T101330Z
DTSTART;VALUE=DATE:20150516
DTEND;VALUE=DATE:20150518
SUMMARY:MobileSoft 2015
DESCRIPTION:2nd ACM International Conference on Mobile Software Engineeri
 ng and Systems
URL:http://www.wikicfp.com/cfp/servlet/event.showcfp?eventid=40639&copyow
 nerid=55754
UID:cfp488749-E@wikicfp.com
END:VEVENT
BEGIN:VEVENT
DTSTAMP:20260424T101330Z
DTSTART;VALUE=DATE:20150112
SUMMARY:MobileSoft 2015 Abstract Due
DESCRIPTION:2nd ACM International Conference on Mobile Software Engineeri
 ng and Systems
URL:http://www.wikicfp.com/cfp/servlet/event.showcfp?eventid=40639&copyow
 nerid=55754
UID:cfp488749-A@wikicfp.com
END:VEVENT
BEGIN:VEVENT
DTSTAMP:20260424T101330Z
DTSTART;VALUE=DATE:20150116
SUMMARY:MobileSoft 2015 Deadline
DESCRIPTION:2nd ACM International Conference on Mobile Software Engineeri
 ng and Systems
URL:http://www.wikicfp.com/cfp/servlet/event.showcfp?eventid=40639&copyow
 nerid=55754
UID:cfp488749-D@wikicfp.com
END:VEVENT
BEGIN:VEVENT
DTSTAMP:20260424T101330Z
DTSTART;VALUE=DATE:20150216
SUMMARY:MobileSoft 2015 Notification Due
DESCRIPTION:2nd ACM International Conference on Mobile Software Engineeri
 ng and Systems
URL:http://www.wikicfp.com/cfp/servlet/event.showcfp?eventid=40639&copyow
 nerid=55754
UID:cfp488749-N@wikicfp.com
END:VEVENT
BEGIN:VEVENT
DTSTAMP:20260424T101330Z
DTSTART;VALUE=DATE:20150227
SUMMARY:MobileSoft 2015 Final Version Due
DESCRIPTION:2nd ACM International Conference on Mobile Software Engineeri
 ng and Systems
URL:http://www.wikicfp.com/cfp/servlet/event.showcfp?eventid=40639&copyow
 nerid=55754
UID:cfp488749-N@wikicfp.com
END:VEVENT
BEGIN:VEVENT
DTSTAMP:20260424T101330Z
DTSTART;VALUE=DATE:20150701
DTEND;VALUE=DATE:20150706
SUMMARY:COMPSAC 2015
DESCRIPTION:Computer Software and Applications Conference
URL:http://www.wikicfp.com/cfp/servlet/event.showcfp?eventid=40657&copyow
 nerid=55754
UID:cfp488747-E@wikicfp.com
END:VEVENT
BEGIN:VEVENT
DTSTAMP:20260424T101330Z
DTSTART;VALUE=DATE:20150117
SUMMARY:COMPSAC 2015 Deadline
DESCRIPTION:Computer Software and Applications Conference
URL:http://www.wikicfp.com/cfp/servlet/event.showcfp?eventid=40657&copyow
 nerid=55754
UID:cfp488747-D@wikicfp.com
END:VEVENT
BEGIN:VEVENT
DTSTAMP:20260424T101330Z
DTSTART;VALUE=DATE:20150315
SUMMARY:COMPSAC 2015 Notification Due
DESCRIPTION:Computer Software and Applications Conference
URL:http://www.wikicfp.com/cfp/servlet/event.showcfp?eventid=40657&copyow
 nerid=55754
UID:cfp488747-N@wikicfp.com
END:VEVENT
BEGIN:VEVENT
DTSTAMP:20260424T101330Z
DTSTART;VALUE=DATE:20150428
SUMMARY:COMPSAC 2015 Final Version Due
DESCRIPTION:Computer Software and Applications Conference
URL:http://www.wikicfp.com/cfp/servlet/event.showcfp?eventid=40657&copyow
 nerid=55754
UID:cfp488747-N@wikicfp.com
END:VEVENT
BEGIN:VEVENT
DTSTAMP:20260424T101330Z
DTSTART;VALUE=DATE:20150712
DTEND;VALUE=DATE:20150718
SUMMARY:ISSTA 2015
DESCRIPTION:International Symposium on Software Testing and Analysis ISST
 A 2015
URL:http://www.wikicfp.com/cfp/servlet/event.showcfp?eventid=41474&copyow
 nerid=55754
UID:cfp488748-E@wikicfp.com
END:VEVENT
BEGIN:VEVENT
DTSTAMP:20260424T101330Z
DTSTART;VALUE=DATE:20150123
SUMMARY:ISSTA 2015 Deadline
DESCRIPTION:International Symposium on Software Testing and Analysis ISST
 A 2015
URL:http://www.wikicfp.com/cfp/servlet/event.showcfp?eventid=41474&copyow
 nerid=55754
UID:cfp488748-D@wikicfp.com
END:VEVENT
BEGIN:VEVENT
DTSTAMP:20260424T101330Z
DTSTART;VALUE=DATE:20150401
SUMMARY:ISSTA 2015 Notification Due
DESCRIPTION:International Symposium on Software Testing and Analysis ISST
 A 2015
URL:http://www.wikicfp.com/cfp/servlet/event.showcfp?eventid=41474&copyow
 nerid=55754
UID:cfp488748-N@wikicfp.com
END:VEVENT
BEGIN:VEVENT
DTSTAMP:20260424T101330Z
DTSTART;VALUE=DATE:20150413
DTEND;VALUE=DATE:20150414
SUMMARY:Mutation 2015
DESCRIPTION:10th International Workshop on Mutation Analysis (Mutation 20
 15)
URL:http://www.wikicfp.com/cfp/servlet/event.showcfp?eventid=41776&copyow
 nerid=55754
UID:cfp488751-E@wikicfp.com
END:VEVENT
BEGIN:VEVENT
DTSTAMP:20260424T101330Z
DTSTART;VALUE=DATE:20150130
SUMMARY:Mutation 2015 Deadline
DESCRIPTION:10th International Workshop on Mutation Analysis (Mutation 20
 15)
URL:http://www.wikicfp.com/cfp/servlet/event.showcfp?eventid=41776&copyow
 nerid=55754
UID:cfp488751-D@wikicfp.com
END:VEVENT
BEGIN:VEVENT
DTSTAMP:20260424T101330Z
DTSTART;VALUE=DATE:20150301
SUMMARY:Mutation 2015 Notification Due
DESCRIPTION:10th International Workshop on Mutation Analysis (Mutation 20
 15)
URL:http://www.wikicfp.com/cfp/servlet/event.showcfp?eventid=41776&copyow
 nerid=55754
UID:cfp488751-N@wikicfp.com
END:VEVENT
BEGIN:VEVENT
DTSTAMP:20260424T101330Z
DTSTART;VALUE=DATE:20150331
SUMMARY:Mutation 2015 Final Version Due
DESCRIPTION:10th International Workshop on Mutation Analysis (Mutation 20
 15)
URL:http://www.wikicfp.com/cfp/servlet/event.showcfp?eventid=41776&copyow
 nerid=55754
UID:cfp488751-N@wikicfp.com
END:VEVENT
BEGIN:VEVENT
DTSTAMP:20260424T101330Z
DTSTART;VALUE=DATE:20150417
DTEND;VALUE=DATE:20150418
SUMMARY:A-MOST 2015
DESCRIPTION:The 11th Workshop on  Advances in Model Based Testing
URL:http://www.wikicfp.com/cfp/servlet/event.showcfp?eventid=41954&copyow
 nerid=55754
UID:cfp490940-E@wikicfp.com
END:VEVENT
BEGIN:VEVENT
DTSTAMP:20260424T101330Z
DTSTART;VALUE=DATE:20150130
SUMMARY:A-MOST 2015 Deadline
DESCRIPTION:The 11th Workshop on  Advances in Model Based Testing
URL:http://www.wikicfp.com/cfp/servlet/event.showcfp?eventid=41954&copyow
 nerid=55754
UID:cfp490940-D@wikicfp.com
END:VEVENT
BEGIN:VEVENT
DTSTAMP:20260424T101330Z
DTSTART;VALUE=DATE:20150301
SUMMARY:A-MOST 2015 Notification Due
DESCRIPTION:The 11th Workshop on  Advances in Model Based Testing
URL:http://www.wikicfp.com/cfp/servlet/event.showcfp?eventid=41954&copyow
 nerid=55754
UID:cfp490940-N@wikicfp.com
END:VEVENT
BEGIN:VEVENT
DTSTAMP:20260424T101330Z
DTSTART;VALUE=DATE:20150324
SUMMARY:A-MOST 2015 Final Version Due
DESCRIPTION:The 11th Workshop on  Advances in Model Based Testing
URL:http://www.wikicfp.com/cfp/servlet/event.showcfp?eventid=41954&copyow
 nerid=55754
UID:cfp490940-N@wikicfp.com
END:VEVENT
BEGIN:VEVENT
DTSTAMP:20260424T101330Z
DTSTART;VALUE=DATE:20150720
DTEND;VALUE=DATE:20150725
SUMMARY:TAP 2015
DESCRIPTION:9th International Conference on Tests & Proofs TAP 2015
URL:http://www.wikicfp.com/cfp/servlet/event.showcfp?eventid=41478&copyow
 nerid=55754
UID:cfp494375-E@wikicfp.com
END:VEVENT
BEGIN:VEVENT
DTSTAMP:20260424T101330Z
DTSTART;VALUE=DATE:20150213
SUMMARY:TAP 2015 Abstract Due
DESCRIPTION:9th International Conference on Tests & Proofs TAP 2015
URL:http://www.wikicfp.com/cfp/servlet/event.showcfp?eventid=41478&copyow
 nerid=55754
UID:cfp494375-A@wikicfp.com
END:VEVENT
BEGIN:VEVENT
DTSTAMP:20260424T101330Z
DTSTART;VALUE=DATE:20150220
SUMMARY:TAP 2015 Deadline
DESCRIPTION:9th International Conference on Tests & Proofs TAP 2015
URL:http://www.wikicfp.com/cfp/servlet/event.showcfp?eventid=41478&copyow
 nerid=55754
UID:cfp494375-D@wikicfp.com
END:VEVENT
BEGIN:VEVENT
DTSTAMP:20260424T101330Z
DTSTART;VALUE=DATE:20150413
SUMMARY:TAP 2015 Notification Due
DESCRIPTION:9th International Conference on Tests & Proofs TAP 2015
URL:http://www.wikicfp.com/cfp/servlet/event.showcfp?eventid=41478&copyow
 nerid=55754
UID:cfp494375-N@wikicfp.com
END:VEVENT
BEGIN:VEVENT
DTSTAMP:20260424T101330Z
DTSTART;VALUE=DATE:20150503
SUMMARY:TAP 2015 Final Version Due
DESCRIPTION:9th International Conference on Tests & Proofs TAP 2015
URL:http://www.wikicfp.com/cfp/servlet/event.showcfp?eventid=41478&copyow
 nerid=55754
UID:cfp494375-N@wikicfp.com
END:VEVENT
BEGIN:VEVENT
DTSTAMP:20260424T101330Z
DTSTART;VALUE=DATE:20150706
DTEND;VALUE=DATE:20150709
SUMMARY:SEKE 2015
DESCRIPTION:CFP: The 27th International Conference on Software Engineerin
 g and Knowledge Engineering (SEKE2015)
URL:http://www.wikicfp.com/cfp/servlet/event.showcfp?eventid=42221&copyow
 nerid=55754
UID:cfp494687-E@wikicfp.com
END:VEVENT
BEGIN:VEVENT
DTSTAMP:20260424T101330Z
DTSTART;VALUE=DATE:20150315
SUMMARY:SEKE 2015 Deadline
DESCRIPTION:CFP: The 27th International Conference on Software Engineerin
 g and Knowledge Engineering (SEKE2015)
URL:http://www.wikicfp.com/cfp/servlet/event.showcfp?eventid=42221&copyow
 nerid=55754
UID:cfp494687-D@wikicfp.com
END:VEVENT
BEGIN:VEVENT
DTSTAMP:20260424T101330Z
DTSTART;VALUE=DATE:20150420
SUMMARY:SEKE 2015 Notification Due
DESCRIPTION:CFP: The 27th International Conference on Software Engineerin
 g and Knowledge Engineering (SEKE2015)
URL:http://www.wikicfp.com/cfp/servlet/event.showcfp?eventid=42221&copyow
 nerid=55754
UID:cfp494687-N@wikicfp.com
END:VEVENT
BEGIN:VEVENT
DTSTAMP:20260424T101330Z
DTSTART;VALUE=DATE:20150520
SUMMARY:SEKE 2015 Final Version Due
DESCRIPTION:CFP: The 27th International Conference on Software Engineerin
 g and Knowledge Engineering (SEKE2015)
URL:http://www.wikicfp.com/cfp/servlet/event.showcfp?eventid=42221&copyow
 nerid=55754
UID:cfp494687-N@wikicfp.com
END:VEVENT
END:VCALENDAR
