BEGIN:VCALENDAR
PRODID:-//WikiCFP//duzh 1.0//EN
VERSION:2.0
CALSCALE:GREGORIAN
BEGIN:VEVENT
DTSTAMP:20260421T075553Z
DTSTART;VALUE=DATE:20090829
DTEND;VALUE=DATE:20090905
SUMMARY:Cluster 2009
DESCRIPTION:2009 IEEE International Conference on Cluster Computing
URL:http://www.wikicfp.com/cfp/servlet/event.showcfp?eventid=3867&copyown
 erid=5572
UID:cfp42921-E@wikicfp.com
END:VEVENT
BEGIN:VEVENT
DTSTAMP:20260421T075553Z
DTSTART;VALUE=DATE:20090414
SUMMARY:Cluster 2009 Deadline
DESCRIPTION:2009 IEEE International Conference on Cluster Computing
URL:http://www.wikicfp.com/cfp/servlet/event.showcfp?eventid=3867&copyown
 erid=5572
UID:cfp42921-D@wikicfp.com
END:VEVENT
BEGIN:VEVENT
DTSTAMP:20260421T075553Z
DTSTART;VALUE=DATE:20090605
SUMMARY:Cluster 2009 Notification Due
DESCRIPTION:2009 IEEE International Conference on Cluster Computing
URL:http://www.wikicfp.com/cfp/servlet/event.showcfp?eventid=3867&copyown
 erid=5572
UID:cfp42921-N@wikicfp.com
END:VEVENT
BEGIN:VEVENT
DTSTAMP:20260421T075553Z
DTSTART;VALUE=DATE:20090731
SUMMARY:Cluster 2009 Final Version Due
DESCRIPTION:2009 IEEE International Conference on Cluster Computing
URL:http://www.wikicfp.com/cfp/servlet/event.showcfp?eventid=3867&copyown
 erid=5572
UID:cfp42921-N@wikicfp.com
END:VEVENT
BEGIN:VEVENT
DTSTAMP:20260421T075553Z
DTSTART;VALUE=DATE:20100109
DTEND;VALUE=DATE:20100115
SUMMARY:PPoPP 2010
DESCRIPTION:15th ACM SIGPLAN Symposium on Principles and Practice of Para
 llel Programming
URL:http://www.wikicfp.com/cfp/servlet/event.showcfp?eventid=5431&copyown
 erid=5572
UID:cfp42919-E@wikicfp.com
END:VEVENT
BEGIN:VEVENT
DTSTAMP:20260421T075553Z
DTSTART;VALUE=DATE:20090710
SUMMARY:PPoPP 2010 Abstract Due
DESCRIPTION:15th ACM SIGPLAN Symposium on Principles and Practice of Para
 llel Programming
URL:http://www.wikicfp.com/cfp/servlet/event.showcfp?eventid=5431&copyown
 erid=5572
UID:cfp42919-A@wikicfp.com
END:VEVENT
BEGIN:VEVENT
DTSTAMP:20260421T075553Z
DTSTART;VALUE=DATE:20090717
SUMMARY:PPoPP 2010 Deadline
DESCRIPTION:15th ACM SIGPLAN Symposium on Principles and Practice of Para
 llel Programming
URL:http://www.wikicfp.com/cfp/servlet/event.showcfp?eventid=5431&copyown
 erid=5572
UID:cfp42919-D@wikicfp.com
END:VEVENT
BEGIN:VEVENT
DTSTAMP:20260421T075553Z
DTSTART;VALUE=DATE:20090918
SUMMARY:PPoPP 2010 Notification Due
DESCRIPTION:15th ACM SIGPLAN Symposium on Principles and Practice of Para
 llel Programming
URL:http://www.wikicfp.com/cfp/servlet/event.showcfp?eventid=5431&copyown
 erid=5572
UID:cfp42919-N@wikicfp.com
END:VEVENT
BEGIN:VEVENT
DTSTAMP:20260421T075553Z
DTSTART;VALUE=DATE:20100109
DTEND;VALUE=DATE:20100115
SUMMARY:HPCA 2010
DESCRIPTION:16th International Symposium on High-Performance Computer Arc
 hitecture
URL:http://www.wikicfp.com/cfp/servlet/event.showcfp?eventid=5449&copyown
 erid=5572
UID:cfp42920-E@wikicfp.com
END:VEVENT
BEGIN:VEVENT
DTSTAMP:20260421T075553Z
DTSTART;VALUE=DATE:20090724
SUMMARY:HPCA 2010 Abstract Due
DESCRIPTION:16th International Symposium on High-Performance Computer Arc
 hitecture
URL:http://www.wikicfp.com/cfp/servlet/event.showcfp?eventid=5449&copyown
 erid=5572
UID:cfp42920-A@wikicfp.com
END:VEVENT
BEGIN:VEVENT
DTSTAMP:20260421T075553Z
DTSTART;VALUE=DATE:20090731
SUMMARY:HPCA 2010 Deadline
DESCRIPTION:16th International Symposium on High-Performance Computer Arc
 hitecture
URL:http://www.wikicfp.com/cfp/servlet/event.showcfp?eventid=5449&copyown
 erid=5572
UID:cfp42920-D@wikicfp.com
END:VEVENT
BEGIN:VEVENT
DTSTAMP:20260421T075553Z
DTSTART;VALUE=DATE:20091010
SUMMARY:HPCA 2010 Notification Due
DESCRIPTION:16th International Symposium on High-Performance Computer Arc
 hitecture
URL:http://www.wikicfp.com/cfp/servlet/event.showcfp?eventid=5449&copyown
 erid=5572
UID:cfp42920-N@wikicfp.com
END:VEVENT
BEGIN:VEVENT
DTSTAMP:20260421T075553Z
DTSTART;VALUE=DATE:20100419
DTEND;VALUE=DATE:20100424
SUMMARY:IPDPS 2010
DESCRIPTION:IEEE International Parallel & Distributed Processing Symposiu
 m
URL:http://www.wikicfp.com/cfp/servlet/event.showcfp?eventid=5985&copyown
 erid=5572
UID:cfp42918-E@wikicfp.com
END:VEVENT
BEGIN:VEVENT
DTSTAMP:20260421T075553Z
DTSTART;VALUE=DATE:20090921
SUMMARY:IPDPS 2010 Abstract Due
DESCRIPTION:IEEE International Parallel & Distributed Processing Symposiu
 m
URL:http://www.wikicfp.com/cfp/servlet/event.showcfp?eventid=5985&copyown
 erid=5572
UID:cfp42918-A@wikicfp.com
END:VEVENT
BEGIN:VEVENT
DTSTAMP:20260421T075553Z
DTSTART;VALUE=DATE:20090928
SUMMARY:IPDPS 2010 Deadline
DESCRIPTION:IEEE International Parallel & Distributed Processing Symposiu
 m
URL:http://www.wikicfp.com/cfp/servlet/event.showcfp?eventid=5985&copyown
 erid=5572
UID:cfp42918-D@wikicfp.com
END:VEVENT
BEGIN:VEVENT
DTSTAMP:20260421T075553Z
DTSTART;VALUE=DATE:20091207
SUMMARY:IPDPS 2010 Notification Due
DESCRIPTION:IEEE International Parallel & Distributed Processing Symposiu
 m
URL:http://www.wikicfp.com/cfp/servlet/event.showcfp?eventid=5985&copyown
 erid=5572
UID:cfp42918-N@wikicfp.com
END:VEVENT
BEGIN:VEVENT
DTSTAMP:20260421T075553Z
DTSTART;VALUE=DATE:20100201
SUMMARY:IPDPS 2010 Final Version Due
DESCRIPTION:IEEE International Parallel & Distributed Processing Symposiu
 m
URL:http://www.wikicfp.com/cfp/servlet/event.showcfp?eventid=5985&copyown
 erid=5572
UID:cfp42918-N@wikicfp.com
END:VEVENT
END:VCALENDAR
