BEGIN:VCALENDAR
PRODID:-//WikiCFP//sajid079 1.0//EN
VERSION:2.0
CALSCALE:GREGORIAN
BEGIN:VEVENT
DTSTAMP:20260420T051251Z
DTSTART;VALUE=DATE:20211115
DTEND;VALUE=DATE:20211116
SUMMARY:ACM CCS 2021
DESCRIPTION:20th Workshop on Privacy in the Electronic Society
URL:http://www.wikicfp.com/cfp/servlet/event.showcfp?eventid=133742&copyo
 wnerid=55622
UID:cfp887585-E@wikicfp.com
END:VEVENT
BEGIN:VEVENT
DTSTAMP:20260420T051251Z
DTSTART;VALUE=DATE:20210716
SUMMARY:ACM CCS 2021 Deadline
DESCRIPTION:20th Workshop on Privacy in the Electronic Society
URL:http://www.wikicfp.com/cfp/servlet/event.showcfp?eventid=133742&copyo
 wnerid=55622
UID:cfp887585-D@wikicfp.com
END:VEVENT
BEGIN:VEVENT
DTSTAMP:20260420T051251Z
DTSTART;VALUE=DATE:20210907
SUMMARY:ACM CCS 2021 Notification Due
DESCRIPTION:20th Workshop on Privacy in the Electronic Society
URL:http://www.wikicfp.com/cfp/servlet/event.showcfp?eventid=133742&copyo
 wnerid=55622
UID:cfp887585-N@wikicfp.com
END:VEVENT
BEGIN:VEVENT
DTSTAMP:20260420T051251Z
DTSTART;VALUE=DATE:20210901
SUMMARY:ACM CCS 2021 Final Version Due
DESCRIPTION:20th Workshop on Privacy in the Electronic Society
URL:http://www.wikicfp.com/cfp/servlet/event.showcfp?eventid=133742&copyo
 wnerid=55622
UID:cfp887585-N@wikicfp.com
END:VEVENT
BEGIN:VEVENT
DTSTAMP:20260420T051251Z
DTSTART;VALUE=DATE:20211213
DTEND;VALUE=DATE:20211216
SUMMARY:PST 2021
DESCRIPTION:The 18th Annual International Conference on Privacy\, Securit
 y & Trust (PST2021)
URL:http://www.wikicfp.com/cfp/servlet/event.showcfp?eventid=133514&copyo
 wnerid=55622
UID:cfp887588-E@wikicfp.com
END:VEVENT
BEGIN:VEVENT
DTSTAMP:20260420T051251Z
DTSTART;VALUE=DATE:20210816
SUMMARY:PST 2021 Deadline
DESCRIPTION:The 18th Annual International Conference on Privacy\, Securit
 y & Trust (PST2021)
URL:http://www.wikicfp.com/cfp/servlet/event.showcfp?eventid=133514&copyo
 wnerid=55622
UID:cfp887588-D@wikicfp.com
END:VEVENT
BEGIN:VEVENT
DTSTAMP:20260420T051251Z
DTSTART;VALUE=DATE:20211011
SUMMARY:PST 2021 Notification Due
DESCRIPTION:The 18th Annual International Conference on Privacy\, Securit
 y & Trust (PST2021)
URL:http://www.wikicfp.com/cfp/servlet/event.showcfp?eventid=133514&copyo
 wnerid=55622
UID:cfp887588-N@wikicfp.com
END:VEVENT
BEGIN:VEVENT
DTSTAMP:20260420T051251Z
DTSTART;VALUE=DATE:20211025
SUMMARY:PST 2021 Final Version Due
DESCRIPTION:The 18th Annual International Conference on Privacy\, Securit
 y & Trust (PST2021)
URL:http://www.wikicfp.com/cfp/servlet/event.showcfp?eventid=133514&copyo
 wnerid=55622
UID:cfp887588-N@wikicfp.com
END:VEVENT
BEGIN:VEVENT
DTSTAMP:20260420T051251Z
DTSTART;VALUE=DATE:20220522
DTEND;VALUE=DATE:20220527
SUMMARY:S&P 2022
DESCRIPTION:IEEE Symposium on Security and Privacy (Second deadline)
URL:http://www.wikicfp.com/cfp/servlet/event.showcfp?eventid=130097&copyo
 wnerid=55622
UID:cfp889078-E@wikicfp.com
END:VEVENT
BEGIN:VEVENT
DTSTAMP:20260420T051251Z
DTSTART;VALUE=DATE:20210819
SUMMARY:S&P 2022 Deadline
DESCRIPTION:IEEE Symposium on Security and Privacy (Second deadline)
URL:http://www.wikicfp.com/cfp/servlet/event.showcfp?eventid=130097&copyo
 wnerid=55622
UID:cfp889078-D@wikicfp.com
END:VEVENT
BEGIN:VEVENT
DTSTAMP:20260420T051251Z
DTSTART;VALUE=DATE:20211105
SUMMARY:S&P 2022 Notification Due
DESCRIPTION:IEEE Symposium on Security and Privacy (Second deadline)
URL:http://www.wikicfp.com/cfp/servlet/event.showcfp?eventid=130097&copyo
 wnerid=55622
UID:cfp889078-N@wikicfp.com
END:VEVENT
BEGIN:VEVENT
DTSTAMP:20260420T051251Z
DTSTART;VALUE=DATE:20211130
SUMMARY:S&P 2022 Final Version Due
DESCRIPTION:IEEE Symposium on Security and Privacy (Second deadline)
URL:http://www.wikicfp.com/cfp/servlet/event.showcfp?eventid=130097&copyo
 wnerid=55622
UID:cfp889078-N@wikicfp.com
END:VEVENT
BEGIN:VEVENT
DTSTAMP:20260420T051251Z
DTSTART;VALUE=DATE:20211115
DTEND;VALUE=DATE:20211116
SUMMARY:A-Mobile 2021
DESCRIPTION:The 4th International Workshop on Advances in Mobile App Anal
 ysis
URL:http://www.wikicfp.com/cfp/servlet/event.showcfp?eventid=134269&copyo
 wnerid=55622
UID:cfp887584-E@wikicfp.com
END:VEVENT
BEGIN:VEVENT
DTSTAMP:20260420T051251Z
DTSTART;VALUE=DATE:20210820
SUMMARY:A-Mobile 2021 Deadline
DESCRIPTION:The 4th International Workshop on Advances in Mobile App Anal
 ysis
URL:http://www.wikicfp.com/cfp/servlet/event.showcfp?eventid=134269&copyo
 wnerid=55622
UID:cfp887584-D@wikicfp.com
END:VEVENT
BEGIN:VEVENT
DTSTAMP:20260420T051251Z
DTSTART;VALUE=DATE:20210910
SUMMARY:A-Mobile 2021 Notification Due
DESCRIPTION:The 4th International Workshop on Advances in Mobile App Anal
 ysis
URL:http://www.wikicfp.com/cfp/servlet/event.showcfp?eventid=134269&copyo
 wnerid=55622
UID:cfp887584-N@wikicfp.com
END:VEVENT
BEGIN:VEVENT
DTSTAMP:20260420T051251Z
DTSTART;VALUE=DATE:20210924
SUMMARY:A-Mobile 2021 Final Version Due
DESCRIPTION:The 4th International Workshop on Advances in Mobile App Anal
 ysis
URL:http://www.wikicfp.com/cfp/servlet/event.showcfp?eventid=134269&copyo
 wnerid=55622
UID:cfp887584-N@wikicfp.com
END:VEVENT
BEGIN:VEVENT
DTSTAMP:20260420T051251Z
DTSTART;VALUE=DATE:20220530
DTEND;VALUE=DATE:20220604
SUMMARY:ASIACCS 2022
DESCRIPTION:ACM Symposium on Information\, Computer and Communications Se
 curity
URL:http://www.wikicfp.com/cfp/servlet/event.showcfp?eventid=125907&copyo
 wnerid=55622
UID:cfp892828-E@wikicfp.com
END:VEVENT
BEGIN:VEVENT
DTSTAMP:20260420T051251Z
DTSTART;VALUE=DATE:20210830
SUMMARY:ASIACCS 2022 Deadline
DESCRIPTION:ACM Symposium on Information\, Computer and Communications Se
 curity
URL:http://www.wikicfp.com/cfp/servlet/event.showcfp?eventid=125907&copyo
 wnerid=55622
UID:cfp892828-D@wikicfp.com
END:VEVENT
BEGIN:VEVENT
DTSTAMP:20260420T051251Z
DTSTART;VALUE=DATE:20211018
SUMMARY:ASIACCS 2022 Notification Due
DESCRIPTION:ACM Symposium on Information\, Computer and Communications Se
 curity
URL:http://www.wikicfp.com/cfp/servlet/event.showcfp?eventid=125907&copyo
 wnerid=55622
UID:cfp892828-N@wikicfp.com
END:VEVENT
BEGIN:VEVENT
DTSTAMP:20260420T051251Z
DTSTART;VALUE=DATE:20211115
SUMMARY:ASIACCS 2022 Final Version Due
DESCRIPTION:ACM Symposium on Information\, Computer and Communications Se
 curity
URL:http://www.wikicfp.com/cfp/servlet/event.showcfp?eventid=125907&copyo
 wnerid=55622
UID:cfp892828-N@wikicfp.com
END:VEVENT
BEGIN:VEVENT
DTSTAMP:20260420T051251Z
DTSTART;VALUE=DATE:20211110
DTEND;VALUE=DATE:20211113
SUMMARY:SIN 2021
DESCRIPTION:Security of Information and Networks
URL:http://www.wikicfp.com/cfp/servlet/event.showcfp?eventid=139966&copyo
 wnerid=55622
UID:cfp896541-E@wikicfp.com
END:VEVENT
BEGIN:VEVENT
DTSTAMP:20260420T051251Z
DTSTART;VALUE=DATE:20210902
SUMMARY:SIN 2021 Deadline
DESCRIPTION:Security of Information and Networks
URL:http://www.wikicfp.com/cfp/servlet/event.showcfp?eventid=139966&copyo
 wnerid=55622
UID:cfp896541-D@wikicfp.com
END:VEVENT
BEGIN:VEVENT
DTSTAMP:20260420T051251Z
DTSTART;VALUE=DATE:20211006
SUMMARY:SIN 2021 Notification Due
DESCRIPTION:Security of Information and Networks
URL:http://www.wikicfp.com/cfp/servlet/event.showcfp?eventid=139966&copyo
 wnerid=55622
UID:cfp896541-N@wikicfp.com
END:VEVENT
BEGIN:VEVENT
DTSTAMP:20260420T051251Z
DTSTART;VALUE=DATE:20211027
SUMMARY:SIN 2021 Final Version Due
DESCRIPTION:Security of Information and Networks
URL:http://www.wikicfp.com/cfp/servlet/event.showcfp?eventid=139966&copyo
 wnerid=55622
UID:cfp896541-N@wikicfp.com
END:VEVENT
BEGIN:VEVENT
DTSTAMP:20260420T051251Z
DTSTART;VALUE=DATE:20211216
DTEND;VALUE=DATE:20211220
SUMMARY:ICON 2021
DESCRIPTION:18th International Conference  on Natural Language Processing
 
URL:http://www.wikicfp.com/cfp/servlet/event.showcfp?eventid=140837&copyo
 wnerid=55622
UID:cfp906096-E@wikicfp.com
END:VEVENT
BEGIN:VEVENT
DTSTAMP:20260420T051251Z
DTSTART;VALUE=DATE:20211015
SUMMARY:ICON 2021 Deadline
DESCRIPTION:18th International Conference  on Natural Language Processing
 
URL:http://www.wikicfp.com/cfp/servlet/event.showcfp?eventid=140837&copyo
 wnerid=55622
UID:cfp906096-D@wikicfp.com
END:VEVENT
BEGIN:VEVENT
DTSTAMP:20260420T051251Z
DTSTART;VALUE=DATE:20211115
SUMMARY:ICON 2021 Notification Due
DESCRIPTION:18th International Conference  on Natural Language Processing
 
URL:http://www.wikicfp.com/cfp/servlet/event.showcfp?eventid=140837&copyo
 wnerid=55622
UID:cfp906096-N@wikicfp.com
END:VEVENT
BEGIN:VEVENT
DTSTAMP:20260420T051251Z
DTSTART;VALUE=DATE:20220325
DTEND;VALUE=DATE:20220328
SUMMARY:ACL 2022
DESCRIPTION:The 3rd Asian Conference on Language 
URL:http://www.wikicfp.com/cfp/servlet/event.showcfp?eventid=140583&copyo
 wnerid=55622
UID:cfp906094-E@wikicfp.com
END:VEVENT
BEGIN:VEVENT
DTSTAMP:20260420T051251Z
DTSTART;VALUE=DATE:20211029
SUMMARY:ACL 2022 Deadline
DESCRIPTION:The 3rd Asian Conference on Language 
URL:http://www.wikicfp.com/cfp/servlet/event.showcfp?eventid=140583&copyo
 wnerid=55622
UID:cfp906094-D@wikicfp.com
END:VEVENT
BEGIN:VEVENT
DTSTAMP:20260420T051251Z
DTSTART;VALUE=DATE:20211015
SUMMARY:ACL 2022 Notification Due
DESCRIPTION:The 3rd Asian Conference on Language 
URL:http://www.wikicfp.com/cfp/servlet/event.showcfp?eventid=140583&copyo
 wnerid=55622
UID:cfp906094-N@wikicfp.com
END:VEVENT
BEGIN:VEVENT
DTSTAMP:20260420T051251Z
DTSTART;VALUE=DATE:20220111
SUMMARY:ACL 2022 Final Version Due
DESCRIPTION:The 3rd Asian Conference on Language 
URL:http://www.wikicfp.com/cfp/servlet/event.showcfp?eventid=140583&copyo
 wnerid=55622
UID:cfp906094-N@wikicfp.com
END:VEVENT
BEGIN:VEVENT
DTSTAMP:20260420T051251Z
DTSTART;VALUE=DATE:20211217
DTEND;VALUE=DATE:20211221
SUMMARY:ACM--NLPIR--Ei Compendex and Scopus 2021
DESCRIPTION:ACM--2021 5th International Conference on Natural Language Pr
 ocessing and Information Retrieval (NLPIR 2021)--Ei Compendex\, Scopus
URL:http://www.wikicfp.com/cfp/servlet/event.showcfp?eventid=129501&copyo
 wnerid=55622
UID:cfp889077-E@wikicfp.com
END:VEVENT
BEGIN:VEVENT
DTSTAMP:20260420T051251Z
DTSTART;VALUE=DATE:20211105
SUMMARY:ACM--NLPIR--Ei Compendex and Scopus 2021 Deadline
DESCRIPTION:ACM--2021 5th International Conference on Natural Language Pr
 ocessing and Information Retrieval (NLPIR 2021)--Ei Compendex\, Scopus
URL:http://www.wikicfp.com/cfp/servlet/event.showcfp?eventid=129501&copyo
 wnerid=55622
UID:cfp889077-D@wikicfp.com
END:VEVENT
BEGIN:VEVENT
DTSTAMP:20260420T051251Z
DTSTART;VALUE=DATE:20220209
DTEND;VALUE=DATE:20220212
SUMMARY:ICISSP 2022
DESCRIPTION:8th International Conference on Information Systems Security 
 and Privacy
URL:http://www.wikicfp.com/cfp/servlet/event.showcfp?eventid=132555&copyo
 wnerid=55622
UID:cfp892829-E@wikicfp.com
END:VEVENT
BEGIN:VEVENT
DTSTAMP:20260420T051251Z
DTSTART;VALUE=DATE:20211108
SUMMARY:ICISSP 2022 Deadline
DESCRIPTION:8th International Conference on Information Systems Security 
 and Privacy
URL:http://www.wikicfp.com/cfp/servlet/event.showcfp?eventid=132555&copyo
 wnerid=55622
UID:cfp892829-D@wikicfp.com
END:VEVENT
BEGIN:VEVENT
DTSTAMP:20260420T051251Z
DTSTART;VALUE=DATE:20211115
SUMMARY:ICISSP 2022 Notification Due
DESCRIPTION:8th International Conference on Information Systems Security 
 and Privacy
URL:http://www.wikicfp.com/cfp/servlet/event.showcfp?eventid=132555&copyo
 wnerid=55622
UID:cfp892829-N@wikicfp.com
END:VEVENT
BEGIN:VEVENT
DTSTAMP:20260420T051251Z
DTSTART;VALUE=DATE:20211129
SUMMARY:ICISSP 2022 Final Version Due
DESCRIPTION:8th International Conference on Information Systems Security 
 and Privacy
URL:http://www.wikicfp.com/cfp/servlet/event.showcfp?eventid=132555&copyo
 wnerid=55622
UID:cfp892829-N@wikicfp.com
END:VEVENT
BEGIN:VEVENT
DTSTAMP:20260420T051251Z
DTSTART;VALUE=DATE:20220522
DTEND;VALUE=DATE:20220528
SUMMARY:ACL 2022
DESCRIPTION:60th Annual Meeting of the Association for Computational Ling
 uistics
URL:http://www.wikicfp.com/cfp/servlet/event.showcfp?eventid=146740&copyo
 wnerid=55622
UID:cfp906095-E@wikicfp.com
END:VEVENT
BEGIN:VEVENT
DTSTAMP:20260420T051251Z
DTSTART;VALUE=DATE:20211115
SUMMARY:ACL 2022 Deadline
DESCRIPTION:60th Annual Meeting of the Association for Computational Ling
 uistics
URL:http://www.wikicfp.com/cfp/servlet/event.showcfp?eventid=146740&copyo
 wnerid=55622
UID:cfp906095-D@wikicfp.com
END:VEVENT
BEGIN:VEVENT
DTSTAMP:20260420T051251Z
DTSTART;VALUE=DATE:20220114
DTEND;VALUE=DATE:20220117
SUMMARY:IEEE CSP--EI\, Scopus 2022
DESCRIPTION:2022 IEEE 6th International Conference on Cryptography\, Secu
 rity and Privacy (CSP 2022)--EI Compendex\, Scopus
URL:http://www.wikicfp.com/cfp/servlet/event.showcfp?eventid=134403&copyo
 wnerid=55622
UID:cfp892593-E@wikicfp.com
END:VEVENT
BEGIN:VEVENT
DTSTAMP:20260420T051251Z
DTSTART;VALUE=DATE:20211125
SUMMARY:IEEE CSP--EI\, Scopus 2022 Deadline
DESCRIPTION:2022 IEEE 6th International Conference on Cryptography\, Secu
 rity and Privacy (CSP 2022)--EI Compendex\, Scopus
URL:http://www.wikicfp.com/cfp/servlet/event.showcfp?eventid=134403&copyo
 wnerid=55622
UID:cfp892593-D@wikicfp.com
END:VEVENT
BEGIN:VEVENT
DTSTAMP:20260420T051251Z
DTSTART;VALUE=DATE:20220101
DTEND;VALUE=DATE:20220102
SUMMARY:ICWSM 2022
DESCRIPTION:International Conference on Web and Social Media (3rd deadlin
 e)
URL:http://www.wikicfp.com/cfp/servlet/event.showcfp?eventid=129340&copyo
 wnerid=55622
UID:cfp901023-E@wikicfp.com
END:VEVENT
BEGIN:VEVENT
DTSTAMP:20260420T051251Z
DTSTART;VALUE=DATE:20220115
SUMMARY:ICWSM 2022 Deadline
DESCRIPTION:International Conference on Web and Social Media (3rd deadlin
 e)
URL:http://www.wikicfp.com/cfp/servlet/event.showcfp?eventid=129340&copyo
 wnerid=55622
UID:cfp901023-D@wikicfp.com
END:VEVENT
BEGIN:VEVENT
DTSTAMP:20260420T051251Z
DTSTART;VALUE=DATE:20220315
SUMMARY:ICWSM 2022 Notification Due
DESCRIPTION:International Conference on Web and Social Media (3rd deadlin
 e)
URL:http://www.wikicfp.com/cfp/servlet/event.showcfp?eventid=129340&copyo
 wnerid=55622
UID:cfp901023-N@wikicfp.com
END:VEVENT
BEGIN:VEVENT
DTSTAMP:20260420T051251Z
DTSTART;VALUE=DATE:20221130
DTEND;VALUE=DATE:20221204
SUMMARY:ICDM 2022
DESCRIPTION:22nd IEEE International Conference on Data Mining 
URL:http://www.wikicfp.com/cfp/servlet/event.showcfp?eventid=155490&copyo
 wnerid=55622
UID:cfp924376-E@wikicfp.com
END:VEVENT
BEGIN:VEVENT
DTSTAMP:20260420T051251Z
DTSTART;VALUE=DATE:20220610
SUMMARY:ICDM 2022 Deadline
DESCRIPTION:22nd IEEE International Conference on Data Mining 
URL:http://www.wikicfp.com/cfp/servlet/event.showcfp?eventid=155490&copyo
 wnerid=55622
UID:cfp924376-D@wikicfp.com
END:VEVENT
BEGIN:VEVENT
DTSTAMP:20260420T051251Z
DTSTART;VALUE=DATE:20220831
SUMMARY:ICDM 2022 Notification Due
DESCRIPTION:22nd IEEE International Conference on Data Mining 
URL:http://www.wikicfp.com/cfp/servlet/event.showcfp?eventid=155490&copyo
 wnerid=55622
UID:cfp924376-N@wikicfp.com
END:VEVENT
BEGIN:VEVENT
DTSTAMP:20260420T051251Z
DTSTART;VALUE=DATE:20221001
SUMMARY:ICDM 2022 Final Version Due
DESCRIPTION:22nd IEEE International Conference on Data Mining 
URL:http://www.wikicfp.com/cfp/servlet/event.showcfp?eventid=155490&copyo
 wnerid=55622
UID:cfp924376-N@wikicfp.com
END:VEVENT
BEGIN:VEVENT
DTSTAMP:20260420T051251Z
DTSTART;VALUE=DATE:20221017
DTEND;VALUE=DATE:20221020
SUMMARY:EAI SecureComm 2022
DESCRIPTION:18th EAI International Conference on Security and Privacy in 
 Communication Networks
URL:http://www.wikicfp.com/cfp/servlet/event.showcfp?eventid=151203&copyo
 wnerid=55622
UID:cfp936787-E@wikicfp.com
END:VEVENT
BEGIN:VEVENT
DTSTAMP:20260420T051251Z
DTSTART;VALUE=DATE:20220626
SUMMARY:EAI SecureComm 2022 Deadline
DESCRIPTION:18th EAI International Conference on Security and Privacy in 
 Communication Networks
URL:http://www.wikicfp.com/cfp/servlet/event.showcfp?eventid=151203&copyo
 wnerid=55622
UID:cfp936787-D@wikicfp.com
END:VEVENT
BEGIN:VEVENT
DTSTAMP:20260420T051251Z
DTSTART;VALUE=DATE:20220801
SUMMARY:EAI SecureComm 2022 Notification Due
DESCRIPTION:18th EAI International Conference on Security and Privacy in 
 Communication Networks
URL:http://www.wikicfp.com/cfp/servlet/event.showcfp?eventid=151203&copyo
 wnerid=55622
UID:cfp936787-N@wikicfp.com
END:VEVENT
BEGIN:VEVENT
DTSTAMP:20260420T051251Z
DTSTART;VALUE=DATE:20220807
SUMMARY:EAI SecureComm 2022 Final Version Due
DESCRIPTION:18th EAI International Conference on Security and Privacy in 
 Communication Networks
URL:http://www.wikicfp.com/cfp/servlet/event.showcfp?eventid=151203&copyo
 wnerid=55622
UID:cfp936787-N@wikicfp.com
END:VEVENT
BEGIN:VEVENT
DTSTAMP:20260420T051251Z
DTSTART;VALUE=DATE:20221028
DTEND;VALUE=DATE:20221031
SUMMARY:TrustCom  2022
DESCRIPTION:The 21st IEEE International Conference on Trust\, Security an
 d Privacy in Computing and Communications
URL:http://www.wikicfp.com/cfp/servlet/event.showcfp?eventid=158792&copyo
 wnerid=55622
UID:cfp936784-E@wikicfp.com
END:VEVENT
BEGIN:VEVENT
DTSTAMP:20260420T051251Z
DTSTART;VALUE=DATE:20220922
SUMMARY:TrustCom  2022 Abstract Due
DESCRIPTION:The 21st IEEE International Conference on Trust\, Security an
 d Privacy in Computing and Communications
URL:http://www.wikicfp.com/cfp/servlet/event.showcfp?eventid=158792&copyo
 wnerid=55622
UID:cfp936784-A@wikicfp.com
END:VEVENT
BEGIN:VEVENT
DTSTAMP:20260420T051251Z
DTSTART;VALUE=DATE:20220701
SUMMARY:TrustCom  2022 Deadline
DESCRIPTION:The 21st IEEE International Conference on Trust\, Security an
 d Privacy in Computing and Communications
URL:http://www.wikicfp.com/cfp/servlet/event.showcfp?eventid=158792&copyo
 wnerid=55622
UID:cfp936784-D@wikicfp.com
END:VEVENT
BEGIN:VEVENT
DTSTAMP:20260420T051251Z
DTSTART;VALUE=DATE:20220815
SUMMARY:TrustCom  2022 Notification Due
DESCRIPTION:The 21st IEEE International Conference on Trust\, Security an
 d Privacy in Computing and Communications
URL:http://www.wikicfp.com/cfp/servlet/event.showcfp?eventid=158792&copyo
 wnerid=55622
UID:cfp936784-N@wikicfp.com
END:VEVENT
BEGIN:VEVENT
DTSTAMP:20260420T051251Z
DTSTART;VALUE=DATE:20220915
SUMMARY:TrustCom  2022 Final Version Due
DESCRIPTION:The 21st IEEE International Conference on Trust\, Security an
 d Privacy in Computing and Communications
URL:http://www.wikicfp.com/cfp/servlet/event.showcfp?eventid=158792&copyo
 wnerid=55622
UID:cfp936784-N@wikicfp.com
END:VEVENT
BEGIN:VEVENT
DTSTAMP:20260420T051251Z
DTSTART;VALUE=DATE:20221028
DTEND;VALUE=DATE:20221031
SUMMARY:CAI 2022
DESCRIPTION:The 14th International Workshop on Cyberspace Security and Ar
 tificial Intelligence
URL:http://www.wikicfp.com/cfp/servlet/event.showcfp?eventid=161079&copyo
 wnerid=55622
UID:cfp936783-E@wikicfp.com
END:VEVENT
BEGIN:VEVENT
DTSTAMP:20260420T051251Z
DTSTART;VALUE=DATE:20220701
SUMMARY:CAI 2022 Deadline
DESCRIPTION:The 14th International Workshop on Cyberspace Security and Ar
 tificial Intelligence
URL:http://www.wikicfp.com/cfp/servlet/event.showcfp?eventid=161079&copyo
 wnerid=55622
UID:cfp936783-D@wikicfp.com
END:VEVENT
BEGIN:VEVENT
DTSTAMP:20260420T051251Z
DTSTART;VALUE=DATE:20220815
SUMMARY:CAI 2022 Notification Due
DESCRIPTION:The 14th International Workshop on Cyberspace Security and Ar
 tificial Intelligence
URL:http://www.wikicfp.com/cfp/servlet/event.showcfp?eventid=161079&copyo
 wnerid=55622
UID:cfp936783-N@wikicfp.com
END:VEVENT
BEGIN:VEVENT
DTSTAMP:20260420T051251Z
DTSTART;VALUE=DATE:20220915
SUMMARY:CAI 2022 Final Version Due
DESCRIPTION:The 14th International Workshop on Cyberspace Security and Ar
 tificial Intelligence
URL:http://www.wikicfp.com/cfp/servlet/event.showcfp?eventid=161079&copyo
 wnerid=55622
UID:cfp936783-N@wikicfp.com
END:VEVENT
BEGIN:VEVENT
DTSTAMP:20260420T051251Z
DTSTART;VALUE=DATE:20221212
DTEND;VALUE=DATE:20221216
SUMMARY:ICMLA 2022
DESCRIPTION:IEEE International conference on Machine Learning and Applica
 tions
URL:http://www.wikicfp.com/cfp/servlet/event.showcfp?eventid=156329&copyo
 wnerid=55622
UID:cfp933005-E@wikicfp.com
END:VEVENT
BEGIN:VEVENT
DTSTAMP:20260420T051251Z
DTSTART;VALUE=DATE:20220708
SUMMARY:ICMLA 2022 Deadline
DESCRIPTION:IEEE International conference on Machine Learning and Applica
 tions
URL:http://www.wikicfp.com/cfp/servlet/event.showcfp?eventid=156329&copyo
 wnerid=55622
UID:cfp933005-D@wikicfp.com
END:VEVENT
BEGIN:VEVENT
DTSTAMP:20260420T051251Z
DTSTART;VALUE=DATE:20220826
SUMMARY:ICMLA 2022 Notification Due
DESCRIPTION:IEEE International conference on Machine Learning and Applica
 tions
URL:http://www.wikicfp.com/cfp/servlet/event.showcfp?eventid=156329&copyo
 wnerid=55622
UID:cfp933005-N@wikicfp.com
END:VEVENT
BEGIN:VEVENT
DTSTAMP:20260420T051251Z
DTSTART;VALUE=DATE:20221014
SUMMARY:ICMLA 2022 Final Version Due
DESCRIPTION:IEEE International conference on Machine Learning and Applica
 tions
URL:http://www.wikicfp.com/cfp/servlet/event.showcfp?eventid=156329&copyo
 wnerid=55622
UID:cfp933005-N@wikicfp.com
END:VEVENT
BEGIN:VEVENT
DTSTAMP:20260420T051251Z
DTSTART;VALUE=DATE:20220730
DTEND;VALUE=DATE:20220801
SUMMARY:PDCTA 2022
DESCRIPTION:11th International Conference on Parallel\, Distributed Compu
 ting Technologies and Applications
URL:http://www.wikicfp.com/cfp/servlet/event.showcfp?eventid=103868&copyo
 wnerid=55622
UID:cfp895097-E@wikicfp.com
END:VEVENT
BEGIN:VEVENT
DTSTAMP:20260420T051251Z
DTSTART;VALUE=DATE:20220709
SUMMARY:PDCTA 2022 Deadline
DESCRIPTION:11th International Conference on Parallel\, Distributed Compu
 ting Technologies and Applications
URL:http://www.wikicfp.com/cfp/servlet/event.showcfp?eventid=103868&copyo
 wnerid=55622
UID:cfp895097-D@wikicfp.com
END:VEVENT
BEGIN:VEVENT
DTSTAMP:20260420T051251Z
DTSTART;VALUE=DATE:20220722
SUMMARY:PDCTA 2022 Notification Due
DESCRIPTION:11th International Conference on Parallel\, Distributed Compu
 ting Technologies and Applications
URL:http://www.wikicfp.com/cfp/servlet/event.showcfp?eventid=103868&copyo
 wnerid=55622
UID:cfp895097-N@wikicfp.com
END:VEVENT
BEGIN:VEVENT
DTSTAMP:20260420T051251Z
DTSTART;VALUE=DATE:20220724
SUMMARY:PDCTA 2022 Final Version Due
DESCRIPTION:11th International Conference on Parallel\, Distributed Compu
 ting Technologies and Applications
URL:http://www.wikicfp.com/cfp/servlet/event.showcfp?eventid=103868&copyo
 wnerid=55622
UID:cfp895097-N@wikicfp.com
END:VEVENT
BEGIN:VEVENT
DTSTAMP:20260420T051251Z
DTSTART;VALUE=DATE:20221130
DTEND;VALUE=DATE:20221203
SUMMARY:NordSec 2022
DESCRIPTION:The 27th Nordic Conference on Secure IT Systems
URL:http://www.wikicfp.com/cfp/servlet/event.showcfp?eventid=157177&copyo
 wnerid=55622
UID:cfp936786-E@wikicfp.com
END:VEVENT
BEGIN:VEVENT
DTSTAMP:20260420T051251Z
DTSTART;VALUE=DATE:20220822
SUMMARY:NordSec 2022 Deadline
DESCRIPTION:The 27th Nordic Conference on Secure IT Systems
URL:http://www.wikicfp.com/cfp/servlet/event.showcfp?eventid=157177&copyo
 wnerid=55622
UID:cfp936786-D@wikicfp.com
END:VEVENT
BEGIN:VEVENT
DTSTAMP:20260420T051251Z
DTSTART;VALUE=DATE:20221003
SUMMARY:NordSec 2022 Notification Due
DESCRIPTION:The 27th Nordic Conference on Secure IT Systems
URL:http://www.wikicfp.com/cfp/servlet/event.showcfp?eventid=157177&copyo
 wnerid=55622
UID:cfp936786-N@wikicfp.com
END:VEVENT
BEGIN:VEVENT
DTSTAMP:20260420T051251Z
DTSTART;VALUE=DATE:20221017
SUMMARY:NordSec 2022 Final Version Due
DESCRIPTION:The 27th Nordic Conference on Secure IT Systems
URL:http://www.wikicfp.com/cfp/servlet/event.showcfp?eventid=157177&copyo
 wnerid=55622
UID:cfp936786-N@wikicfp.com
END:VEVENT
BEGIN:VEVENT
DTSTAMP:20260420T051251Z
DTSTART;VALUE=DATE:20221216
DTEND;VALUE=DATE:20221219
SUMMARY:IEEE PriComp 2022
DESCRIPTION:The 2022 IEEE International Conference on Privacy Computing
URL:http://www.wikicfp.com/cfp/servlet/event.showcfp?eventid=163221&copyo
 wnerid=55622
UID:cfp936788-E@wikicfp.com
END:VEVENT
BEGIN:VEVENT
DTSTAMP:20260420T051251Z
DTSTART;VALUE=DATE:20220901
SUMMARY:IEEE PriComp 2022 Deadline
DESCRIPTION:The 2022 IEEE International Conference on Privacy Computing
URL:http://www.wikicfp.com/cfp/servlet/event.showcfp?eventid=163221&copyo
 wnerid=55622
UID:cfp936788-D@wikicfp.com
END:VEVENT
BEGIN:VEVENT
DTSTAMP:20260420T051251Z
DTSTART;VALUE=DATE:20221001
SUMMARY:IEEE PriComp 2022 Notification Due
DESCRIPTION:The 2022 IEEE International Conference on Privacy Computing
URL:http://www.wikicfp.com/cfp/servlet/event.showcfp?eventid=163221&copyo
 wnerid=55622
UID:cfp936788-N@wikicfp.com
END:VEVENT
BEGIN:VEVENT
DTSTAMP:20260420T051251Z
DTSTART;VALUE=DATE:20221031
SUMMARY:IEEE PriComp 2022 Final Version Due
DESCRIPTION:The 2022 IEEE International Conference on Privacy Computing
URL:http://www.wikicfp.com/cfp/servlet/event.showcfp?eventid=163221&copyo
 wnerid=55622
UID:cfp936788-N@wikicfp.com
END:VEVENT
BEGIN:VEVENT
DTSTAMP:20260420T051251Z
DTSTART;VALUE=DATE:20221125
SUMMARY:Electronics SI 2022 Deadline
DESCRIPTION: Electronics: Special Issue on Cybersecurity and Privacy Issu
 es in Cyber-Physical Systems and Industrial Control Systems
URL:http://www.wikicfp.com/cfp/servlet/event.showcfp?eventid=155829&copyo
 wnerid=55622
UID:cfp936785-D@wikicfp.com
END:VEVENT
END:VCALENDAR
