BEGIN:VCALENDAR
PRODID:-//WikiCFP//ssn 1.0//EN
VERSION:2.0
CALSCALE:GREGORIAN
BEGIN:VEVENT
DTSTAMP:20260419T132514Z
DTSTART;VALUE=DATE:20080426
DTEND;VALUE=DATE:20080427
SUMMARY:TMW 2008
DESCRIPTION:Text Mining Workshop
URL:http://www.wikicfp.com/cfp/servlet/event.showcfp?eventid=1920&copyown
 erid=546
UID:cfp5311-E@wikicfp.com
END:VEVENT
BEGIN:VEVENT
DTSTAMP:20260419T132514Z
DTSTART;VALUE=DATE:20080111
SUMMARY:TMW 2008 Deadline
DESCRIPTION:Text Mining Workshop
URL:http://www.wikicfp.com/cfp/servlet/event.showcfp?eventid=1920&copyown
 erid=546
UID:cfp5311-D@wikicfp.com
END:VEVENT
BEGIN:VEVENT
DTSTAMP:20260419T132514Z
DTSTART;VALUE=DATE:20080330
DTEND;VALUE=DATE:20080331
SUMMARY:EIIR 2008
DESCRIPTION:ECIR 2008 workshop on Efficiency Issues in Information Retrie
 val
URL:http://www.wikicfp.com/cfp/servlet/event.showcfp?eventid=2086&copyown
 erid=546
UID:cfp5315-E@wikicfp.com
END:VEVENT
BEGIN:VEVENT
DTSTAMP:20260419T132514Z
DTSTART;VALUE=DATE:20080125
SUMMARY:EIIR 2008 Deadline
DESCRIPTION:ECIR 2008 workshop on Efficiency Issues in Information Retrie
 val
URL:http://www.wikicfp.com/cfp/servlet/event.showcfp?eventid=2086&copyown
 erid=546
UID:cfp5315-D@wikicfp.com
END:VEVENT
BEGIN:VEVENT
DTSTAMP:20260419T132514Z
DTSTART;VALUE=DATE:20080225
SUMMARY:EIIR 2008 Notification Due
DESCRIPTION:ECIR 2008 workshop on Efficiency Issues in Information Retrie
 val
URL:http://www.wikicfp.com/cfp/servlet/event.showcfp?eventid=2086&copyown
 erid=546
UID:cfp5315-N@wikicfp.com
END:VEVENT
BEGIN:VEVENT
DTSTAMP:20260419T132514Z
DTSTART;VALUE=DATE:20080720
DTEND;VALUE=DATE:20080725
SUMMARY:SIGIR 2008
DESCRIPTION:The 31st Annual International ACM SIGIR Conference
URL:http://www.wikicfp.com/cfp/servlet/event.showcfp?eventid=1125&copyown
 erid=546
UID:cfp5296-E@wikicfp.com
END:VEVENT
BEGIN:VEVENT
DTSTAMP:20260419T132514Z
DTSTART;VALUE=DATE:20080121
SUMMARY:SIGIR 2008 Abstract Due
DESCRIPTION:The 31st Annual International ACM SIGIR Conference
URL:http://www.wikicfp.com/cfp/servlet/event.showcfp?eventid=1125&copyown
 erid=546
UID:cfp5296-A@wikicfp.com
END:VEVENT
BEGIN:VEVENT
DTSTAMP:20260419T132514Z
DTSTART;VALUE=DATE:20080128
SUMMARY:SIGIR 2008 Deadline
DESCRIPTION:The 31st Annual International ACM SIGIR Conference
URL:http://www.wikicfp.com/cfp/servlet/event.showcfp?eventid=1125&copyown
 erid=546
UID:cfp5296-D@wikicfp.com
END:VEVENT
BEGIN:VEVENT
DTSTAMP:20260419T132514Z
DTSTART;VALUE=DATE:20080406
SUMMARY:SIGIR 2008 Notification Due
DESCRIPTION:The 31st Annual International ACM SIGIR Conference
URL:http://www.wikicfp.com/cfp/servlet/event.showcfp?eventid=1125&copyown
 erid=546
UID:cfp5296-N@wikicfp.com
END:VEVENT
BEGIN:VEVENT
DTSTAMP:20260419T132514Z
DTSTART;VALUE=DATE:20080505
DTEND;VALUE=DATE:20080508
SUMMARY:SAW 2008
DESCRIPTION:2nd Workshop on Social Aspects of the Web
URL:http://www.wikicfp.com/cfp/servlet/event.showcfp?eventid=2008&copyown
 erid=546
UID:cfp5312-E@wikicfp.com
END:VEVENT
BEGIN:VEVENT
DTSTAMP:20260419T132514Z
DTSTART;VALUE=DATE:20080203
SUMMARY:SAW 2008 Deadline
DESCRIPTION:2nd Workshop on Social Aspects of the Web
URL:http://www.wikicfp.com/cfp/servlet/event.showcfp?eventid=2008&copyown
 erid=546
UID:cfp5312-D@wikicfp.com
END:VEVENT
BEGIN:VEVENT
DTSTAMP:20260419T132514Z
DTSTART;VALUE=DATE:20080212
SUMMARY:SAW 2008 Notification Due
DESCRIPTION:2nd Workshop on Social Aspects of the Web
URL:http://www.wikicfp.com/cfp/servlet/event.showcfp?eventid=2008&copyown
 erid=546
UID:cfp5312-N@wikicfp.com
END:VEVENT
BEGIN:VEVENT
DTSTAMP:20260419T132514Z
DTSTART;VALUE=DATE:20080330
DTEND;VALUE=DATE:20080404
SUMMARY:NMEIR 2008
DESCRIPTION:ECIR 2008 Workshop on novel methodologies for evaluation in i
 nformation retrieval
URL:http://www.wikicfp.com/cfp/servlet/event.showcfp?eventid=2085&copyown
 erid=546
UID:cfp5314-E@wikicfp.com
END:VEVENT
BEGIN:VEVENT
DTSTAMP:20260419T132514Z
DTSTART;VALUE=DATE:20080204
SUMMARY:NMEIR 2008 Deadline
DESCRIPTION:ECIR 2008 Workshop on novel methodologies for evaluation in i
 nformation retrieval
URL:http://www.wikicfp.com/cfp/servlet/event.showcfp?eventid=2085&copyown
 erid=546
UID:cfp5314-D@wikicfp.com
END:VEVENT
BEGIN:VEVENT
DTSTAMP:20260419T132514Z
DTSTART;VALUE=DATE:20080220
SUMMARY:NMEIR 2008 Notification Due
DESCRIPTION:ECIR 2008 Workshop on novel methodologies for evaluation in i
 nformation retrieval
URL:http://www.wikicfp.com/cfp/servlet/event.showcfp?eventid=2085&copyown
 erid=546
UID:cfp5314-N@wikicfp.com
END:VEVENT
BEGIN:VEVENT
DTSTAMP:20260419T132514Z
DTSTART;VALUE=DATE:20080618
DTEND;VALUE=DATE:20080621
SUMMARY:CBMI 2008
DESCRIPTION:Sixth International Workshop on Context-based Multimedia Inde
 xing
URL:http://www.wikicfp.com/cfp/servlet/event.showcfp?eventid=1722&copyown
 erid=546
UID:cfp5310-E@wikicfp.com
END:VEVENT
BEGIN:VEVENT
DTSTAMP:20260419T132514Z
DTSTART;VALUE=DATE:20080205
SUMMARY:CBMI 2008 Deadline
DESCRIPTION:Sixth International Workshop on Context-based Multimedia Inde
 xing
URL:http://www.wikicfp.com/cfp/servlet/event.showcfp?eventid=1722&copyown
 erid=546
UID:cfp5310-D@wikicfp.com
END:VEVENT
BEGIN:VEVENT
DTSTAMP:20260419T132514Z
DTSTART;VALUE=DATE:20080305
SUMMARY:NLPW 2008 Deadline
DESCRIPTION:IEEE Computer: Natural Language Processing and the Web
URL:http://www.wikicfp.com/cfp/servlet/event.showcfp?eventid=2089&copyown
 erid=546
UID:cfp5295-D@wikicfp.com
END:VEVENT
BEGIN:VEVENT
DTSTAMP:20260419T132514Z
DTSTART;VALUE=DATE:20080606
SUMMARY:NLPW 2008 Notification Due
DESCRIPTION:IEEE Computer: Natural Language Processing and the Web
URL:http://www.wikicfp.com/cfp/servlet/event.showcfp?eventid=2089&copyown
 erid=546
UID:cfp5295-N@wikicfp.com
END:VEVENT
BEGIN:VEVENT
DTSTAMP:20260419T132514Z
DTSTART;VALUE=DATE:20080505
DTEND;VALUE=DATE:20080508
SUMMARY:ADW 2008
DESCRIPTION:Workshop on Advances in Accessing Deep Web
URL:http://www.wikicfp.com/cfp/servlet/event.showcfp?eventid=2012&copyown
 erid=546
UID:cfp5313-E@wikicfp.com
END:VEVENT
BEGIN:VEVENT
DTSTAMP:20260419T132514Z
DTSTART;VALUE=DATE:20080316
SUMMARY:ADW 2008 Deadline
DESCRIPTION:Workshop on Advances in Accessing Deep Web
URL:http://www.wikicfp.com/cfp/servlet/event.showcfp?eventid=2012&copyown
 erid=546
UID:cfp5313-D@wikicfp.com
END:VEVENT
BEGIN:VEVENT
DTSTAMP:20260419T132514Z
DTSTART;VALUE=DATE:20080212
SUMMARY:ADW 2008 Notification Due
DESCRIPTION:Workshop on Advances in Accessing Deep Web
URL:http://www.wikicfp.com/cfp/servlet/event.showcfp?eventid=2012&copyown
 erid=546
UID:cfp5313-N@wikicfp.com
END:VEVENT
BEGIN:VEVENT
DTSTAMP:20260419T132514Z
DTSTART;VALUE=DATE:20081026
DTEND;VALUE=DATE:20081031
SUMMARY:CIKM 2008
DESCRIPTION:Conference on Information and Knowledge Mining
URL:http://www.wikicfp.com/cfp/servlet/event.showcfp?eventid=1204&copyown
 erid=546
UID:cfp5309-E@wikicfp.com
END:VEVENT
BEGIN:VEVENT
DTSTAMP:20260419T132514Z
DTSTART;VALUE=DATE:20080527
SUMMARY:CIKM 2008 Abstract Due
DESCRIPTION:Conference on Information and Knowledge Mining
URL:http://www.wikicfp.com/cfp/servlet/event.showcfp?eventid=1204&copyown
 erid=546
UID:cfp5309-A@wikicfp.com
END:VEVENT
BEGIN:VEVENT
DTSTAMP:20260419T132514Z
DTSTART;VALUE=DATE:20080603
SUMMARY:CIKM 2008 Deadline
DESCRIPTION:Conference on Information and Knowledge Mining
URL:http://www.wikicfp.com/cfp/servlet/event.showcfp?eventid=1204&copyown
 erid=546
UID:cfp5309-D@wikicfp.com
END:VEVENT
BEGIN:VEVENT
DTSTAMP:20260419T132514Z
DTSTART;VALUE=DATE:20080715
SUMMARY:CIKM 2008 Notification Due
DESCRIPTION:Conference on Information and Knowledge Mining
URL:http://www.wikicfp.com/cfp/servlet/event.showcfp?eventid=1204&copyown
 erid=546
UID:cfp5309-N@wikicfp.com
END:VEVENT
BEGIN:VEVENT
DTSTAMP:20260419T132514Z
DTSTART;VALUE=DATE:20090719
DTEND;VALUE=DATE:20090724
SUMMARY:SIGIR 2009
DESCRIPTION:Thirty second annual international ACM SIGIR conference on re
 search and development in Information Retrieval
URL:http://www.wikicfp.com/cfp/servlet/event.showcfp?eventid=1314&copyown
 erid=546
UID:cfp5294-E@wikicfp.com
END:VEVENT
BEGIN:VEVENT
DTSTAMP:20260419T132514Z
DTSTART;VALUE=DATE:20090119
SUMMARY:SIGIR 2009 Abstract Due
DESCRIPTION:Thirty second annual international ACM SIGIR conference on re
 search and development in Information Retrieval
URL:http://www.wikicfp.com/cfp/servlet/event.showcfp?eventid=1314&copyown
 erid=546
UID:cfp5294-A@wikicfp.com
END:VEVENT
BEGIN:VEVENT
DTSTAMP:20260419T132514Z
DTSTART;VALUE=DATE:20090126
SUMMARY:SIGIR 2009 Deadline
DESCRIPTION:Thirty second annual international ACM SIGIR conference on re
 search and development in Information Retrieval
URL:http://www.wikicfp.com/cfp/servlet/event.showcfp?eventid=1314&copyown
 erid=546
UID:cfp5294-D@wikicfp.com
END:VEVENT
END:VCALENDAR
