BEGIN:VCALENDAR
PRODID:-//WikiCFP//sophiekateh 1.0//EN
VERSION:2.0
CALSCALE:GREGORIAN
BEGIN:VEVENT
DTSTAMP:20260421T110828Z
DTSTART;VALUE=DATE:20141211
DTEND;VALUE=DATE:20141214
SUMMARY:MEEGID XII 2014
DESCRIPTION:12th International Conference on Molecular Epidemiology and E
 volutionary Genetics of Infectious Diseases
URL:http://www.wikicfp.com/cfp/servlet/event.showcfp?eventid=32228&copyow
 nerid=54151
UID:cfp377409-E@wikicfp.com
END:VEVENT
BEGIN:VEVENT
DTSTAMP:20260421T110828Z
DTSTART;VALUE=DATE:20140829
SUMMARY:MEEGID XII 2014 Deadline
DESCRIPTION:12th International Conference on Molecular Epidemiology and E
 volutionary Genetics of Infectious Diseases
URL:http://www.wikicfp.com/cfp/servlet/event.showcfp?eventid=32228&copyow
 nerid=54151
UID:cfp377409-D@wikicfp.com
END:VEVENT
BEGIN:VEVENT
DTSTAMP:20260421T110828Z
DTSTART;VALUE=DATE:20140921
DTEND;VALUE=DATE:20140927
SUMMARY:FDSM X 2014
DESCRIPTION:International Conference on Fatigue Damage of Structural Mate
 rials X
URL:http://www.wikicfp.com/cfp/servlet/event.showcfp?eventid=32227&copyow
 nerid=54151
UID:cfp377408-E@wikicfp.com
END:VEVENT
BEGIN:VEVENT
DTSTAMP:20260421T110828Z
DTSTART;VALUE=DATE:20141213
SUMMARY:FDSM X 2014 Deadline
DESCRIPTION:International Conference on Fatigue Damage of Structural Mate
 rials X
URL:http://www.wikicfp.com/cfp/servlet/event.showcfp?eventid=32227&copyow
 nerid=54151
UID:cfp377408-D@wikicfp.com
END:VEVENT
BEGIN:VEVENT
DTSTAMP:20260421T110828Z
DTSTART;VALUE=DATE:20180916
DTEND;VALUE=DATE:20180920
SUMMARY:Vaccine Congress 2018
DESCRIPTION:12th Vaccine Congress
URL:http://www.wikicfp.com/cfp/servlet/event.showcfp?eventid=72445&copyow
 nerid=54151
UID:cfp708236-E@wikicfp.com
END:VEVENT
BEGIN:VEVENT
DTSTAMP:20260421T110828Z
DTSTART;VALUE=DATE:20180423
SUMMARY:Vaccine Congress 2018 Deadline
DESCRIPTION:12th Vaccine Congress
URL:http://www.wikicfp.com/cfp/servlet/event.showcfp?eventid=72445&copyow
 nerid=54151
UID:cfp708236-D@wikicfp.com
END:VEVENT
BEGIN:VEVENT
DTSTAMP:20260421T110828Z
DTSTART;VALUE=DATE:20181106
DTEND;VALUE=DATE:20181109
SUMMARY:EFFoST 2018
DESCRIPTION:32nd EFFoST International Conference
URL:http://www.wikicfp.com/cfp/servlet/event.showcfp?eventid=70478&copyow
 nerid=54151
UID:cfp698757-E@wikicfp.com
END:VEVENT
BEGIN:VEVENT
DTSTAMP:20260421T110828Z
DTSTART;VALUE=DATE:20180427
SUMMARY:EFFoST 2018 Deadline
DESCRIPTION:32nd EFFoST International Conference
URL:http://www.wikicfp.com/cfp/servlet/event.showcfp?eventid=70478&copyow
 nerid=54151
UID:cfp698757-D@wikicfp.com
END:VEVENT
BEGIN:VEVENT
DTSTAMP:20260421T110828Z
DTSTART;VALUE=DATE:20190414
DTEND;VALUE=DATE:20190415
SUMMARY:Wear of Materials  2019
DESCRIPTION:22nd International Conference on Wear of Materials
URL:http://www.wikicfp.com/cfp/servlet/event.showcfp?eventid=72841&copyow
 nerid=54151
UID:cfp710324-E@wikicfp.com
END:VEVENT
BEGIN:VEVENT
DTSTAMP:20260421T110828Z
DTSTART;VALUE=DATE:20180531
SUMMARY:Wear of Materials  2019 Deadline
DESCRIPTION:22nd International Conference on Wear of Materials
URL:http://www.wikicfp.com/cfp/servlet/event.showcfp?eventid=72841&copyow
 nerid=54151
UID:cfp710324-D@wikicfp.com
END:VEVENT
BEGIN:VEVENT
DTSTAMP:20260421T110828Z
DTSTART;VALUE=DATE:20190617
DTEND;VALUE=DATE:20190620
SUMMARY:ICASS  2019
DESCRIPTION:3rd International Conference on Applied Surface Science
URL:http://www.wikicfp.com/cfp/servlet/event.showcfp?eventid=78402&copyow
 nerid=54151
UID:cfp734032-E@wikicfp.com
END:VEVENT
BEGIN:VEVENT
DTSTAMP:20260421T110828Z
DTSTART;VALUE=DATE:20190118
SUMMARY:ICASS  2019 Deadline
DESCRIPTION:3rd International Conference on Applied Surface Science
URL:http://www.wikicfp.com/cfp/servlet/event.showcfp?eventid=78402&copyow
 nerid=54151
UID:cfp734032-D@wikicfp.com
END:VEVENT
BEGIN:VEVENT
DTSTAMP:20260421T110828Z
DTSTART;VALUE=DATE:20190710
DTEND;VALUE=DATE:20190714
SUMMARY:Spatial Statistics 2019
DESCRIPTION:Spatial Statistics 2019: Towards Spatial Data Science
URL:http://www.wikicfp.com/cfp/servlet/event.showcfp?eventid=80611&copyow
 nerid=54151
UID:cfp743524-E@wikicfp.com
END:VEVENT
BEGIN:VEVENT
DTSTAMP:20260421T110828Z
DTSTART;VALUE=DATE:20190118
SUMMARY:Spatial Statistics 2019 Deadline
DESCRIPTION:Spatial Statistics 2019: Towards Spatial Data Science
URL:http://www.wikicfp.com/cfp/servlet/event.showcfp?eventid=80611&copyow
 nerid=54151
UID:cfp743524-D@wikicfp.com
END:VEVENT
END:VCALENDAR
