BEGIN:VCALENDAR
PRODID:-//WikiCFP//Basil 1.0//EN
VERSION:2.0
CALSCALE:GREGORIAN
BEGIN:VEVENT
DTSTAMP:20260420T053724Z
DTSTART;VALUE=DATE:20130418
DTEND;VALUE=DATE:20130421
SUMMARY:7th GNSS Vulnerabilities and Solutions  2013
DESCRIPTION:7th GNSS Vulnerabilities and Solutions Conference\, Baska\, K
 rk Island\, Croatia
URL:http://www.wikicfp.com/cfp/servlet/event.showcfp?eventid=25313&copyow
 nerid=54106
UID:cfp377134-E@wikicfp.com
END:VEVENT
BEGIN:VEVENT
DTSTAMP:20260420T053724Z
DTSTART;VALUE=DATE:20121215
SUMMARY:7th GNSS Vulnerabilities and Solutions  2013 Abstract Due
DESCRIPTION:7th GNSS Vulnerabilities and Solutions Conference\, Baska\, K
 rk Island\, Croatia
URL:http://www.wikicfp.com/cfp/servlet/event.showcfp?eventid=25313&copyow
 nerid=54106
UID:cfp377134-A@wikicfp.com
END:VEVENT
BEGIN:VEVENT
DTSTAMP:20260420T053724Z
DTSTART;VALUE=DATE:20130418
SUMMARY:7th GNSS Vulnerabilities and Solutions  2013 Deadline
DESCRIPTION:7th GNSS Vulnerabilities and Solutions Conference\, Baska\, K
 rk Island\, Croatia
URL:http://www.wikicfp.com/cfp/servlet/event.showcfp?eventid=25313&copyow
 nerid=54106
UID:cfp377134-D@wikicfp.com
END:VEVENT
BEGIN:VEVENT
DTSTAMP:20260420T053724Z
DTSTART;VALUE=DATE:20130201
SUMMARY:7th GNSS Vulnerabilities and Solutions  2013 Notification Due
DESCRIPTION:7th GNSS Vulnerabilities and Solutions Conference\, Baska\, K
 rk Island\, Croatia
URL:http://www.wikicfp.com/cfp/servlet/event.showcfp?eventid=25313&copyow
 nerid=54106
UID:cfp377134-N@wikicfp.com
END:VEVENT
BEGIN:VEVENT
DTSTAMP:20260420T053724Z
DTSTART;VALUE=DATE:20130418
SUMMARY:7th GNSS Vulnerabilities and Solutions  2013 Final Version Due
DESCRIPTION:7th GNSS Vulnerabilities and Solutions Conference\, Baska\, K
 rk Island\, Croatia
URL:http://www.wikicfp.com/cfp/servlet/event.showcfp?eventid=25313&copyow
 nerid=54106
UID:cfp377134-N@wikicfp.com
END:VEVENT
BEGIN:VEVENT
DTSTAMP:20260420T053724Z
DTSTART;VALUE=DATE:20130518
DTEND;VALUE=DATE:20130520
SUMMARY:EEI 2013
DESCRIPTION:The First International Conference on Emerging Trends in Elec
 trical \, Electronics & Instrumentation Engineering (EEI2013)
URL:http://www.wikicfp.com/cfp/servlet/event.showcfp?eventid=29703&copyow
 nerid=54106
UID:cfp377138-E@wikicfp.com
END:VEVENT
BEGIN:VEVENT
DTSTAMP:20260420T053724Z
DTSTART;VALUE=DATE:20130420
SUMMARY:EEI 2013 Deadline
DESCRIPTION:The First International Conference on Emerging Trends in Elec
 trical \, Electronics & Instrumentation Engineering (EEI2013)
URL:http://www.wikicfp.com/cfp/servlet/event.showcfp?eventid=29703&copyow
 nerid=54106
UID:cfp377138-D@wikicfp.com
END:VEVENT
BEGIN:VEVENT
DTSTAMP:20260420T053724Z
DTSTART;VALUE=DATE:20130505
SUMMARY:EEI 2013 Notification Due
DESCRIPTION:The First International Conference on Emerging Trends in Elec
 trical \, Electronics & Instrumentation Engineering (EEI2013)
URL:http://www.wikicfp.com/cfp/servlet/event.showcfp?eventid=29703&copyow
 nerid=54106
UID:cfp377138-N@wikicfp.com
END:VEVENT
BEGIN:VEVENT
DTSTAMP:20260420T053724Z
DTSTART;VALUE=DATE:20130512
SUMMARY:EEI 2013 Final Version Due
DESCRIPTION:The First International Conference on Emerging Trends in Elec
 trical \, Electronics & Instrumentation Engineering (EEI2013)
URL:http://www.wikicfp.com/cfp/servlet/event.showcfp?eventid=29703&copyow
 nerid=54106
UID:cfp377138-N@wikicfp.com
END:VEVENT
BEGIN:VEVENT
DTSTAMP:20260420T053724Z
DTSTART;VALUE=DATE:20130916
DTEND;VALUE=DATE:20130919
SUMMARY:IOP S&A XVII 2013
DESCRIPTION:Institute of Physics Sensors & their Applications XVII
URL:http://www.wikicfp.com/cfp/servlet/event.showcfp?eventid=24759&copyow
 nerid=54106
UID:cfp377132-E@wikicfp.com
END:VEVENT
BEGIN:VEVENT
DTSTAMP:20260420T053724Z
DTSTART;VALUE=DATE:20130503
SUMMARY:IOP S&A XVII 2013 Deadline
DESCRIPTION:Institute of Physics Sensors & their Applications XVII
URL:http://www.wikicfp.com/cfp/servlet/event.showcfp?eventid=24759&copyow
 nerid=54106
UID:cfp377132-D@wikicfp.com
END:VEVENT
BEGIN:VEVENT
DTSTAMP:20260420T053724Z
DTSTART;VALUE=DATE:20130720
DTEND;VALUE=DATE:20130722
SUMMARY:ICMET 2013
DESCRIPTION:2013 5th International Conference on Mechanical and Electrica
 l Technology
URL:http://www.wikicfp.com/cfp/servlet/event.showcfp?eventid=28644&copyow
 nerid=54106
UID:cfp377137-E@wikicfp.com
END:VEVENT
BEGIN:VEVENT
DTSTAMP:20260420T053724Z
DTSTART;VALUE=DATE:20130505
SUMMARY:ICMET 2013 Deadline
DESCRIPTION:2013 5th International Conference on Mechanical and Electrica
 l Technology
URL:http://www.wikicfp.com/cfp/servlet/event.showcfp?eventid=28644&copyow
 nerid=54106
UID:cfp377137-D@wikicfp.com
END:VEVENT
BEGIN:VEVENT
DTSTAMP:20260420T053724Z
DTSTART;VALUE=DATE:20130525
SUMMARY:ICMET 2013 Notification Due
DESCRIPTION:2013 5th International Conference on Mechanical and Electrica
 l Technology
URL:http://www.wikicfp.com/cfp/servlet/event.showcfp?eventid=28644&copyow
 nerid=54106
UID:cfp377137-N@wikicfp.com
END:VEVENT
BEGIN:VEVENT
DTSTAMP:20260420T053724Z
DTSTART;VALUE=DATE:20130610
SUMMARY:ICMET 2013 Final Version Due
DESCRIPTION:2013 5th International Conference on Mechanical and Electrica
 l Technology
URL:http://www.wikicfp.com/cfp/servlet/event.showcfp?eventid=28644&copyow
 nerid=54106
UID:cfp377137-N@wikicfp.com
END:VEVENT
BEGIN:VEVENT
DTSTAMP:20260420T053724Z
DTSTART;VALUE=DATE:20131007
DTEND;VALUE=DATE:20131009
SUMMARY:ICITEE 2013
DESCRIPTION:The 5th International Conference on Information Technology an
 d Electrical Engineering
URL:http://www.wikicfp.com/cfp/servlet/event.showcfp?eventid=30120&copyow
 nerid=54106
UID:cfp377140-E@wikicfp.com
END:VEVENT
BEGIN:VEVENT
DTSTAMP:20260420T053724Z
DTSTART;VALUE=DATE:20130603
SUMMARY:ICITEE 2013 Deadline
DESCRIPTION:The 5th International Conference on Information Technology an
 d Electrical Engineering
URL:http://www.wikicfp.com/cfp/servlet/event.showcfp?eventid=30120&copyow
 nerid=54106
UID:cfp377140-D@wikicfp.com
END:VEVENT
BEGIN:VEVENT
DTSTAMP:20260420T053724Z
DTSTART;VALUE=DATE:20130703
SUMMARY:ICITEE 2013 Notification Due
DESCRIPTION:The 5th International Conference on Information Technology an
 d Electrical Engineering
URL:http://www.wikicfp.com/cfp/servlet/event.showcfp?eventid=30120&copyow
 nerid=54106
UID:cfp377140-N@wikicfp.com
END:VEVENT
BEGIN:VEVENT
DTSTAMP:20260420T053724Z
DTSTART;VALUE=DATE:20130819
SUMMARY:ICITEE 2013 Final Version Due
DESCRIPTION:The 5th International Conference on Information Technology an
 d Electrical Engineering
URL:http://www.wikicfp.com/cfp/servlet/event.showcfp?eventid=30120&copyow
 nerid=54106
UID:cfp377140-N@wikicfp.com
END:VEVENT
BEGIN:VEVENT
DTSTAMP:20260420T053724Z
DTSTART;VALUE=DATE:20130930
DTEND;VALUE=DATE:20131005
SUMMARY:CCE  2013
DESCRIPTION:2013 10th International Conference on Electrical Engineering\
 , Computing Science and Automatic Control
URL:http://www.wikicfp.com/cfp/servlet/event.showcfp?eventid=30705&copyow
 nerid=54106
UID:cfp377144-E@wikicfp.com
END:VEVENT
BEGIN:VEVENT
DTSTAMP:20260420T053724Z
DTSTART;VALUE=DATE:20130617
SUMMARY:CCE  2013 Deadline
DESCRIPTION:2013 10th International Conference on Electrical Engineering\
 , Computing Science and Automatic Control
URL:http://www.wikicfp.com/cfp/servlet/event.showcfp?eventid=30705&copyow
 nerid=54106
UID:cfp377144-D@wikicfp.com
END:VEVENT
BEGIN:VEVENT
DTSTAMP:20260420T053724Z
DTSTART;VALUE=DATE:20130729
SUMMARY:CCE  2013 Notification Due
DESCRIPTION:2013 10th International Conference on Electrical Engineering\
 , Computing Science and Automatic Control
URL:http://www.wikicfp.com/cfp/servlet/event.showcfp?eventid=30705&copyow
 nerid=54106
UID:cfp377144-N@wikicfp.com
END:VEVENT
BEGIN:VEVENT
DTSTAMP:20260420T053724Z
DTSTART;VALUE=DATE:20130816
SUMMARY:CCE  2013 Final Version Due
DESCRIPTION:2013 10th International Conference on Electrical Engineering\
 , Computing Science and Automatic Control
URL:http://www.wikicfp.com/cfp/servlet/event.showcfp?eventid=30705&copyow
 nerid=54106
UID:cfp377144-N@wikicfp.com
END:VEVENT
BEGIN:VEVENT
DTSTAMP:20260420T053724Z
DTSTART;VALUE=DATE:20131113
DTEND;VALUE=DATE:20131116
SUMMARY:CIMGLE 2013
DESCRIPTION:TroisiÃ¨me confÃ©rence internationale pluridisciplinaire
URL:http://www.wikicfp.com/cfp/servlet/event.showcfp?eventid=30164&copyow
 nerid=54106
UID:cfp377142-E@wikicfp.com
END:VEVENT
BEGIN:VEVENT
DTSTAMP:20260420T053724Z
DTSTART;VALUE=DATE:20130410
SUMMARY:CIMGLE 2013 Abstract Due
DESCRIPTION:TroisiÃ¨me confÃ©rence internationale pluridisciplinaire
URL:http://www.wikicfp.com/cfp/servlet/event.showcfp?eventid=30164&copyow
 nerid=54106
UID:cfp377142-A@wikicfp.com
END:VEVENT
BEGIN:VEVENT
DTSTAMP:20260420T053724Z
DTSTART;VALUE=DATE:20130630
SUMMARY:CIMGLE 2013 Deadline
DESCRIPTION:TroisiÃ¨me confÃ©rence internationale pluridisciplinaire
URL:http://www.wikicfp.com/cfp/servlet/event.showcfp?eventid=30164&copyow
 nerid=54106
UID:cfp377142-D@wikicfp.com
END:VEVENT
BEGIN:VEVENT
DTSTAMP:20260420T053724Z
DTSTART;VALUE=DATE:20130915
SUMMARY:CIMGLE 2013 Notification Due
DESCRIPTION:TroisiÃ¨me confÃ©rence internationale pluridisciplinaire
URL:http://www.wikicfp.com/cfp/servlet/event.showcfp?eventid=30164&copyow
 nerid=54106
UID:cfp377142-N@wikicfp.com
END:VEVENT
BEGIN:VEVENT
DTSTAMP:20260420T053724Z
DTSTART;VALUE=DATE:20131015
SUMMARY:CIMGLE 2013 Final Version Due
DESCRIPTION:TroisiÃ¨me confÃ©rence internationale pluridisciplinaire
URL:http://www.wikicfp.com/cfp/servlet/event.showcfp?eventid=30164&copyow
 nerid=54106
UID:cfp377142-N@wikicfp.com
END:VEVENT
BEGIN:VEVENT
DTSTAMP:20260420T053724Z
DTSTART;VALUE=DATE:20131211
DTEND;VALUE=DATE:20131214
SUMMARY:AETA 2013
DESCRIPTION:International Conference on Advanced Engineering - Theory and
  Application
URL:http://www.wikicfp.com/cfp/servlet/event.showcfp?eventid=30420&copyow
 nerid=54106
UID:cfp377143-E@wikicfp.com
END:VEVENT
BEGIN:VEVENT
DTSTAMP:20260420T053724Z
DTSTART;VALUE=DATE:20130630
SUMMARY:AETA 2013 Deadline
DESCRIPTION:International Conference on Advanced Engineering - Theory and
  Application
URL:http://www.wikicfp.com/cfp/servlet/event.showcfp?eventid=30420&copyow
 nerid=54106
UID:cfp377143-D@wikicfp.com
END:VEVENT
BEGIN:VEVENT
DTSTAMP:20260420T053724Z
DTSTART;VALUE=DATE:20130731
SUMMARY:AETA 2013 Notification Due
DESCRIPTION:International Conference on Advanced Engineering - Theory and
  Application
URL:http://www.wikicfp.com/cfp/servlet/event.showcfp?eventid=30420&copyow
 nerid=54106
UID:cfp377143-N@wikicfp.com
END:VEVENT
BEGIN:VEVENT
DTSTAMP:20260420T053724Z
DTSTART;VALUE=DATE:20130830
SUMMARY:AETA 2013 Final Version Due
DESCRIPTION:International Conference on Advanced Engineering - Theory and
  Application
URL:http://www.wikicfp.com/cfp/servlet/event.showcfp?eventid=30420&copyow
 nerid=54106
UID:cfp377143-N@wikicfp.com
END:VEVENT
BEGIN:VEVENT
DTSTAMP:20260420T053724Z
DTSTART;VALUE=DATE:20131012
DTEND;VALUE=DATE:20131014
SUMMARY:ICCEE 2013
DESCRIPTION:2013 6th International Conference on Computer and Electrical 
 Engineering
URL:http://www.wikicfp.com/cfp/servlet/event.showcfp?eventid=30160&copyow
 nerid=54106
UID:cfp377141-E@wikicfp.com
END:VEVENT
BEGIN:VEVENT
DTSTAMP:20260420T053724Z
DTSTART;VALUE=DATE:20130801
SUMMARY:ICCEE 2013 Deadline
DESCRIPTION:2013 6th International Conference on Computer and Electrical 
 Engineering
URL:http://www.wikicfp.com/cfp/servlet/event.showcfp?eventid=30160&copyow
 nerid=54106
UID:cfp377141-D@wikicfp.com
END:VEVENT
BEGIN:VEVENT
DTSTAMP:20260420T053724Z
DTSTART;VALUE=DATE:20130815
SUMMARY:ICCEE 2013 Notification Due
DESCRIPTION:2013 6th International Conference on Computer and Electrical 
 Engineering
URL:http://www.wikicfp.com/cfp/servlet/event.showcfp?eventid=30160&copyow
 nerid=54106
UID:cfp377141-N@wikicfp.com
END:VEVENT
BEGIN:VEVENT
DTSTAMP:20260420T053724Z
DTSTART;VALUE=DATE:20130830
SUMMARY:ICCEE 2013 Final Version Due
DESCRIPTION:2013 6th International Conference on Computer and Electrical 
 Engineering
URL:http://www.wikicfp.com/cfp/servlet/event.showcfp?eventid=30160&copyow
 nerid=54106
UID:cfp377141-N@wikicfp.com
END:VEVENT
BEGIN:VEVENT
DTSTAMP:20260420T053724Z
DTSTART;VALUE=DATE:20130507
DTEND;VALUE=DATE:20130510
SUMMARY:ECWC 2014
DESCRIPTION:13th Electronic Circuits World Convention
URL:http://www.wikicfp.com/cfp/servlet/event.showcfp?eventid=31842&copyow
 nerid=54106
UID:cfp377149-E@wikicfp.com
END:VEVENT
BEGIN:VEVENT
DTSTAMP:20260420T053724Z
DTSTART;VALUE=DATE:20130913
SUMMARY:ECWC 2014 Deadline
DESCRIPTION:13th Electronic Circuits World Convention
URL:http://www.wikicfp.com/cfp/servlet/event.showcfp?eventid=31842&copyow
 nerid=54106
UID:cfp377149-D@wikicfp.com
END:VEVENT
BEGIN:VEVENT
DTSTAMP:20260420T053724Z
DTSTART;VALUE=DATE:20130913
SUMMARY:ECWC 2014 Notification Due
DESCRIPTION:13th Electronic Circuits World Convention
URL:http://www.wikicfp.com/cfp/servlet/event.showcfp?eventid=31842&copyow
 nerid=54106
UID:cfp377149-N@wikicfp.com
END:VEVENT
BEGIN:VEVENT
DTSTAMP:20260420T053724Z
DTSTART;VALUE=DATE:20130913
SUMMARY:ECWC 2014 Final Version Due
DESCRIPTION:13th Electronic Circuits World Convention
URL:http://www.wikicfp.com/cfp/servlet/event.showcfp?eventid=31842&copyow
 nerid=54106
UID:cfp377149-N@wikicfp.com
END:VEVENT
BEGIN:VEVENT
DTSTAMP:20260420T053724Z
DTSTART;VALUE=DATE:20140103
DTEND;VALUE=DATE:20140106
SUMMARY:ICCCI 2014
DESCRIPTION:2014 International Conference on Computer Communications and 
 Informatics
URL:http://www.wikicfp.com/cfp/servlet/event.showcfp?eventid=31672&copyow
 nerid=54106
UID:cfp377146-E@wikicfp.com
END:VEVENT
BEGIN:VEVENT
DTSTAMP:20260420T053724Z
DTSTART;VALUE=DATE:20130925
SUMMARY:ICCCI 2014 Deadline
DESCRIPTION:2014 International Conference on Computer Communications and 
 Informatics
URL:http://www.wikicfp.com/cfp/servlet/event.showcfp?eventid=31672&copyow
 nerid=54106
UID:cfp377146-D@wikicfp.com
END:VEVENT
BEGIN:VEVENT
DTSTAMP:20260420T053724Z
DTSTART;VALUE=DATE:20131025
SUMMARY:ICCCI 2014 Notification Due
DESCRIPTION:2014 International Conference on Computer Communications and 
 Informatics
URL:http://www.wikicfp.com/cfp/servlet/event.showcfp?eventid=31672&copyow
 nerid=54106
UID:cfp377146-N@wikicfp.com
END:VEVENT
BEGIN:VEVENT
DTSTAMP:20260420T053724Z
DTSTART;VALUE=DATE:20131115
SUMMARY:ICCCI 2014 Final Version Due
DESCRIPTION:2014 International Conference on Computer Communications and 
 Informatics
URL:http://www.wikicfp.com/cfp/servlet/event.showcfp?eventid=31672&copyow
 nerid=54106
UID:cfp377146-N@wikicfp.com
END:VEVENT
BEGIN:VEVENT
DTSTAMP:20260420T053724Z
DTSTART;VALUE=DATE:20130313
DTEND;VALUE=DATE:20130316
SUMMARY:iEECON 2013
DESCRIPTION:International Electrical Engineering Congress
URL:http://www.wikicfp.com/cfp/servlet/event.showcfp?eventid=25377&copyow
 nerid=54106
UID:cfp377136-E@wikicfp.com
END:VEVENT
BEGIN:VEVENT
DTSTAMP:20260420T053724Z
DTSTART;VALUE=DATE:20131007
SUMMARY:iEECON 2013 Deadline
DESCRIPTION:International Electrical Engineering Congress
URL:http://www.wikicfp.com/cfp/servlet/event.showcfp?eventid=25377&copyow
 nerid=54106
UID:cfp377136-D@wikicfp.com
END:VEVENT
BEGIN:VEVENT
DTSTAMP:20260420T053724Z
DTSTART;VALUE=DATE:20131115
SUMMARY:iEECON 2013 Notification Due
DESCRIPTION:International Electrical Engineering Congress
URL:http://www.wikicfp.com/cfp/servlet/event.showcfp?eventid=25377&copyow
 nerid=54106
UID:cfp377136-N@wikicfp.com
END:VEVENT
BEGIN:VEVENT
DTSTAMP:20260420T053724Z
DTSTART;VALUE=DATE:20131201
SUMMARY:iEECON 2013 Final Version Due
DESCRIPTION:International Electrical Engineering Congress
URL:http://www.wikicfp.com/cfp/servlet/event.showcfp?eventid=25377&copyow
 nerid=54106
UID:cfp377136-N@wikicfp.com
END:VEVENT
BEGIN:VEVENT
DTSTAMP:20260420T053724Z
DTSTART;VALUE=DATE:20131229
DTEND;VALUE=DATE:20131231
SUMMARY:WCEEE  2013
DESCRIPTION:2013 World Congress on Electronics and Electrical Engineering
 
URL:http://www.wikicfp.com/cfp/servlet/event.showcfp?eventid=29802&copyow
 nerid=54106
UID:cfp377139-E@wikicfp.com
END:VEVENT
BEGIN:VEVENT
DTSTAMP:20260420T053724Z
DTSTART;VALUE=DATE:20131010
SUMMARY:WCEEE  2013 Deadline
DESCRIPTION:2013 World Congress on Electronics and Electrical Engineering
 
URL:http://www.wikicfp.com/cfp/servlet/event.showcfp?eventid=29802&copyow
 nerid=54106
UID:cfp377139-D@wikicfp.com
END:VEVENT
BEGIN:VEVENT
DTSTAMP:20260420T053724Z
DTSTART;VALUE=DATE:20131025
SUMMARY:WCEEE  2013 Notification Due
DESCRIPTION:2013 World Congress on Electronics and Electrical Engineering
 
URL:http://www.wikicfp.com/cfp/servlet/event.showcfp?eventid=29802&copyow
 nerid=54106
UID:cfp377139-N@wikicfp.com
END:VEVENT
BEGIN:VEVENT
DTSTAMP:20260420T053724Z
DTSTART;VALUE=DATE:20131115
SUMMARY:WCEEE  2013 Final Version Due
DESCRIPTION:2013 World Congress on Electronics and Electrical Engineering
 
URL:http://www.wikicfp.com/cfp/servlet/event.showcfp?eventid=29802&copyow
 nerid=54106
UID:cfp377139-N@wikicfp.com
END:VEVENT
BEGIN:VEVENT
DTSTAMP:20260420T053724Z
DTSTART;VALUE=DATE:20130312
DTEND;VALUE=DATE:20130317
SUMMARY:ICOT 2013
DESCRIPTION:2013 IEEE International Conference on Orange Technologies
URL:http://www.wikicfp.com/cfp/servlet/event.showcfp?eventid=24943&copyow
 nerid=54106
UID:cfp377133-E@wikicfp.com
END:VEVENT
BEGIN:VEVENT
DTSTAMP:20260420T053724Z
DTSTART;VALUE=DATE:20131125
SUMMARY:ICOT 2013 Deadline
DESCRIPTION:2013 IEEE International Conference on Orange Technologies
URL:http://www.wikicfp.com/cfp/servlet/event.showcfp?eventid=24943&copyow
 nerid=54106
UID:cfp377133-D@wikicfp.com
END:VEVENT
BEGIN:VEVENT
DTSTAMP:20260420T053724Z
DTSTART;VALUE=DATE:20140419
DTEND;VALUE=DATE:20140421
SUMMARY:ICET 2014
DESCRIPTION:The Second International Conference on Engineering and Techno
 logy
URL:http://www.wikicfp.com/cfp/servlet/event.showcfp?eventid=31837&copyow
 nerid=54106
UID:cfp377148-E@wikicfp.com
END:VEVENT
BEGIN:VEVENT
DTSTAMP:20260420T053724Z
DTSTART;VALUE=DATE:20131231
SUMMARY:ICET 2014 Deadline
DESCRIPTION:The Second International Conference on Engineering and Techno
 logy
URL:http://www.wikicfp.com/cfp/servlet/event.showcfp?eventid=31837&copyow
 nerid=54106
UID:cfp377148-D@wikicfp.com
END:VEVENT
BEGIN:VEVENT
DTSTAMP:20260420T053724Z
DTSTART;VALUE=DATE:20140201
SUMMARY:ICET 2014 Notification Due
DESCRIPTION:The Second International Conference on Engineering and Techno
 logy
URL:http://www.wikicfp.com/cfp/servlet/event.showcfp?eventid=31837&copyow
 nerid=54106
UID:cfp377148-N@wikicfp.com
END:VEVENT
BEGIN:VEVENT
DTSTAMP:20260420T053724Z
DTSTART;VALUE=DATE:20140210
SUMMARY:ICET 2014 Final Version Due
DESCRIPTION:The Second International Conference on Engineering and Techno
 logy
URL:http://www.wikicfp.com/cfp/servlet/event.showcfp?eventid=31837&copyow
 nerid=54106
UID:cfp377148-N@wikicfp.com
END:VEVENT
BEGIN:VEVENT
DTSTAMP:20260420T053724Z
DTSTART;VALUE=DATE:20140423
DTEND;VALUE=DATE:20140425
SUMMARY:ICNGCCT 2014
DESCRIPTION:International Conference on Next Generation Computing and Com
 munication Technologies
URL:http://www.wikicfp.com/cfp/servlet/event.showcfp?eventid=30915&copyow
 nerid=54106
UID:cfp377145-E@wikicfp.com
END:VEVENT
BEGIN:VEVENT
DTSTAMP:20260420T053724Z
DTSTART;VALUE=DATE:20140303
SUMMARY:ICNGCCT 2014 Abstract Due
DESCRIPTION:International Conference on Next Generation Computing and Com
 munication Technologies
URL:http://www.wikicfp.com/cfp/servlet/event.showcfp?eventid=30915&copyow
 nerid=54106
UID:cfp377145-A@wikicfp.com
END:VEVENT
BEGIN:VEVENT
DTSTAMP:20260420T053724Z
DTSTART;VALUE=DATE:20140331
SUMMARY:ICNGCCT 2014 Deadline
DESCRIPTION:International Conference on Next Generation Computing and Com
 munication Technologies
URL:http://www.wikicfp.com/cfp/servlet/event.showcfp?eventid=30915&copyow
 nerid=54106
UID:cfp377145-D@wikicfp.com
END:VEVENT
BEGIN:VEVENT
DTSTAMP:20260420T053724Z
DTSTART;VALUE=DATE:20140405
SUMMARY:ICNGCCT 2014 Notification Due
DESCRIPTION:International Conference on Next Generation Computing and Com
 munication Technologies
URL:http://www.wikicfp.com/cfp/servlet/event.showcfp?eventid=30915&copyow
 nerid=54106
UID:cfp377145-N@wikicfp.com
END:VEVENT
BEGIN:VEVENT
DTSTAMP:20260420T053724Z
DTSTART;VALUE=DATE:20140407
SUMMARY:ICNGCCT 2014 Final Version Due
DESCRIPTION:International Conference on Next Generation Computing and Com
 munication Technologies
URL:http://www.wikicfp.com/cfp/servlet/event.showcfp?eventid=30915&copyow
 nerid=54106
UID:cfp377145-N@wikicfp.com
END:VEVENT
BEGIN:VEVENT
DTSTAMP:20260420T053724Z
DTSTART;VALUE=DATE:20150117
DTEND;VALUE=DATE:20150119
SUMMARY:ICEEN 2015
DESCRIPTION:2015 3rd International Conference on Electrical Energy and Ne
 tworks
URL:http://www.wikicfp.com/cfp/servlet/event.showcfp?eventid=31736&copyow
 nerid=54106
UID:cfp377147-E@wikicfp.com
END:VEVENT
BEGIN:VEVENT
DTSTAMP:20260420T053724Z
DTSTART;VALUE=DATE:20141105
SUMMARY:ICEEN 2015 Deadline
DESCRIPTION:2015 3rd International Conference on Electrical Energy and Ne
 tworks
URL:http://www.wikicfp.com/cfp/servlet/event.showcfp?eventid=31736&copyow
 nerid=54106
UID:cfp377147-D@wikicfp.com
END:VEVENT
BEGIN:VEVENT
DTSTAMP:20260420T053724Z
DTSTART;VALUE=DATE:20141130
SUMMARY:ICEEN 2015 Notification Due
DESCRIPTION:2015 3rd International Conference on Electrical Energy and Ne
 tworks
URL:http://www.wikicfp.com/cfp/servlet/event.showcfp?eventid=31736&copyow
 nerid=54106
UID:cfp377147-N@wikicfp.com
END:VEVENT
BEGIN:VEVENT
DTSTAMP:20260420T053724Z
DTSTART;VALUE=DATE:20141215
SUMMARY:ICEEN 2015 Final Version Due
DESCRIPTION:2015 3rd International Conference on Electrical Energy and Ne
 tworks
URL:http://www.wikicfp.com/cfp/servlet/event.showcfp?eventid=31736&copyow
 nerid=54106
UID:cfp377147-N@wikicfp.com
END:VEVENT
BEGIN:VEVENT
DTSTAMP:20260420T053724Z
DTSTART;VALUE=DATE:20150212
DTEND;VALUE=DATE:20150214
SUMMARY:ICAEE 2015
DESCRIPTION:2015 the 2nd International Conference on Advances in Electron
 ics Engineering
URL:http://www.wikicfp.com/cfp/servlet/event.showcfp?eventid=32173&copyow
 nerid=54106
UID:cfp377150-E@wikicfp.com
END:VEVENT
BEGIN:VEVENT
DTSTAMP:20260420T053724Z
DTSTART;VALUE=DATE:20141125
SUMMARY:ICAEE 2015 Deadline
DESCRIPTION:2015 the 2nd International Conference on Advances in Electron
 ics Engineering
URL:http://www.wikicfp.com/cfp/servlet/event.showcfp?eventid=32173&copyow
 nerid=54106
UID:cfp377150-D@wikicfp.com
END:VEVENT
BEGIN:VEVENT
DTSTAMP:20260420T053724Z
DTSTART;VALUE=DATE:20141220
SUMMARY:ICAEE 2015 Notification Due
DESCRIPTION:2015 the 2nd International Conference on Advances in Electron
 ics Engineering
URL:http://www.wikicfp.com/cfp/servlet/event.showcfp?eventid=32173&copyow
 nerid=54106
UID:cfp377150-N@wikicfp.com
END:VEVENT
BEGIN:VEVENT
DTSTAMP:20260420T053724Z
DTSTART;VALUE=DATE:20150105
SUMMARY:ICAEE 2015 Final Version Due
DESCRIPTION:2015 the 2nd International Conference on Advances in Electron
 ics Engineering
URL:http://www.wikicfp.com/cfp/servlet/event.showcfp?eventid=32173&copyow
 nerid=54106
UID:cfp377150-N@wikicfp.com
END:VEVENT
BEGIN:VEVENT
DTSTAMP:20260420T053724Z
DTSTART;VALUE=DATE:20191005
SUMMARY:ELELIJ 2019 Deadline
DESCRIPTION:Electrical and Electronics Engineering:  An International Jou
 rnal
URL:http://www.wikicfp.com/cfp/servlet/event.showcfp?eventid=22583&copyow
 nerid=54106
UID:cfp377131-D@wikicfp.com
END:VEVENT
BEGIN:VEVENT
DTSTAMP:20260420T053724Z
DTSTART;VALUE=DATE:20191105
SUMMARY:ELELIJ 2019 Notification Due
DESCRIPTION:Electrical and Electronics Engineering:  An International Jou
 rnal
URL:http://www.wikicfp.com/cfp/servlet/event.showcfp?eventid=22583&copyow
 nerid=54106
UID:cfp377131-N@wikicfp.com
END:VEVENT
BEGIN:VEVENT
DTSTAMP:20260420T053724Z
DTSTART;VALUE=DATE:20191113
SUMMARY:ELELIJ 2019 Final Version Due
DESCRIPTION:Electrical and Electronics Engineering:  An International Jou
 rnal
URL:http://www.wikicfp.com/cfp/servlet/event.showcfp?eventid=22583&copyow
 nerid=54106
UID:cfp377131-N@wikicfp.com
END:VEVENT
BEGIN:VEVENT
DTSTAMP:20260420T053724Z
DTSTART;VALUE=DATE:20260420
SUMMARY:ECIJ 2026 Deadline
DESCRIPTION:Electrical & Computer Engineering: An International Journal
URL:http://www.wikicfp.com/cfp/servlet/event.showcfp?eventid=25336&copyow
 nerid=54106
UID:cfp377135-D@wikicfp.com
END:VEVENT
BEGIN:VEVENT
DTSTAMP:20260420T053724Z
DTSTART;VALUE=DATE:20260519
SUMMARY:ECIJ 2026 Notification Due
DESCRIPTION:Electrical & Computer Engineering: An International Journal
URL:http://www.wikicfp.com/cfp/servlet/event.showcfp?eventid=25336&copyow
 nerid=54106
UID:cfp377135-N@wikicfp.com
END:VEVENT
BEGIN:VEVENT
DTSTAMP:20260420T053724Z
DTSTART;VALUE=DATE:20260526
SUMMARY:ECIJ 2026 Final Version Due
DESCRIPTION:Electrical & Computer Engineering: An International Journal
URL:http://www.wikicfp.com/cfp/servlet/event.showcfp?eventid=25336&copyow
 nerid=54106
UID:cfp377135-N@wikicfp.com
END:VEVENT
END:VCALENDAR
