BEGIN:VCALENDAR
PRODID:-//WikiCFP//chiachialee 1.0//EN
VERSION:2.0
CALSCALE:GREGORIAN
BEGIN:VEVENT
DTSTAMP:20260419T192540Z
DTSTART;VALUE=DATE:20140426
DTEND;VALUE=DATE:20140501
SUMMARY:EACL 2014
DESCRIPTION:14th Conference of the European Chapter of the Association fo
 r Computational Linguistics
URL:http://www.wikicfp.com/cfp/servlet/event.showcfp?eventid=30524&copyow
 nerid=54079
UID:cfp377030-E@wikicfp.com
END:VEVENT
BEGIN:VEVENT
DTSTAMP:20260419T192540Z
DTSTART;VALUE=DATE:20131018
SUMMARY:EACL 2014 Deadline
DESCRIPTION:14th Conference of the European Chapter of the Association fo
 r Computational Linguistics
URL:http://www.wikicfp.com/cfp/servlet/event.showcfp?eventid=30524&copyow
 nerid=54079
UID:cfp377030-D@wikicfp.com
END:VEVENT
BEGIN:VEVENT
DTSTAMP:20260419T192540Z
DTSTART;VALUE=DATE:20131220
SUMMARY:EACL 2014 Notification Due
DESCRIPTION:14th Conference of the European Chapter of the Association fo
 r Computational Linguistics
URL:http://www.wikicfp.com/cfp/servlet/event.showcfp?eventid=30524&copyow
 nerid=54079
UID:cfp377030-N@wikicfp.com
END:VEVENT
BEGIN:VEVENT
DTSTAMP:20260419T192540Z
DTSTART;VALUE=DATE:20140214
SUMMARY:EACL 2014 Final Version Due
DESCRIPTION:14th Conference of the European Chapter of the Association fo
 r Computational Linguistics
URL:http://www.wikicfp.com/cfp/servlet/event.showcfp?eventid=30524&copyow
 nerid=54079
UID:cfp377030-N@wikicfp.com
END:VEVENT
BEGIN:VEVENT
DTSTAMP:20260419T192540Z
DTSTART;VALUE=DATE:20140622
DTEND;VALUE=DATE:20140628
SUMMARY:ACL 2014
DESCRIPTION:The 52nd Annual Meeting of the Association for Computational 
 Linguistics
URL:http://www.wikicfp.com/cfp/servlet/event.showcfp?eventid=27857&copyow
 nerid=54079
UID:cfp377031-E@wikicfp.com
END:VEVENT
BEGIN:VEVENT
DTSTAMP:20260419T192540Z
DTSTART;VALUE=DATE:20140110
SUMMARY:ACL 2014 Deadline
DESCRIPTION:The 52nd Annual Meeting of the Association for Computational 
 Linguistics
URL:http://www.wikicfp.com/cfp/servlet/event.showcfp?eventid=27857&copyow
 nerid=54079
UID:cfp377031-D@wikicfp.com
END:VEVENT
BEGIN:VEVENT
DTSTAMP:20260419T192540Z
DTSTART;VALUE=DATE:20140305
SUMMARY:ACL 2014 Notification Due
DESCRIPTION:The 52nd Annual Meeting of the Association for Computational 
 Linguistics
URL:http://www.wikicfp.com/cfp/servlet/event.showcfp?eventid=27857&copyow
 nerid=54079
UID:cfp377031-N@wikicfp.com
END:VEVENT
END:VCALENDAR
