BEGIN:VCALENDAR
PRODID:-//WikiCFP//ruriko0506 1.0//EN
VERSION:2.0
CALSCALE:GREGORIAN
BEGIN:VEVENT
DTSTAMP:20260422T012011Z
DTSTART;VALUE=DATE:20131023
DTEND;VALUE=DATE:20131028
SUMMARY:ACE 2013
DESCRIPTION:The Asian Conference on Education 2013
URL:http://www.wikicfp.com/cfp/servlet/event.showcfp?eventid=29437&copyow
 nerid=54031
UID:cfp376804-E@wikicfp.com
END:VEVENT
BEGIN:VEVENT
DTSTAMP:20260422T012011Z
DTSTART;VALUE=DATE:20130901
SUMMARY:ACE 2013 Deadline
DESCRIPTION:The Asian Conference on Education 2013
URL:http://www.wikicfp.com/cfp/servlet/event.showcfp?eventid=29437&copyow
 nerid=54031
UID:cfp376804-D@wikicfp.com
END:VEVENT
BEGIN:VEVENT
DTSTAMP:20260422T012011Z
DTSTART;VALUE=DATE:20131023
DTEND;VALUE=DATE:20131028
SUMMARY:ACSET 2013
DESCRIPTION:The Asian Conference on Society\, Education and Technology 20
 13
URL:http://www.wikicfp.com/cfp/servlet/event.showcfp?eventid=29438&copyow
 nerid=54031
UID:cfp376805-E@wikicfp.com
END:VEVENT
BEGIN:VEVENT
DTSTAMP:20260422T012011Z
DTSTART;VALUE=DATE:20130901
SUMMARY:ACSET 2013 Deadline
DESCRIPTION:The Asian Conference on Society\, Education and Technology 20
 13
URL:http://www.wikicfp.com/cfp/servlet/event.showcfp?eventid=29438&copyow
 nerid=54031
UID:cfp376805-D@wikicfp.com
END:VEVENT
BEGIN:VEVENT
DTSTAMP:20260422T012011Z
DTSTART;VALUE=DATE:20131208
DTEND;VALUE=DATE:20131210
SUMMARY:ICLLL 2013
DESCRIPTION:2013 3rd International Conference on Languages\, Literature a
 nd Linguistics 
URL:http://www.wikicfp.com/cfp/servlet/event.showcfp?eventid=31423&copyow
 nerid=54031
UID:cfp376801-E@wikicfp.com
END:VEVENT
BEGIN:VEVENT
DTSTAMP:20260422T012011Z
DTSTART;VALUE=DATE:20130930
SUMMARY:ICLLL 2013 Deadline
DESCRIPTION:2013 3rd International Conference on Languages\, Literature a
 nd Linguistics 
URL:http://www.wikicfp.com/cfp/servlet/event.showcfp?eventid=31423&copyow
 nerid=54031
UID:cfp376801-D@wikicfp.com
END:VEVENT
BEGIN:VEVENT
DTSTAMP:20260422T012011Z
DTSTART;VALUE=DATE:20131020
SUMMARY:ICLLL 2013 Notification Due
DESCRIPTION:2013 3rd International Conference on Languages\, Literature a
 nd Linguistics 
URL:http://www.wikicfp.com/cfp/servlet/event.showcfp?eventid=31423&copyow
 nerid=54031
UID:cfp376801-N@wikicfp.com
END:VEVENT
BEGIN:VEVENT
DTSTAMP:20260422T012011Z
DTSTART;VALUE=DATE:20131105
SUMMARY:ICLLL 2013 Final Version Due
DESCRIPTION:2013 3rd International Conference on Languages\, Literature a
 nd Linguistics 
URL:http://www.wikicfp.com/cfp/servlet/event.showcfp?eventid=31423&copyow
 nerid=54031
UID:cfp376801-N@wikicfp.com
END:VEVENT
BEGIN:VEVENT
DTSTAMP:20260422T012011Z
DTSTART;VALUE=DATE:20131130
SUMMARY:AEQ 2014 Deadline
DESCRIPTION:Call for Papers: Academic Exchange Quarterly -Spring 2014 Vol
 ume 18\, Issue 1 - Second Language Acquisition and Pedagogy 
URL:http://www.wikicfp.com/cfp/servlet/event.showcfp?eventid=30856&copyow
 nerid=54031
UID:cfp376802-D@wikicfp.com
END:VEVENT
BEGIN:VEVENT
DTSTAMP:20260422T012011Z
DTSTART;VALUE=DATE:20130610
DTEND;VALUE=DATE:20130615
SUMMARY:IES Abroad Symposium 2013
DESCRIPTION:IES Abroad Second Language Research Symposium and Faculty Sem
 inar
URL:http://www.wikicfp.com/cfp/servlet/event.showcfp?eventid=28893&copyow
 nerid=54031
UID:cfp376803-E@wikicfp.com
END:VEVENT
BEGIN:VEVENT
DTSTAMP:20260422T012011Z
DTSTART;VALUE=DATE:20140322
SUMMARY:IES Abroad Symposium 2013 Deadline
DESCRIPTION:IES Abroad Second Language Research Symposium and Faculty Sem
 inar
URL:http://www.wikicfp.com/cfp/servlet/event.showcfp?eventid=28893&copyow
 nerid=54031
UID:cfp376803-D@wikicfp.com
END:VEVENT
END:VCALENDAR
