BEGIN:VCALENDAR
PRODID:-//WikiCFP//dsky 1.0//EN
VERSION:2.0
CALSCALE:GREGORIAN
BEGIN:VEVENT
DTSTAMP:20260422T100613Z
DTSTART;VALUE=DATE:20090909
DTEND;VALUE=DATE:20090912
SUMMARY:AWIC 2009
DESCRIPTION:6th Atlantic Web Intelligence Conference
URL:http://www.wikicfp.com/cfp/servlet/event.showcfp?eventid=5200&copyown
 erid=5324
UID:cfp41203-E@wikicfp.com
END:VEVENT
BEGIN:VEVENT
DTSTAMP:20260422T100613Z
DTSTART;VALUE=DATE:20090605
SUMMARY:AWIC 2009 Deadline
DESCRIPTION:6th Atlantic Web Intelligence Conference
URL:http://www.wikicfp.com/cfp/servlet/event.showcfp?eventid=5200&copyown
 erid=5324
UID:cfp41203-D@wikicfp.com
END:VEVENT
BEGIN:VEVENT
DTSTAMP:20260422T100613Z
DTSTART;VALUE=DATE:20090620
SUMMARY:AWIC 2009 Notification Due
DESCRIPTION:6th Atlantic Web Intelligence Conference
URL:http://www.wikicfp.com/cfp/servlet/event.showcfp?eventid=5200&copyown
 erid=5324
UID:cfp41203-N@wikicfp.com
END:VEVENT
BEGIN:VEVENT
DTSTAMP:20260422T100613Z
DTSTART;VALUE=DATE:20090630
SUMMARY:AWIC 2009 Final Version Due
DESCRIPTION:6th Atlantic Web Intelligence Conference
URL:http://www.wikicfp.com/cfp/servlet/event.showcfp?eventid=5200&copyown
 erid=5324
UID:cfp41203-N@wikicfp.com
END:VEVENT
BEGIN:VEVENT
DTSTAMP:20260422T100613Z
DTSTART;VALUE=DATE:20091101
DTEND;VALUE=DATE:20091107
SUMMARY:OTM 2009
DESCRIPTION:OnTheMove 2009 Federated Conferences\, Workshops and Academy
URL:http://www.wikicfp.com/cfp/servlet/event.showcfp?eventid=5268&copyown
 erid=5324
UID:cfp41206-E@wikicfp.com
END:VEVENT
BEGIN:VEVENT
DTSTAMP:20260422T100613Z
DTSTART;VALUE=DATE:20090622
SUMMARY:OTM 2009 Deadline
DESCRIPTION:OnTheMove 2009 Federated Conferences\, Workshops and Academy
URL:http://www.wikicfp.com/cfp/servlet/event.showcfp?eventid=5268&copyown
 erid=5324
UID:cfp41206-D@wikicfp.com
END:VEVENT
BEGIN:VEVENT
DTSTAMP:20260422T100613Z
DTSTART;VALUE=DATE:20090805
SUMMARY:OTM 2009 Notification Due
DESCRIPTION:OnTheMove 2009 Federated Conferences\, Workshops and Academy
URL:http://www.wikicfp.com/cfp/servlet/event.showcfp?eventid=5268&copyown
 erid=5324
UID:cfp41206-N@wikicfp.com
END:VEVENT
BEGIN:VEVENT
DTSTAMP:20260422T100613Z
DTSTART;VALUE=DATE:20090815
SUMMARY:OTM 2009 Final Version Due
DESCRIPTION:OnTheMove 2009 Federated Conferences\, Workshops and Academy
URL:http://www.wikicfp.com/cfp/servlet/event.showcfp?eventid=5268&copyown
 erid=5324
UID:cfp41206-N@wikicfp.com
END:VEVENT
BEGIN:VEVENT
DTSTAMP:20260422T100613Z
DTSTART;VALUE=DATE:20091119
DTEND;VALUE=DATE:20091123
SUMMARY:IADIS WWW/Internet 2009
DESCRIPTION: IADIS International Conference  WWW/INTERNET 2009 (Second Ca
 ll)
URL:http://www.wikicfp.com/cfp/servlet/event.showcfp?eventid=5968&copyown
 erid=5324
UID:cfp41204-E@wikicfp.com
END:VEVENT
BEGIN:VEVENT
DTSTAMP:20260422T100613Z
DTSTART;VALUE=DATE:20090921
SUMMARY:IADIS WWW/Internet 2009 Deadline
DESCRIPTION: IADIS International Conference  WWW/INTERNET 2009 (Second Ca
 ll)
URL:http://www.wikicfp.com/cfp/servlet/event.showcfp?eventid=5968&copyown
 erid=5324
UID:cfp41204-D@wikicfp.com
END:VEVENT
BEGIN:VEVENT
DTSTAMP:20260422T100613Z
DTSTART;VALUE=DATE:20091016
SUMMARY:IADIS WWW/Internet 2009 Notification Due
DESCRIPTION: IADIS International Conference  WWW/INTERNET 2009 (Second Ca
 ll)
URL:http://www.wikicfp.com/cfp/servlet/event.showcfp?eventid=5968&copyown
 erid=5324
UID:cfp41204-N@wikicfp.com
END:VEVENT
BEGIN:VEVENT
DTSTAMP:20260422T100613Z
DTSTART;VALUE=DATE:20100426
DTEND;VALUE=DATE:20100501
SUMMARY:WWW 2010
DESCRIPTION:World Wide Web Conference 2010
URL:http://www.wikicfp.com/cfp/servlet/event.showcfp?eventid=6181&copyown
 erid=5324
UID:cfp43730-E@wikicfp.com
END:VEVENT
BEGIN:VEVENT
DTSTAMP:20260422T100613Z
DTSTART;VALUE=DATE:20091026
SUMMARY:WWW 2010 Abstract Due
DESCRIPTION:World Wide Web Conference 2010
URL:http://www.wikicfp.com/cfp/servlet/event.showcfp?eventid=6181&copyown
 erid=5324
UID:cfp43730-A@wikicfp.com
END:VEVENT
BEGIN:VEVENT
DTSTAMP:20260422T100613Z
DTSTART;VALUE=DATE:20091102
SUMMARY:WWW 2010 Deadline
DESCRIPTION:World Wide Web Conference 2010
URL:http://www.wikicfp.com/cfp/servlet/event.showcfp?eventid=6181&copyown
 erid=5324
UID:cfp43730-D@wikicfp.com
END:VEVENT
BEGIN:VEVENT
DTSTAMP:20260422T100613Z
DTSTART;VALUE=DATE:20100122
SUMMARY:WWW 2010 Notification Due
DESCRIPTION:World Wide Web Conference 2010
URL:http://www.wikicfp.com/cfp/servlet/event.showcfp?eventid=6181&copyown
 erid=5324
UID:cfp43730-N@wikicfp.com
END:VEVENT
BEGIN:VEVENT
DTSTAMP:20260422T100613Z
DTSTART;VALUE=DATE:20100711
DTEND;VALUE=DATE:20100716
SUMMARY:AAAI 2010
DESCRIPTION:The Twenty-Fourth AAAI Conference on Artificial Intelligence
URL:http://www.wikicfp.com/cfp/servlet/event.showcfp?eventid=6149&copyown
 erid=5324
UID:cfp44643-E@wikicfp.com
END:VEVENT
BEGIN:VEVENT
DTSTAMP:20260422T100613Z
DTSTART;VALUE=DATE:20100118
SUMMARY:AAAI 2010 Abstract Due
DESCRIPTION:The Twenty-Fourth AAAI Conference on Artificial Intelligence
URL:http://www.wikicfp.com/cfp/servlet/event.showcfp?eventid=6149&copyown
 erid=5324
UID:cfp44643-A@wikicfp.com
END:VEVENT
BEGIN:VEVENT
DTSTAMP:20260422T100613Z
DTSTART;VALUE=DATE:20100121
SUMMARY:AAAI 2010 Deadline
DESCRIPTION:The Twenty-Fourth AAAI Conference on Artificial Intelligence
URL:http://www.wikicfp.com/cfp/servlet/event.showcfp?eventid=6149&copyown
 erid=5324
UID:cfp44643-D@wikicfp.com
END:VEVENT
BEGIN:VEVENT
DTSTAMP:20260422T100613Z
DTSTART;VALUE=DATE:20100326
SUMMARY:AAAI 2010 Notification Due
DESCRIPTION:The Twenty-Fourth AAAI Conference on Artificial Intelligence
URL:http://www.wikicfp.com/cfp/servlet/event.showcfp?eventid=6149&copyown
 erid=5324
UID:cfp44643-N@wikicfp.com
END:VEVENT
BEGIN:VEVENT
DTSTAMP:20260422T100613Z
DTSTART;VALUE=DATE:20100413
SUMMARY:AAAI 2010 Final Version Due
DESCRIPTION:The Twenty-Fourth AAAI Conference on Artificial Intelligence
URL:http://www.wikicfp.com/cfp/servlet/event.showcfp?eventid=6149&copyown
 erid=5324
UID:cfp44643-N@wikicfp.com
END:VEVENT
BEGIN:VEVENT
DTSTAMP:20260422T100613Z
DTSTART;VALUE=DATE:20101215
DTEND;VALUE=DATE:20101219
SUMMARY:ICIS 2010
DESCRIPTION:International Conference on Information Systems (ICIS) 2010
URL:http://www.wikicfp.com/cfp/servlet/event.showcfp?eventid=5967&copyown
 erid=5324
UID:cfp41202-E@wikicfp.com
END:VEVENT
BEGIN:VEVENT
DTSTAMP:20260422T100613Z
DTSTART;VALUE=DATE:20100503
SUMMARY:ICIS 2010 Deadline
DESCRIPTION:International Conference on Information Systems (ICIS) 2010
URL:http://www.wikicfp.com/cfp/servlet/event.showcfp?eventid=5967&copyown
 erid=5324
UID:cfp41202-D@wikicfp.com
END:VEVENT
BEGIN:VEVENT
DTSTAMP:20260422T100613Z
DTSTART;VALUE=DATE:20100730
SUMMARY:ICIS 2010 Notification Due
DESCRIPTION:International Conference on Information Systems (ICIS) 2010
URL:http://www.wikicfp.com/cfp/servlet/event.showcfp?eventid=5967&copyown
 erid=5324
UID:cfp41202-N@wikicfp.com
END:VEVENT
BEGIN:VEVENT
DTSTAMP:20260422T100613Z
DTSTART;VALUE=DATE:20100908
SUMMARY:ICIS 2010 Final Version Due
DESCRIPTION:International Conference on Information Systems (ICIS) 2010
URL:http://www.wikicfp.com/cfp/servlet/event.showcfp?eventid=5967&copyown
 erid=5324
UID:cfp41202-N@wikicfp.com
END:VEVENT
END:VCALENDAR
