BEGIN:VCALENDAR
PRODID:-//WikiCFP//ntbaovn 1.0//EN
VERSION:2.0
CALSCALE:GREGORIAN
BEGIN:VEVENT
DTSTAMP:20260425T130724Z
DTSTART;VALUE=DATE:20131204
DTEND;VALUE=DATE:20131208
SUMMARY:ICMLA 2013
DESCRIPTION:IEEE International Conference on Machine Learning and Applica
 tions
URL:http://www.wikicfp.com/cfp/servlet/event.showcfp?eventid=28575&copyow
 nerid=53149
UID:cfp372488-E@wikicfp.com
END:VEVENT
BEGIN:VEVENT
DTSTAMP:20260425T130724Z
DTSTART;VALUE=DATE:20130722
SUMMARY:ICMLA 2013 Deadline
DESCRIPTION:IEEE International Conference on Machine Learning and Applica
 tions
URL:http://www.wikicfp.com/cfp/servlet/event.showcfp?eventid=28575&copyow
 nerid=53149
UID:cfp372488-D@wikicfp.com
END:VEVENT
BEGIN:VEVENT
DTSTAMP:20260425T130724Z
DTSTART;VALUE=DATE:20130910
SUMMARY:ICMLA 2013 Notification Due
DESCRIPTION:IEEE International Conference on Machine Learning and Applica
 tions
URL:http://www.wikicfp.com/cfp/servlet/event.showcfp?eventid=28575&copyow
 nerid=53149
UID:cfp372488-N@wikicfp.com
END:VEVENT
BEGIN:VEVENT
DTSTAMP:20260425T130724Z
DTSTART;VALUE=DATE:20131010
SUMMARY:ICMLA 2013 Final Version Due
DESCRIPTION:IEEE International Conference on Machine Learning and Applica
 tions
URL:http://www.wikicfp.com/cfp/servlet/event.showcfp?eventid=28575&copyow
 nerid=53149
UID:cfp372488-N@wikicfp.com
END:VEVENT
BEGIN:VEVENT
DTSTAMP:20260425T130724Z
DTSTART;VALUE=DATE:20131113
DTEND;VALUE=DATE:20131116
SUMMARY:ACML 2013
DESCRIPTION:Asian Conference on Machine Learning
URL:http://www.wikicfp.com/cfp/servlet/event.showcfp?eventid=30314&copyow
 nerid=53149
UID:cfp372199-E@wikicfp.com
END:VEVENT
BEGIN:VEVENT
DTSTAMP:20260425T130724Z
DTSTART;VALUE=DATE:20130724
SUMMARY:ACML 2013 Deadline
DESCRIPTION:Asian Conference on Machine Learning
URL:http://www.wikicfp.com/cfp/servlet/event.showcfp?eventid=30314&copyow
 nerid=53149
UID:cfp372199-D@wikicfp.com
END:VEVENT
BEGIN:VEVENT
DTSTAMP:20260425T130724Z
DTSTART;VALUE=DATE:20130925
SUMMARY:ACML 2013 Notification Due
DESCRIPTION:Asian Conference on Machine Learning
URL:http://www.wikicfp.com/cfp/servlet/event.showcfp?eventid=30314&copyow
 nerid=53149
UID:cfp372199-N@wikicfp.com
END:VEVENT
BEGIN:VEVENT
DTSTAMP:20260425T130724Z
DTSTART;VALUE=DATE:20131009
SUMMARY:ACML 2013 Final Version Due
DESCRIPTION:Asian Conference on Machine Learning
URL:http://www.wikicfp.com/cfp/servlet/event.showcfp?eventid=30314&copyow
 nerid=53149
UID:cfp372199-N@wikicfp.com
END:VEVENT
BEGIN:VEVENT
DTSTAMP:20260425T130724Z
DTSTART;VALUE=DATE:20131107
DTEND;VALUE=DATE:20131110
SUMMARY:CSBio 2013
DESCRIPTION: 4th International Conference on Computational Systems-Biolog
 y and Bioinformatics
URL:http://www.wikicfp.com/cfp/servlet/event.showcfp?eventid=30498&copyow
 nerid=53149
UID:cfp372541-E@wikicfp.com
END:VEVENT
BEGIN:VEVENT
DTSTAMP:20260425T130724Z
DTSTART;VALUE=DATE:20130726
SUMMARY:CSBio 2013 Deadline
DESCRIPTION: 4th International Conference on Computational Systems-Biolog
 y and Bioinformatics
URL:http://www.wikicfp.com/cfp/servlet/event.showcfp?eventid=30498&copyow
 nerid=53149
UID:cfp372541-D@wikicfp.com
END:VEVENT
BEGIN:VEVENT
DTSTAMP:20260425T130724Z
DTSTART;VALUE=DATE:20130826
SUMMARY:CSBio 2013 Notification Due
DESCRIPTION: 4th International Conference on Computational Systems-Biolog
 y and Bioinformatics
URL:http://www.wikicfp.com/cfp/servlet/event.showcfp?eventid=30498&copyow
 nerid=53149
UID:cfp372541-N@wikicfp.com
END:VEVENT
BEGIN:VEVENT
DTSTAMP:20260425T130724Z
DTSTART;VALUE=DATE:20130906
SUMMARY:CSBio 2013 Final Version Due
DESCRIPTION: 4th International Conference on Computational Systems-Biolog
 y and Bioinformatics
URL:http://www.wikicfp.com/cfp/servlet/event.showcfp?eventid=30498&copyow
 nerid=53149
UID:cfp372541-N@wikicfp.com
END:VEVENT
BEGIN:VEVENT
DTSTAMP:20260425T130724Z
DTSTART;VALUE=DATE:20131218
DTEND;VALUE=DATE:20131222
SUMMARY:BIBM 2013
DESCRIPTION:IEEE International Conference on Bioinformatics and Biomedici
 ne
URL:http://www.wikicfp.com/cfp/servlet/event.showcfp?eventid=29922&copyow
 nerid=53149
UID:cfp372197-E@wikicfp.com
END:VEVENT
BEGIN:VEVENT
DTSTAMP:20260425T130724Z
DTSTART;VALUE=DATE:20130805
SUMMARY:BIBM 2013 Deadline
DESCRIPTION:IEEE International Conference on Bioinformatics and Biomedici
 ne
URL:http://www.wikicfp.com/cfp/servlet/event.showcfp?eventid=29922&copyow
 nerid=53149
UID:cfp372197-D@wikicfp.com
END:VEVENT
BEGIN:VEVENT
DTSTAMP:20260425T130724Z
DTSTART;VALUE=DATE:20131006
SUMMARY:BIBM 2013 Notification Due
DESCRIPTION:IEEE International Conference on Bioinformatics and Biomedici
 ne
URL:http://www.wikicfp.com/cfp/servlet/event.showcfp?eventid=29922&copyow
 nerid=53149
UID:cfp372197-N@wikicfp.com
END:VEVENT
BEGIN:VEVENT
DTSTAMP:20260425T130724Z
DTSTART;VALUE=DATE:20131030
SUMMARY:BIBM 2013 Final Version Due
DESCRIPTION:IEEE International Conference on Bioinformatics and Biomedici
 ne
URL:http://www.wikicfp.com/cfp/servlet/event.showcfp?eventid=29922&copyow
 nerid=53149
UID:cfp372197-N@wikicfp.com
END:VEVENT
BEGIN:VEVENT
DTSTAMP:20260425T130724Z
DTSTART;VALUE=DATE:20140110
DTEND;VALUE=DATE:20140113
SUMMARY:ICMLC 2014
DESCRIPTION:International Conference on Machine Learning and Computing
URL:http://www.wikicfp.com/cfp/servlet/event.showcfp?eventid=31091&copyow
 nerid=53149
UID:cfp372198-E@wikicfp.com
END:VEVENT
BEGIN:VEVENT
DTSTAMP:20260425T130724Z
DTSTART;VALUE=DATE:20130820
SUMMARY:ICMLC 2014 Deadline
DESCRIPTION:International Conference on Machine Learning and Computing
URL:http://www.wikicfp.com/cfp/servlet/event.showcfp?eventid=31091&copyow
 nerid=53149
UID:cfp372198-D@wikicfp.com
END:VEVENT
BEGIN:VEVENT
DTSTAMP:20260425T130724Z
DTSTART;VALUE=DATE:20130915
SUMMARY:ICMLC 2014 Notification Due
DESCRIPTION:International Conference on Machine Learning and Computing
URL:http://www.wikicfp.com/cfp/servlet/event.showcfp?eventid=31091&copyow
 nerid=53149
UID:cfp372198-N@wikicfp.com
END:VEVENT
BEGIN:VEVENT
DTSTAMP:20260425T130724Z
DTSTART;VALUE=DATE:20130930
SUMMARY:ICMLC 2014 Final Version Due
DESCRIPTION:International Conference on Machine Learning and Computing
URL:http://www.wikicfp.com/cfp/servlet/event.showcfp?eventid=31091&copyow
 nerid=53149
UID:cfp372198-N@wikicfp.com
END:VEVENT
BEGIN:VEVENT
DTSTAMP:20260425T130724Z
DTSTART;VALUE=DATE:20131006
DTEND;VALUE=DATE:20131007
SUMMARY:SML@IEEE BigData 2013
DESCRIPTION:International Workshop on Scalable Machine Learning: Theory a
 nd Applications
URL:http://www.wikicfp.com/cfp/servlet/event.showcfp?eventid=31328&copyow
 nerid=53149
UID:cfp372196-E@wikicfp.com
END:VEVENT
BEGIN:VEVENT
DTSTAMP:20260425T130724Z
DTSTART;VALUE=DATE:20130822
SUMMARY:SML@IEEE BigData 2013 Deadline
DESCRIPTION:International Workshop on Scalable Machine Learning: Theory a
 nd Applications
URL:http://www.wikicfp.com/cfp/servlet/event.showcfp?eventid=31328&copyow
 nerid=53149
UID:cfp372196-D@wikicfp.com
END:VEVENT
BEGIN:VEVENT
DTSTAMP:20260425T130724Z
DTSTART;VALUE=DATE:20130830
SUMMARY:SML@IEEE BigData 2013 Notification Due
DESCRIPTION:International Workshop on Scalable Machine Learning: Theory a
 nd Applications
URL:http://www.wikicfp.com/cfp/servlet/event.showcfp?eventid=31328&copyow
 nerid=53149
UID:cfp372196-N@wikicfp.com
END:VEVENT
BEGIN:VEVENT
DTSTAMP:20260425T130724Z
DTSTART;VALUE=DATE:20130925
SUMMARY:SML@IEEE BigData 2013 Final Version Due
DESCRIPTION:International Workshop on Scalable Machine Learning: Theory a
 nd Applications
URL:http://www.wikicfp.com/cfp/servlet/event.showcfp?eventid=31328&copyow
 nerid=53149
UID:cfp372196-N@wikicfp.com
END:VEVENT
BEGIN:VEVENT
DTSTAMP:20260425T130724Z
DTSTART;VALUE=DATE:20140311
SUMMARY:IJAIA 2014 Deadline
DESCRIPTION:International Journal of Artificial Intelligence & Applicatio
 ns
URL:http://www.wikicfp.com/cfp/servlet/event.showcfp?eventid=24653&copyow
 nerid=53149
UID:cfp372200-D@wikicfp.com
END:VEVENT
BEGIN:VEVENT
DTSTAMP:20260425T130724Z
DTSTART;VALUE=DATE:20140411
SUMMARY:IJAIA 2014 Notification Due
DESCRIPTION:International Journal of Artificial Intelligence & Applicatio
 ns
URL:http://www.wikicfp.com/cfp/servlet/event.showcfp?eventid=24653&copyow
 nerid=53149
UID:cfp372200-N@wikicfp.com
END:VEVENT
BEGIN:VEVENT
DTSTAMP:20260425T130724Z
DTSTART;VALUE=DATE:20140418
SUMMARY:IJAIA 2014 Final Version Due
DESCRIPTION:International Journal of Artificial Intelligence & Applicatio
 ns
URL:http://www.wikicfp.com/cfp/servlet/event.showcfp?eventid=24653&copyow
 nerid=53149
UID:cfp372200-N@wikicfp.com
END:VEVENT
BEGIN:VEVENT
DTSTAMP:20260425T130724Z
DTSTART;VALUE=DATE:20141103
DTEND;VALUE=DATE:20141107
SUMMARY:ICONIP 2014
DESCRIPTION:21st International Conference on Neural Information Processin
 g
URL:http://www.wikicfp.com/cfp/servlet/event.showcfp?eventid=33967&copyow
 nerid=53149
UID:cfp429241-E@wikicfp.com
END:VEVENT
BEGIN:VEVENT
DTSTAMP:20260425T130724Z
DTSTART;VALUE=DATE:20140502
SUMMARY:ICONIP 2014 Deadline
DESCRIPTION:21st International Conference on Neural Information Processin
 g
URL:http://www.wikicfp.com/cfp/servlet/event.showcfp?eventid=33967&copyow
 nerid=53149
UID:cfp429241-D@wikicfp.com
END:VEVENT
BEGIN:VEVENT
DTSTAMP:20260425T130724Z
DTSTART;VALUE=DATE:20140803
SUMMARY:ICONIP 2014 Notification Due
DESCRIPTION:21st International Conference on Neural Information Processin
 g
URL:http://www.wikicfp.com/cfp/servlet/event.showcfp?eventid=33967&copyow
 nerid=53149
UID:cfp429241-N@wikicfp.com
END:VEVENT
BEGIN:VEVENT
DTSTAMP:20260425T130724Z
DTSTART;VALUE=DATE:20140817
SUMMARY:ICONIP 2014 Final Version Due
DESCRIPTION:21st International Conference on Neural Information Processin
 g
URL:http://www.wikicfp.com/cfp/servlet/event.showcfp?eventid=33967&copyow
 nerid=53149
UID:cfp429241-N@wikicfp.com
END:VEVENT
BEGIN:VEVENT
DTSTAMP:20260425T130724Z
DTSTART;VALUE=DATE:20141126
DTEND;VALUE=DATE:20141129
SUMMARY:ACML 2014
DESCRIPTION:Asian Conference on Machine Learning
URL:http://www.wikicfp.com/cfp/servlet/event.showcfp?eventid=35118&copyow
 nerid=53149
UID:cfp429649-E@wikicfp.com
END:VEVENT
BEGIN:VEVENT
DTSTAMP:20260425T130724Z
DTSTART;VALUE=DATE:20140519
SUMMARY:ACML 2014 Deadline
DESCRIPTION:Asian Conference on Machine Learning
URL:http://www.wikicfp.com/cfp/servlet/event.showcfp?eventid=35118&copyow
 nerid=53149
UID:cfp429649-D@wikicfp.com
END:VEVENT
BEGIN:VEVENT
DTSTAMP:20260425T130724Z
DTSTART;VALUE=DATE:20140630
SUMMARY:ACML 2014 Notification Due
DESCRIPTION:Asian Conference on Machine Learning
URL:http://www.wikicfp.com/cfp/servlet/event.showcfp?eventid=35118&copyow
 nerid=53149
UID:cfp429649-N@wikicfp.com
END:VEVENT
BEGIN:VEVENT
DTSTAMP:20260425T130724Z
DTSTART;VALUE=DATE:20141020
SUMMARY:ACML 2014 Final Version Due
DESCRIPTION:Asian Conference on Machine Learning
URL:http://www.wikicfp.com/cfp/servlet/event.showcfp?eventid=35118&copyow
 nerid=53149
UID:cfp429649-N@wikicfp.com
END:VEVENT
END:VCALENDAR
