BEGIN:VCALENDAR
PRODID:-//WikiCFP//vlf4 1.0//EN
VERSION:2.0
CALSCALE:GREGORIAN
BEGIN:VEVENT
DTSTAMP:20260424T142557Z
DTSTART;VALUE=DATE:20140624
DTEND;VALUE=DATE:20140628
SUMMARY:CVPR 2014
DESCRIPTION:27th IEEE Conference on Computer Vision and Pattern Recogniti
 on (CVPR)
URL:http://www.wikicfp.com/cfp/servlet/event.showcfp?eventid=31712&copyow
 nerid=52829
UID:cfp372224-E@wikicfp.com
END:VEVENT
BEGIN:VEVENT
DTSTAMP:20260424T142557Z
DTSTART;VALUE=DATE:20131101
SUMMARY:CVPR 2014 Deadline
DESCRIPTION:27th IEEE Conference on Computer Vision and Pattern Recogniti
 on (CVPR)
URL:http://www.wikicfp.com/cfp/servlet/event.showcfp?eventid=31712&copyow
 nerid=52829
UID:cfp372224-D@wikicfp.com
END:VEVENT
BEGIN:VEVENT
DTSTAMP:20260424T142557Z
DTSTART;VALUE=DATE:20140301
SUMMARY:CVPR 2014 Notification Due
DESCRIPTION:27th IEEE Conference on Computer Vision and Pattern Recogniti
 on (CVPR)
URL:http://www.wikicfp.com/cfp/servlet/event.showcfp?eventid=31712&copyow
 nerid=52829
UID:cfp372224-N@wikicfp.com
END:VEVENT
BEGIN:VEVENT
DTSTAMP:20260424T142557Z
DTSTART;VALUE=DATE:20140414
SUMMARY:CVPR 2014 Final Version Due
DESCRIPTION:27th IEEE Conference on Computer Vision and Pattern Recogniti
 on (CVPR)
URL:http://www.wikicfp.com/cfp/servlet/event.showcfp?eventid=31712&copyow
 nerid=52829
UID:cfp372224-N@wikicfp.com
END:VEVENT
BEGIN:VEVENT
DTSTAMP:20260424T142557Z
DTSTART;VALUE=DATE:20140629
DTEND;VALUE=DATE:20140705
SUMMARY:ISIT 2014
DESCRIPTION:2014 IEEE International Symposium on Information Theory 
URL:http://www.wikicfp.com/cfp/servlet/event.showcfp?eventid=31518&copyow
 nerid=52829
UID:cfp381792-E@wikicfp.com
END:VEVENT
BEGIN:VEVENT
DTSTAMP:20260424T142557Z
DTSTART;VALUE=DATE:20140119
SUMMARY:ISIT 2014 Deadline
DESCRIPTION:2014 IEEE International Symposium on Information Theory 
URL:http://www.wikicfp.com/cfp/servlet/event.showcfp?eventid=31518&copyow
 nerid=52829
UID:cfp381792-D@wikicfp.com
END:VEVENT
BEGIN:VEVENT
DTSTAMP:20260424T142557Z
DTSTART;VALUE=DATE:20140330
SUMMARY:ISIT 2014 Notification Due
DESCRIPTION:2014 IEEE International Symposium on Information Theory 
URL:http://www.wikicfp.com/cfp/servlet/event.showcfp?eventid=31518&copyow
 nerid=52829
UID:cfp381792-N@wikicfp.com
END:VEVENT
BEGIN:VEVENT
DTSTAMP:20260424T142557Z
DTSTART;VALUE=DATE:20140504
SUMMARY:ISIT 2014 Final Version Due
DESCRIPTION:2014 IEEE International Symposium on Information Theory 
URL:http://www.wikicfp.com/cfp/servlet/event.showcfp?eventid=31518&copyow
 nerid=52829
UID:cfp381792-N@wikicfp.com
END:VEVENT
BEGIN:VEVENT
DTSTAMP:20260424T142557Z
DTSTART;VALUE=DATE:20140803
DTEND;VALUE=DATE:20140807
SUMMARY:MWSCAS 2014
DESCRIPTION:IEEE International Midwest Symposium on Circuits and Systems
URL:http://www.wikicfp.com/cfp/servlet/event.showcfp?eventid=33505&copyow
 nerid=52829
UID:cfp400023-E@wikicfp.com
END:VEVENT
BEGIN:VEVENT
DTSTAMP:20260424T142557Z
DTSTART;VALUE=DATE:20140310
SUMMARY:MWSCAS 2014 Deadline
DESCRIPTION:IEEE International Midwest Symposium on Circuits and Systems
URL:http://www.wikicfp.com/cfp/servlet/event.showcfp?eventid=33505&copyow
 nerid=52829
UID:cfp400023-D@wikicfp.com
END:VEVENT
BEGIN:VEVENT
DTSTAMP:20260424T142557Z
DTSTART;VALUE=DATE:20140512
SUMMARY:MWSCAS 2014 Notification Due
DESCRIPTION:IEEE International Midwest Symposium on Circuits and Systems
URL:http://www.wikicfp.com/cfp/servlet/event.showcfp?eventid=33505&copyow
 nerid=52829
UID:cfp400023-N@wikicfp.com
END:VEVENT
BEGIN:VEVENT
DTSTAMP:20260424T142557Z
DTSTART;VALUE=DATE:20140609
SUMMARY:MWSCAS 2014 Final Version Due
DESCRIPTION:IEEE International Midwest Symposium on Circuits and Systems
URL:http://www.wikicfp.com/cfp/servlet/event.showcfp?eventid=33505&copyow
 nerid=52829
UID:cfp400023-N@wikicfp.com
END:VEVENT
BEGIN:VEVENT
DTSTAMP:20260424T142557Z
DTSTART;VALUE=DATE:20141209
DTEND;VALUE=DATE:20141213
SUMMARY:SSCI 2014
DESCRIPTION:2014 IEEE Symposium Series on Computational Intelligence
URL:http://www.wikicfp.com/cfp/servlet/event.showcfp?eventid=31203&copyow
 nerid=52829
UID:cfp382840-E@wikicfp.com
END:VEVENT
BEGIN:VEVENT
DTSTAMP:20260424T142557Z
DTSTART;VALUE=DATE:20140615
SUMMARY:SSCI 2014 Deadline
DESCRIPTION:2014 IEEE Symposium Series on Computational Intelligence
URL:http://www.wikicfp.com/cfp/servlet/event.showcfp?eventid=31203&copyow
 nerid=52829
UID:cfp382840-D@wikicfp.com
END:VEVENT
BEGIN:VEVENT
DTSTAMP:20260424T142557Z
DTSTART;VALUE=DATE:20140905
SUMMARY:SSCI 2014 Notification Due
DESCRIPTION:2014 IEEE Symposium Series on Computational Intelligence
URL:http://www.wikicfp.com/cfp/servlet/event.showcfp?eventid=31203&copyow
 nerid=52829
UID:cfp382840-N@wikicfp.com
END:VEVENT
BEGIN:VEVENT
DTSTAMP:20260424T142557Z
DTSTART;VALUE=DATE:20141005
SUMMARY:SSCI 2014 Final Version Due
DESCRIPTION:2014 IEEE Symposium Series on Computational Intelligence
URL:http://www.wikicfp.com/cfp/servlet/event.showcfp?eventid=31203&copyow
 nerid=52829
UID:cfp382840-N@wikicfp.com
END:VEVENT
END:VCALENDAR
